{
 "currentVersion": 10.91,
 "serviceDescription": "This update was created in 2010 by UNB. Paul Arp and Jae Ogilvie of the University of New Brunswick are the main contact for detail information. The data represents the wet areas map for New Brunswick at the end of summer. Raster data has been reclassified from original floating point raster data into 4 distinct integer classes representing predicted depth of saturated soil in metres (m): 1: 0-0.1 metres (more wet) 2: 0.1-0.25 metres3: 0.25-0.5 metres4: 0.5-1 metres (less wet)NULL: greater than 1 metre ",
 "name": "DAAF_WebMap/WATERTABLE",
 "description": "This update was created in 2010 by UNB. Paul Arp and Jae Ogilvie of the University of New Brunswick are the main contact for detail information. The data represents the wet areas map for New Brunswick at the end of summer. Raster data has been reclassified from original floating point raster data into 4 distinct integer classes representing predicted depth of saturated soil in metres (m): 1: 0-0.1 metres (more wet) 2: 0.1-0.25 metres3: 0.25-0.5 metres4: 0.5-1 metres (less wet)NULL: greater than 1 metre ",
 "extent": {
  "xmin": 2306896.789999999,
  "ymin": 7277795.579999998,
  "xmax": 2711276.789999999,
  "ymax": 7674855.579999998,
  "spatialReference": {
   "wkid": 2036,
   "latestWkid": 2953
  }
 },
 "initialExtent": {
  "xmin": 2306896.789999999,
  "ymin": 7277795.579999998,
  "xmax": 2711276.789999999,
  "ymax": 7674855.579999998,
  "spatialReference": {
   "wkid": 2036,
   "latestWkid": 2953
  }
 },
 "fullExtent": {
  "xmin": 2306896.789999999,
  "ymin": 7277795.579999998,
  "xmax": 2711276.789999999,
  "ymax": 7674855.579999998,
  "spatialReference": {
   "wkid": 2036,
   "latestWkid": 2953
  }
 },
 "hasMultidimensions": false,
 "pixelSizeX": 10,
 "pixelSizeY": 10,
 "datasetFormat": "TIFF",
 "uncompressedSize": 1605631228,
 "blockWidth": 128,
 "blockHeight": 128,
 "compressionType": "LZW",
 "bandNames": [
  "Band_1"
 ],
 "allowCopy": true,
 "allowAnalysis": true,
 "bandCount": 1,
 "noDataValue": 15,
 "noDataValues": [
  15
 ],
 "pixelType": "U8",
 "minPixelSize": 0,
 "maxPixelSize": 0,
 "copyrightText": "",
 "serviceDataType": "esriImageServiceDataTypeGeneric",
 "serviceSourceType": "esriImageServiceSourceTypeDataset",
 "minValues": [
  1
 ],
 "maxValues": [
  4
 ],
 "meanValues": [
  2.4039667401847
 ],
 "stdvValues": [
  1.249070793747
 ],
 "objectIdField": "",
 "fields": [],
 "capabilities": "Image,Metadata,Mensuration",
 "defaultMosaicMethod": "Center",
 "allowedMosaicMethods": "",
 "sortField": "",
 "sortValue": null,
 "sortAscending": true,
 "mosaicOperator": "First",
 "defaultCompressionQuality": 75,
 "defaultResamplingMethod": "Bilinear",
 "maxImageHeight": 4100,
 "maxImageWidth": 15000,
 "allowRasterFunction": true,
 "rasterFunctionInfos": [
  {
   "name": "None",
   "description": "",
   "help": ""
  }
 ],
 "rasterTypeInfos": [
  {
   "name": "Raster Dataset",
   "description": "Supports all ArcGIS Raster Datasets",
   "help": ""
  }
 ],
 "mensurationCapabilities": "Basic",
 "hasHistograms": true,
 "hasColormap": false,
 "hasRasterAttributeTable": true,
 "minScale": 0,
 "maxScale": 0,
 "exportTilesAllowed": false,
 "supportsStatistics": false,
 "supportsAdvancedQueries": false,
 "editFieldsInfo": null,
 "ownershipBasedAccessControlForRasters": null,
 "allowComputeTiePoints": false,
 "useStandardizedQueries": true,
 "advancedQueryCapabilities": {
  "useStandardizedQueries": true,
  "supportsStatistics": false,
  "supportsOrderBy": false,
  "supportsDistinct": false,
  "supportsPagination": false
 },
 "spatialReference": {
  "wkid": 2036,
  "latestWkid": 2953
 }
}
