{
 "currentVersion": 10.91,
 "serviceDescription": "A province-wide aeromagnetic dataset for New Brunswick showing the total magnetic intensity difference (BigT) on a 200\u202fm grid.This dataset represents the BigT, or total magnetic intensity difference, for the entire province of New Brunswick at 200\u202fm resolution. It was derived from airborne magnetic surveys originally flown at 800\u20131000\u202fm line spacing and compiled by NRCan. The BigT values are calculated by converting the total magnetic intensity (TMI) into magnetic field components and computing the vector magnitude. The dataset provides a consistent, province-wide view of magnetic variations and is projected in NB Stereographic double (NAD83).The dataset was produced from existing NRCan TMI survey grids, converted to ER Mapper format, reprojected to NB Stereographic double, and the BigT was calculated from the TMI by converting to magnetic field components (X, Y, Z) and computing √(X² + Y² + Z²).Data created Sept 2025.",
 "name": "Geophysics_Aeromagnetic_Compiled/Canada_200m_BigT",
 "description": "A province-wide aeromagnetic dataset for New Brunswick showing the total magnetic intensity difference (BigT) on a 200\u202fm grid.This dataset represents the BigT, or total magnetic intensity difference, for the entire province of New Brunswick at 200\u202fm resolution. It was derived from airborne magnetic surveys originally flown at 800\u20131000\u202fm line spacing and compiled by NRCan. The BigT values are calculated by converting the total magnetic intensity (TMI) into magnetic field components and computing the vector magnitude. The dataset provides a consistent, province-wide view of magnetic variations and is projected in NB Stereographic double (NAD83).The dataset was produced from existing NRCan TMI survey grids, converted to ER Mapper format, reprojected to NB Stereographic double, and the BigT was calculated from the TMI by converting to magnetic field components (X, Y, Z) and computing √(X² + Y² + Z²).Data created Sept 2025.",
 "extent": {
  "xmin": 2292700,
  "ymin": 7264500,
  "xmax": 2721900,
  "ymax": 7686500,
  "spatialReference": {
   "wkid": 2036,
   "latestWkid": 2953
  }
 },
 "initialExtent": {
  "xmin": 2292700,
  "ymin": 7264500,
  "xmax": 2721900,
  "ymax": 7686500,
  "spatialReference": {
   "wkid": 2036,
   "latestWkid": 2953
  }
 },
 "fullExtent": {
  "xmin": 2292700,
  "ymin": 7264500,
  "xmax": 2721900,
  "ymax": 7686500,
  "spatialReference": {
   "wkid": 2036,
   "latestWkid": 2953
  }
 },
 "hasMultidimensions": false,
 "pixelSizeX": 200,
 "pixelSizeY": 200,
 "datasetFormat": "ER Mapper",
 "uncompressedSize": 18112240,
 "blockWidth": 2146,
 "blockHeight": 1,
 "compressionType": "None",
 "bandNames": [
  "Band_1"
 ],
 "allowCopy": true,
 "allowAnalysis": true,
 "bandCount": 1,
 "noDataValue": -999999,
 "noDataValues": [
  -999999
 ],
 "pixelType": "F32",
 "minPixelSize": 0,
 "maxPixelSize": 0,
 "copyrightText": "NB Dept of Natural Resources, GSB Section",
 "serviceDataType": "esriImageServiceDataTypeGeneric",
 "serviceSourceType": "esriImageServiceSourceTypeDataset",
 "minValues": [
  54868.3125
 ],
 "maxValues": [
  56555.30859375
 ],
 "meanValues": [
  55651.585022908
 ],
 "stdvValues": [
  334.43530790588
 ],
 "objectIdField": "",
 "fields": [],
 "capabilities": "Image,Metadata,Mensuration",
 "defaultMosaicMethod": "Center",
 "allowedMosaicMethods": "",
 "sortField": "",
 "sortValue": null,
 "sortAscending": true,
 "mosaicOperator": "First",
 "defaultCompressionQuality": 75,
 "defaultResamplingMethod": "Bilinear",
 "maxImageHeight": 4100,
 "maxImageWidth": 15000,
 "allowRasterFunction": true,
 "rasterFunctionInfos": [
  {
   "name": "None",
   "description": "",
   "help": ""
  }
 ],
 "rasterTypeInfos": [
  {
   "name": "Raster Dataset",
   "description": "Supports all ArcGIS Raster Datasets",
   "help": ""
  }
 ],
 "mensurationCapabilities": "Basic",
 "hasHistograms": true,
 "hasColormap": false,
 "hasRasterAttributeTable": false,
 "minScale": 0,
 "maxScale": 0,
 "exportTilesAllowed": false,
 "supportsStatistics": false,
 "supportsAdvancedQueries": false,
 "editFieldsInfo": null,
 "ownershipBasedAccessControlForRasters": null,
 "allowComputeTiePoints": false,
 "useStandardizedQueries": true,
 "advancedQueryCapabilities": {
  "useStandardizedQueries": true,
  "supportsStatistics": false,
  "supportsOrderBy": false,
  "supportsDistinct": false,
  "supportsPagination": false
 },
 "spatialReference": {
  "wkid": 2036,
  "latestWkid": 2953
 }
}
