{ "currentVersion": 10.91, "serviceDescription": "
A 200\u202fm grid dataset of the BigT, representing the difference in total magnetic intensity across New Brunswick.<\/SPAN><\/SPAN><\/P> This dataset shows the BigT, or the total magnetic intensity difference, for the province of New Brunswick at 200\u202fm resolution. It was derived from NRCan airborne magnetic surveys originally flown at 800\u20131000\u202fm line spacing. The BigT_TMI_diff values are calculated by converting the total magnetic intensity (TMI) into magnetic field components (X, Y, Z) and computing the vector magnitude difference between TMI and BigT. The dataset is provided in NB Stereographic double (NAD83) for consistent province-wide coverage. <\/SPAN><\/SPAN><\/P> The dataset was created from existing NRCan TMI survey grids, converted to ER Mapper format, reprojected to NB Stereographic double, and processed to calculate the BigT_TMI difference from the TMI using magnetic field components.<\/SPAN><\/SPAN><\/P> Data created Sept 2025.<\/SPAN><\/P><\/DIV><\/DIV>",
"name": "Geophysics_Aeromagnetic_Compiled/Compiled_200m_BigT_TMI_diff",
"description": " A 200\u202fm grid dataset of the BigT, representing the difference in total magnetic intensity across New Brunswick.<\/SPAN><\/SPAN><\/P> This dataset shows the BigT, or the total magnetic intensity difference, for the province of New Brunswick at 200\u202fm resolution. It was derived from NRCan airborne magnetic surveys originally flown at 800\u20131000\u202fm line spacing. The BigT_TMI_diff values are calculated by converting the total magnetic intensity (TMI) into magnetic field components (X, Y, Z) and computing the vector magnitude difference between TMI and BigT. The dataset is provided in NB Stereographic double (NAD83) for consistent province-wide coverage. <\/SPAN><\/SPAN><\/P> The dataset was created from existing NRCan TMI survey grids, converted to ER Mapper format, reprojected to NB Stereographic double, and processed to calculate the BigT_TMI difference from the TMI using magnetic field components.<\/SPAN><\/SPAN><\/P> Data created Sept 2025.<\/SPAN><\/P><\/DIV><\/DIV>",
"extent": {
"xmin": 2292700,
"ymin": 7264500,
"xmax": 2721900,
"ymax": 7686500,
"spatialReference": {
"wkid": 2036,
"latestWkid": 2953
}
},
"initialExtent": {
"xmin": 2292700,
"ymin": 7264500,
"xmax": 2721900,
"ymax": 7686500,
"spatialReference": {
"wkid": 2036,
"latestWkid": 2953
}
},
"fullExtent": {
"xmin": 2292700,
"ymin": 7264500,
"xmax": 2721900,
"ymax": 7686500,
"spatialReference": {
"wkid": 2036,
"latestWkid": 2953
}
},
"hasMultidimensions": false,
"pixelSizeX": 200,
"pixelSizeY": 200,
"datasetFormat": "ER Mapper",
"uncompressedSize": 18112240,
"blockWidth": 2146,
"blockHeight": 1,
"compressionType": "None",
"bandNames": [
"Band_1"
],
"allowCopy": true,
"allowAnalysis": true,
"bandCount": 1,
"noDataValue": -999999,
"noDataValues": [
-999999
],
"pixelType": "F32",
"minPixelSize": 0,
"maxPixelSize": 0,
"copyrightText": "",
"serviceDataType": "esriImageServiceDataTypeGeneric",
"serviceSourceType": "esriImageServiceSourceTypeDataset",
"minValues": [
-1498.3468017578
],
"maxValues": [
147.24812316895
],
"meanValues": [
-2.0163785309164
],
"stdvValues": [
24.828405276513
],
"objectIdField": "",
"fields": [],
"capabilities": "Image,Metadata,Mensuration",
"defaultMosaicMethod": "Center",
"allowedMosaicMethods": "",
"sortField": "",
"sortValue": null,
"sortAscending": true,
"mosaicOperator": "First",
"defaultCompressionQuality": 75,
"defaultResamplingMethod": "Bilinear",
"maxImageHeight": 4100,
"maxImageWidth": 15000,
"allowRasterFunction": true,
"rasterFunctionInfos": [
{
"name": "None",
"description": "",
"help": ""
}
],
"rasterTypeInfos": [
{
"name": "Raster Dataset",
"description": "Supports all ArcGIS Raster Datasets",
"help": ""
}
],
"mensurationCapabilities": "Basic",
"hasHistograms": true,
"hasColormap": false,
"hasRasterAttributeTable": false,
"minScale": 0,
"maxScale": 0,
"exportTilesAllowed": false,
"supportsStatistics": false,
"supportsAdvancedQueries": false,
"editFieldsInfo": null,
"ownershipBasedAccessControlForRasters": null,
"allowComputeTiePoints": false,
"useStandardizedQueries": true,
"advancedQueryCapabilities": {
"useStandardizedQueries": true,
"supportsStatistics": false,
"supportsOrderBy": false,
"supportsDistinct": false,
"supportsPagination": false
},
"spatialReference": {
"wkid": 2036,
"latestWkid": 2953
}
}