{
 "currentVersion": 10.91,
 "serviceDescription": "A 200\u202fm grid of the first vertical derivative of the reduction-to-the-pole (RTP) magnetic intensity for New Brunswick.This dataset represents the first vertical derivative of the reduction-to-the-pole (RTP) magnetic intensity for the province of New Brunswick at 200\u202fm resolution. It was derived from NRCan airborne magnetic surveys originally flown at 800\u20131000\u202fm line spacing. The RTP_1VD highlights near-surface magnetic sources and sharpens magnetic anomalies, aiding interpretation of geological structures. The dataset is provided in NB Stereographic double (NAD83) for consistent province-wide coverage.The RTP_1VD grid was produced by converting existing NRCan TMI survey grids to ER Mapper format, reprojecting to NB Stereographic double, applying reduction-to-the-pole processing, and then calculating the first vertical derivative of the RTP grid.Data created Sept 2025.",
 "name": "Geophysics_Aeromagnetic_Compiled/Compiled_200m_RTP_1VD",
 "description": "A 200\u202fm grid of the first vertical derivative of the reduction-to-the-pole (RTP) magnetic intensity for New Brunswick.This dataset represents the first vertical derivative of the reduction-to-the-pole (RTP) magnetic intensity for the province of New Brunswick at 200\u202fm resolution. It was derived from NRCan airborne magnetic surveys originally flown at 800\u20131000\u202fm line spacing. The RTP_1VD highlights near-surface magnetic sources and sharpens magnetic anomalies, aiding interpretation of geological structures. The dataset is provided in NB Stereographic double (NAD83) for consistent province-wide coverage.The RTP_1VD grid was produced by converting existing NRCan TMI survey grids to ER Mapper format, reprojecting to NB Stereographic double, applying reduction-to-the-pole processing, and then calculating the first vertical derivative of the RTP grid.Data created Sept 2025.",
 "extent": {
  "xmin": 2292700,
  "ymin": 7264500,
  "xmax": 2721900,
  "ymax": 7686500,
  "spatialReference": {
   "wkid": 2036,
   "latestWkid": 2953
  }
 },
 "initialExtent": {
  "xmin": 2292700,
  "ymin": 7264500,
  "xmax": 2721900,
  "ymax": 7686500,
  "spatialReference": {
   "wkid": 2036,
   "latestWkid": 2953
  }
 },
 "fullExtent": {
  "xmin": 2292700,
  "ymin": 7264500,
  "xmax": 2721900,
  "ymax": 7686500,
  "spatialReference": {
   "wkid": 2036,
   "latestWkid": 2953
  }
 },
 "hasMultidimensions": false,
 "pixelSizeX": 200,
 "pixelSizeY": 200,
 "datasetFormat": "ER Mapper",
 "uncompressedSize": 18112240,
 "blockWidth": 2146,
 "blockHeight": 1,
 "compressionType": "None",
 "bandNames": [
  "Band_1"
 ],
 "allowCopy": true,
 "allowAnalysis": true,
 "bandCount": 1,
 "noDataValue": -999999,
 "noDataValues": [
  -999999
 ],
 "pixelType": "F32",
 "minPixelSize": 0,
 "maxPixelSize": 0,
 "copyrightText": "NB Dept of Natural Resources, GSB Section",
 "serviceDataType": "esriImageServiceDataTypeGeneric",
 "serviceSourceType": "esriImageServiceSourceTypeDataset",
 "minValues": [
  -1.8942294120789
 ],
 "maxValues": [
  5.4463210105896
 ],
 "meanValues": [
  6.3973213404409E-5
 ],
 "stdvValues": [
  0.089057170797084
 ],
 "objectIdField": "",
 "fields": [],
 "capabilities": "Image,Metadata,Mensuration",
 "defaultMosaicMethod": "Center",
 "allowedMosaicMethods": "",
 "sortField": "",
 "sortValue": null,
 "sortAscending": true,
 "mosaicOperator": "First",
 "defaultCompressionQuality": 75,
 "defaultResamplingMethod": "Bilinear",
 "maxImageHeight": 4100,
 "maxImageWidth": 15000,
 "allowRasterFunction": true,
 "rasterFunctionInfos": [
  {
   "name": "None",
   "description": "",
   "help": ""
  }
 ],
 "rasterTypeInfos": [
  {
   "name": "Raster Dataset",
   "description": "Supports all ArcGIS Raster Datasets",
   "help": ""
  }
 ],
 "mensurationCapabilities": "Basic",
 "hasHistograms": true,
 "hasColormap": false,
 "hasRasterAttributeTable": false,
 "minScale": 0,
 "maxScale": 0,
 "exportTilesAllowed": false,
 "supportsStatistics": false,
 "supportsAdvancedQueries": false,
 "editFieldsInfo": null,
 "ownershipBasedAccessControlForRasters": null,
 "allowComputeTiePoints": false,
 "useStandardizedQueries": true,
 "advancedQueryCapabilities": {
  "useStandardizedQueries": true,
  "supportsStatistics": false,
  "supportsOrderBy": false,
  "supportsDistinct": false,
  "supportsPagination": false
 },
 "spatialReference": {
  "wkid": 2036,
  "latestWkid": 2953
 }
}
