{
 "currentVersion": 10.91,
 "serviceDescription": "A 200\u202fm grid of residual reduction-to-the-pole (RTP) magnetic intensity for New Brunswick.This dataset represents the residual reduction-to-the-pole (RTP) magnetic intensity for the province of New Brunswick at 200\u202fm resolution. It was derived from NRCan airborne magnetic surveys originally flown at 800\u20131000\u202fm line spacing. The residual RTP is calculated by removing a second-order regional trend from the RTP, emphasizing local magnetic anomalies for geological interpretation. The dataset is provided in NB Stereographic double (NAD83) for consistent province-wide coverage.The residual RTP grid was produced by converting existing NRCan TMI survey grids to ER Mapper format, reprojecting to NB Stereographic double, applying reduction-to-the-pole processing, and removing a second-order trend from the RTP grid.Data created Sept 2025.",
 "name": "Geophysics_Aeromagnetic_Compiled/Compiled_200m_RTP_residual",
 "description": "A 200\u202fm grid of residual reduction-to-the-pole (RTP) magnetic intensity for New Brunswick.This dataset represents the residual reduction-to-the-pole (RTP) magnetic intensity for the province of New Brunswick at 200\u202fm resolution. It was derived from NRCan airborne magnetic surveys originally flown at 800\u20131000\u202fm line spacing. The residual RTP is calculated by removing a second-order regional trend from the RTP, emphasizing local magnetic anomalies for geological interpretation. The dataset is provided in NB Stereographic double (NAD83) for consistent province-wide coverage.The residual RTP grid was produced by converting existing NRCan TMI survey grids to ER Mapper format, reprojecting to NB Stereographic double, applying reduction-to-the-pole processing, and removing a second-order trend from the RTP grid.Data created Sept 2025.",
 "extent": {
  "xmin": 2292700,
  "ymin": 7264500,
  "xmax": 2721900,
  "ymax": 7686500,
  "spatialReference": {
   "wkid": 2036,
   "latestWkid": 2953
  }
 },
 "initialExtent": {
  "xmin": 2292700,
  "ymin": 7264500,
  "xmax": 2721900,
  "ymax": 7686500,
  "spatialReference": {
   "wkid": 2036,
   "latestWkid": 2953
  }
 },
 "fullExtent": {
  "xmin": 2292700,
  "ymin": 7264500,
  "xmax": 2721900,
  "ymax": 7686500,
  "spatialReference": {
   "wkid": 2036,
   "latestWkid": 2953
  }
 },
 "hasMultidimensions": false,
 "pixelSizeX": 200,
 "pixelSizeY": 200,
 "datasetFormat": "ER Mapper",
 "uncompressedSize": 18112240,
 "blockWidth": 2146,
 "blockHeight": 1,
 "compressionType": "None",
 "bandNames": [
  "Band_1"
 ],
 "allowCopy": true,
 "allowAnalysis": true,
 "bandCount": 1,
 "noDataValue": -999999,
 "noDataValues": [
  -999999
 ],
 "pixelType": "F32",
 "minPixelSize": 0,
 "maxPixelSize": 0,
 "copyrightText": "NB Dept of Natural Resources, GSB Section",
 "serviceDataType": "esriImageServiceDataTypeGeneric",
 "serviceSourceType": "esriImageServiceSourceTypeDataset",
 "minValues": [
  -512.34497070312
 ],
 "maxValues": [
  2153.3815917969
 ],
 "meanValues": [
  0.87641316285945
 ],
 "stdvValues": [
  150.44642895746
 ],
 "objectIdField": "",
 "fields": [],
 "capabilities": "Image,Metadata,Mensuration",
 "defaultMosaicMethod": "Center",
 "allowedMosaicMethods": "",
 "sortField": "",
 "sortValue": null,
 "sortAscending": true,
 "mosaicOperator": "First",
 "defaultCompressionQuality": 75,
 "defaultResamplingMethod": "Bilinear",
 "maxImageHeight": 4100,
 "maxImageWidth": 15000,
 "allowRasterFunction": true,
 "rasterFunctionInfos": [
  {
   "name": "None",
   "description": "",
   "help": ""
  }
 ],
 "rasterTypeInfos": [
  {
   "name": "Raster Dataset",
   "description": "Supports all ArcGIS Raster Datasets",
   "help": ""
  }
 ],
 "mensurationCapabilities": "Basic",
 "hasHistograms": true,
 "hasColormap": false,
 "hasRasterAttributeTable": false,
 "minScale": 0,
 "maxScale": 0,
 "exportTilesAllowed": false,
 "supportsStatistics": false,
 "supportsAdvancedQueries": false,
 "editFieldsInfo": null,
 "ownershipBasedAccessControlForRasters": null,
 "allowComputeTiePoints": false,
 "useStandardizedQueries": true,
 "advancedQueryCapabilities": {
  "useStandardizedQueries": true,
  "supportsStatistics": false,
  "supportsOrderBy": false,
  "supportsDistinct": false,
  "supportsPagination": false
 },
 "spatialReference": {
  "wkid": 2036,
  "latestWkid": 2953
 }
}
