{
 "currentVersion": 10.91,
 "serviceDescription": "A 50\u202fm grid of residual magnetic intensity (RMI) for New Brunswick from high-resolution airborne surveys.This dataset represents the residual magnetic intensity (RMI) for New Brunswick at 50\u202fm resolution, derived from high-resolution airborne surveys flown at 200\u2013300\u202fm line spacing. The RMI is calculated by removing a second-order regional trend from the total magnetic intensity (TMI), highlighting local magnetic anomalies for detailed geological interpretation. The dataset is provided in NB Stereographic double (NAD83) for consistent province-wide coverage.The high-resolution RMI grid was produced from NRCan profile data, microlevelled, gridded at 50\u202fm, converted to ER Mapper format, reprojected to NB Stereographic double, and processed by removing a second-order trend from the TMI.Data created Sept 2025.",
 "name": "Geophysics_Aeromagnetic_Compiled/NB_Highres_RMI",
 "description": "A 50\u202fm grid of residual magnetic intensity (RMI) for New Brunswick from high-resolution airborne surveys.This dataset represents the residual magnetic intensity (RMI) for New Brunswick at 50\u202fm resolution, derived from high-resolution airborne surveys flown at 200\u2013300\u202fm line spacing. The RMI is calculated by removing a second-order regional trend from the total magnetic intensity (TMI), highlighting local magnetic anomalies for detailed geological interpretation. The dataset is provided in NB Stereographic double (NAD83) for consistent province-wide coverage.The high-resolution RMI grid was produced from NRCan profile data, microlevelled, gridded at 50\u202fm, converted to ER Mapper format, reprojected to NB Stereographic double, and processed by removing a second-order trend from the TMI.Data created Sept 2025.",
 "extent": {
  "xmin": 2397725,
  "ymin": 7325225,
  "xmax": 2700775,
  "ymax": 7673125,
  "spatialReference": {
   "wkid": 2036,
   "latestWkid": 2953
  }
 },
 "initialExtent": {
  "xmin": 2397725,
  "ymin": 7325225,
  "xmax": 2700775,
  "ymax": 7673125,
  "spatialReference": {
   "wkid": 2036,
   "latestWkid": 2953
  }
 },
 "fullExtent": {
  "xmin": 2397725,
  "ymin": 7325225,
  "xmax": 2700775,
  "ymax": 7673125,
  "spatialReference": {
   "wkid": 2036,
   "latestWkid": 2953
  }
 },
 "hasMultidimensions": false,
 "pixelSizeX": 50,
 "pixelSizeY": 50,
 "datasetFormat": "ER Mapper",
 "uncompressedSize": 168689752,
 "blockWidth": 6061,
 "blockHeight": 1,
 "compressionType": "None",
 "bandNames": [
  "Band_1"
 ],
 "allowCopy": true,
 "allowAnalysis": true,
 "bandCount": 1,
 "noDataValue": -999999,
 "noDataValues": [
  -999999
 ],
 "pixelType": "F32",
 "minPixelSize": 0,
 "maxPixelSize": 0,
 "copyrightText": "NB Dept of Natural Resources, GSB Section",
 "serviceDataType": "esriImageServiceDataTypeGeneric",
 "serviceSourceType": "esriImageServiceSourceTypeDataset",
 "minValues": [
  -7718.8486328125
 ],
 "maxValues": [
  6994.1953125
 ],
 "meanValues": [
  7.2426625638806
 ],
 "stdvValues": [
  143.59693038308
 ],
 "objectIdField": "",
 "fields": [],
 "capabilities": "Image,Metadata,Mensuration",
 "defaultMosaicMethod": "Center",
 "allowedMosaicMethods": "",
 "sortField": "",
 "sortValue": null,
 "sortAscending": true,
 "mosaicOperator": "First",
 "defaultCompressionQuality": 75,
 "defaultResamplingMethod": "Bilinear",
 "maxImageHeight": 4100,
 "maxImageWidth": 15000,
 "allowRasterFunction": true,
 "rasterFunctionInfos": [
  {
   "name": "None",
   "description": "",
   "help": ""
  }
 ],
 "rasterTypeInfos": [
  {
   "name": "Raster Dataset",
   "description": "Supports all ArcGIS Raster Datasets",
   "help": ""
  }
 ],
 "mensurationCapabilities": "Basic",
 "hasHistograms": true,
 "hasColormap": false,
 "hasRasterAttributeTable": false,
 "minScale": 0,
 "maxScale": 0,
 "exportTilesAllowed": false,
 "supportsStatistics": false,
 "supportsAdvancedQueries": false,
 "editFieldsInfo": null,
 "ownershipBasedAccessControlForRasters": null,
 "allowComputeTiePoints": false,
 "useStandardizedQueries": true,
 "advancedQueryCapabilities": {
  "useStandardizedQueries": true,
  "supportsStatistics": false,
  "supportsOrderBy": false,
  "supportsDistinct": false,
  "supportsPagination": false
 },
 "spatialReference": {
  "wkid": 2036,
  "latestWkid": 2953
 }
}
