{
 "currentVersion": 10.91,
 "serviceDescription": "A 50 m grid of the reduction-to-the-pole (RTP) magnetic intensity for New Brunswick.This dataset represents the reduction-to-the-pole (RTP) magnetic intensity for New Brunswick at 50 m resolution, created from high-resolution airborne magnetic surveys flown at 200\u2013300 m line spacing. RTP processing shifts magnetic anomalies so they appear directly over their causative sources, simplifying geological interpretation by reducing the effects of magnetization direction. The dataset is provided in NB Stereographic double (NAD83).The RTP grid was generated from NRCan airborne profile data that were microlevelled and gridded at 50 m, converted to ER Mapper format, reprojected to NB Stereographic double, and processed to apply reduction-to-the-pole to the total magnetic intensity.Data created Sept 2025.",
 "name": "Geophysics_Aeromagnetic_Compiled/NB_Highres_RTP",
 "description": "A 50 m grid of the reduction-to-the-pole (RTP) magnetic intensity for New Brunswick.This dataset represents the reduction-to-the-pole (RTP) magnetic intensity for New Brunswick at 50 m resolution, created from high-resolution airborne magnetic surveys flown at 200\u2013300 m line spacing. RTP processing shifts magnetic anomalies so they appear directly over their causative sources, simplifying geological interpretation by reducing the effects of magnetization direction. The dataset is provided in NB Stereographic double (NAD83).The RTP grid was generated from NRCan airborne profile data that were microlevelled and gridded at 50 m, converted to ER Mapper format, reprojected to NB Stereographic double, and processed to apply reduction-to-the-pole to the total magnetic intensity.Data created Sept 2025.",
 "extent": {
  "xmin": 2397725,
  "ymin": 7325225,
  "xmax": 2700775,
  "ymax": 7673125,
  "spatialReference": {
   "wkid": 2036,
   "latestWkid": 2953
  }
 },
 "initialExtent": {
  "xmin": 2397725,
  "ymin": 7325225,
  "xmax": 2700775,
  "ymax": 7673125,
  "spatialReference": {
   "wkid": 2036,
   "latestWkid": 2953
  }
 },
 "fullExtent": {
  "xmin": 2397725,
  "ymin": 7325225,
  "xmax": 2700775,
  "ymax": 7673125,
  "spatialReference": {
   "wkid": 2036,
   "latestWkid": 2953
  }
 },
 "hasMultidimensions": false,
 "pixelSizeX": 50,
 "pixelSizeY": 50,
 "datasetFormat": "ER Mapper",
 "uncompressedSize": 168689752,
 "blockWidth": 6061,
 "blockHeight": 1,
 "compressionType": "None",
 "bandNames": [
  "Band_1"
 ],
 "allowCopy": true,
 "allowAnalysis": true,
 "bandCount": 1,
 "noDataValue": -999999,
 "noDataValues": [
  -999999
 ],
 "pixelType": "F32",
 "minPixelSize": 0,
 "maxPixelSize": 0,
 "copyrightText": "NB Dept of Natural Resources, GSB Section",
 "serviceDataType": "esriImageServiceDataTypeGeneric",
 "serviceSourceType": "esriImageServiceSourceTypeDataset",
 "minValues": [
  -7920.9018554688
 ],
 "maxValues": [
  7024.2861328125
 ],
 "meanValues": [
  13.814203759344
 ],
 "stdvValues": [
  143.75811619072
 ],
 "objectIdField": "",
 "fields": [],
 "capabilities": "Image,Metadata,Mensuration",
 "defaultMosaicMethod": "Center",
 "allowedMosaicMethods": "",
 "sortField": "",
 "sortValue": null,
 "sortAscending": true,
 "mosaicOperator": "First",
 "defaultCompressionQuality": 75,
 "defaultResamplingMethod": "Bilinear",
 "maxImageHeight": 4100,
 "maxImageWidth": 15000,
 "allowRasterFunction": true,
 "rasterFunctionInfos": [
  {
   "name": "None",
   "description": "",
   "help": ""
  }
 ],
 "rasterTypeInfos": [
  {
   "name": "Raster Dataset",
   "description": "Supports all ArcGIS Raster Datasets",
   "help": ""
  }
 ],
 "mensurationCapabilities": "Basic",
 "hasHistograms": true,
 "hasColormap": false,
 "hasRasterAttributeTable": false,
 "minScale": 0,
 "maxScale": 0,
 "exportTilesAllowed": false,
 "supportsStatistics": false,
 "supportsAdvancedQueries": false,
 "editFieldsInfo": null,
 "ownershipBasedAccessControlForRasters": null,
 "allowComputeTiePoints": false,
 "useStandardizedQueries": true,
 "advancedQueryCapabilities": {
  "useStandardizedQueries": true,
  "supportsStatistics": false,
  "supportsOrderBy": false,
  "supportsDistinct": false,
  "supportsPagination": false
 },
 "spatialReference": {
  "wkid": 2036,
  "latestWkid": 2953
 }
}
