{
 "currentVersion": 10.91,
 "serviceDescription": "A 50 m grid of the first vertical derivative of the reduction-to-the-pole (RTP) magnetic intensity for New Brunswick.This dataset represents the first vertical derivative of the reduction-to-the-pole (RTP) magnetic intensity for New Brunswick at 50 m resolution, derived from high-resolution airborne magnetic surveys flown at 200\u2013300 m line spacing. The RTP_1VD enhances short-wavelength, near-surface magnetic features and sharpens anomaly edges, supporting detailed geological interpretation. The dataset is provided in NB Stereographic double (NAD83).The RTP_1VD grid was created from NRCan airborne profile data that were microlevelled and gridded at 50 m, converted to ER Mapper format, reprojected to NB Stereographic double, processed using reduction-to-the-pole, and then differentiated vertically to produce the first vertical derivative.Data created Sept 2025.",
 "name": "Geophysics_Aeromagnetic_Compiled/NB_Highres_RTP_1VD",
 "description": "A 50 m grid of the first vertical derivative of the reduction-to-the-pole (RTP) magnetic intensity for New Brunswick.This dataset represents the first vertical derivative of the reduction-to-the-pole (RTP) magnetic intensity for New Brunswick at 50 m resolution, derived from high-resolution airborne magnetic surveys flown at 200\u2013300 m line spacing. The RTP_1VD enhances short-wavelength, near-surface magnetic features and sharpens anomaly edges, supporting detailed geological interpretation. The dataset is provided in NB Stereographic double (NAD83).The RTP_1VD grid was created from NRCan airborne profile data that were microlevelled and gridded at 50 m, converted to ER Mapper format, reprojected to NB Stereographic double, processed using reduction-to-the-pole, and then differentiated vertically to produce the first vertical derivative.Data created Sept 2025.",
 "extent": {
  "xmin": 2397725,
  "ymin": 7325225,
  "xmax": 2700775,
  "ymax": 7673125,
  "spatialReference": {
   "wkid": 2036,
   "latestWkid": 2953
  }
 },
 "initialExtent": {
  "xmin": 2397725,
  "ymin": 7325225,
  "xmax": 2700775,
  "ymax": 7673125,
  "spatialReference": {
   "wkid": 2036,
   "latestWkid": 2953
  }
 },
 "fullExtent": {
  "xmin": 2397725,
  "ymin": 7325225,
  "xmax": 2700775,
  "ymax": 7673125,
  "spatialReference": {
   "wkid": 2036,
   "latestWkid": 2953
  }
 },
 "hasMultidimensions": false,
 "pixelSizeX": 50,
 "pixelSizeY": 50,
 "datasetFormat": "ER Mapper",
 "uncompressedSize": 168689752,
 "blockWidth": 6061,
 "blockHeight": 1,
 "compressionType": "None",
 "bandNames": [
  "Band_1"
 ],
 "allowCopy": true,
 "allowAnalysis": true,
 "bandCount": 1,
 "noDataValue": -999999,
 "noDataValues": [
  -999999
 ],
 "pixelType": "F32",
 "minPixelSize": 0,
 "maxPixelSize": 0,
 "copyrightText": "NB Dept of Natural Resources, GSB Section",
 "serviceDataType": "esriImageServiceDataTypeGeneric",
 "serviceSourceType": "esriImageServiceSourceTypeDataset",
 "minValues": [
  -160.90412902832
 ],
 "maxValues": [
  79.879112243652
 ],
 "meanValues": [
  -8.234288468823E-4
 ],
 "stdvValues": [
  0.21517534991256
 ],
 "objectIdField": "",
 "fields": [],
 "capabilities": "Image,Metadata,Mensuration",
 "defaultMosaicMethod": "Center",
 "allowedMosaicMethods": "",
 "sortField": "",
 "sortValue": null,
 "sortAscending": true,
 "mosaicOperator": "First",
 "defaultCompressionQuality": 75,
 "defaultResamplingMethod": "Bilinear",
 "maxImageHeight": 4100,
 "maxImageWidth": 15000,
 "allowRasterFunction": true,
 "rasterFunctionInfos": [
  {
   "name": "None",
   "description": "",
   "help": ""
  }
 ],
 "rasterTypeInfos": [
  {
   "name": "Raster Dataset",
   "description": "Supports all ArcGIS Raster Datasets",
   "help": ""
  }
 ],
 "mensurationCapabilities": "Basic",
 "hasHistograms": true,
 "hasColormap": false,
 "hasRasterAttributeTable": false,
 "minScale": 0,
 "maxScale": 0,
 "exportTilesAllowed": false,
 "supportsStatistics": false,
 "supportsAdvancedQueries": false,
 "editFieldsInfo": null,
 "ownershipBasedAccessControlForRasters": null,
 "allowComputeTiePoints": false,
 "useStandardizedQueries": true,
 "advancedQueryCapabilities": {
  "useStandardizedQueries": true,
  "supportsStatistics": false,
  "supportsOrderBy": false,
  "supportsDistinct": false,
  "supportsPagination": false
 },
 "spatialReference": {
  "wkid": 2036,
  "latestWkid": 2953
 }
}
