{
 "currentVersion": 10.91,
 "serviceDescription": "A grid of the Residual Magnetic Intensity (RMI) for the Bathurst Megatem Aerodat survey, reprocessed and projected to NB Stereographic Double, NAD83.This dataset represents the Residual Magnetic Intensity (RMI) derived from the Bathurst Megatem Aerodat airborne magnetic survey. RMI isolates shorter-wavelength magnetic responses by removing the regional magnetic field from the microlevelled TMI. This enhances local geological and structural features such as contacts, faults, and magnetite-rich zones. All grids have been reprojected from NAD83 UTM Zone 19N to NB Stereographic Double, NAD83.Residual Magnetic Intensity (RMI) represents the shorter-wavelength component of the magnetic field obtained by removing the broad regional magnetic trend from the microlevelled total magnetic intensity (TMI). By subtracting this long-wavelength background, RMI isolates local magnetic responses associated with geological contacts, faults, dykes, alteration zones, and magnetite-bearing bodies, making it a powerful tool for detailed structural and lithological interpretation.Data created Sept 2025.",
 "name": "Geophysics_Aeromagnetic_Individual_Surveys/Bathurst_Aerodat_Megatem_RMI",
 "description": "A grid of the Residual Magnetic Intensity (RMI) for the Bathurst Megatem Aerodat survey, reprocessed and projected to NB Stereographic Double, NAD83.This dataset represents the Residual Magnetic Intensity (RMI) derived from the Bathurst Megatem Aerodat airborne magnetic survey. RMI isolates shorter-wavelength magnetic responses by removing the regional magnetic field from the microlevelled TMI. This enhances local geological and structural features such as contacts, faults, and magnetite-rich zones. All grids have been reprojected from NAD83 UTM Zone 19N to NB Stereographic Double, NAD83.Residual Magnetic Intensity (RMI) represents the shorter-wavelength component of the magnetic field obtained by removing the broad regional magnetic trend from the microlevelled total magnetic intensity (TMI). By subtracting this long-wavelength background, RMI isolates local magnetic responses associated with geological contacts, faults, dykes, alteration zones, and magnetite-bearing bodies, making it a powerful tool for detailed structural and lithological interpretation.Data created Sept 2025.",
 "extent": {
  "xmin": 2481060,
  "ymin": 7551180,
  "xmax": 2576340,
  "ymax": 7635540,
  "spatialReference": {
   "wkid": 2036,
   "latestWkid": 2953
  }
 },
 "initialExtent": {
  "xmin": 2481060,
  "ymin": 7551180,
  "xmax": 2576340,
  "ymax": 7635540,
  "spatialReference": {
   "wkid": 2036,
   "latestWkid": 2953
  }
 },
 "fullExtent": {
  "xmin": 2481060,
  "ymin": 7551180,
  "xmax": 2576340,
  "ymax": 7635540,
  "spatialReference": {
   "wkid": 2036,
   "latestWkid": 2953
  }
 },
 "hasMultidimensions": false,
 "pixelSizeX": 40,
 "pixelSizeY": 40,
 "datasetFormat": "ER Mapper",
 "uncompressedSize": 20094552,
 "blockWidth": 2382,
 "blockHeight": 1,
 "compressionType": "None",
 "bandNames": [
  "Band_1"
 ],
 "allowCopy": true,
 "allowAnalysis": true,
 "bandCount": 1,
 "noDataValue": -999999,
 "noDataValues": [
  -999999
 ],
 "pixelType": "F32",
 "minPixelSize": 0,
 "maxPixelSize": 0,
 "copyrightText": "NB Dept of Natural Resources, GSB Section",
 "serviceDataType": "esriImageServiceDataTypeGeneric",
 "serviceSourceType": "esriImageServiceSourceTypeDataset",
 "minValues": [
  -1303.4515380859
 ],
 "maxValues": [
  7462.8911132812
 ],
 "meanValues": [
  0.22514342828168
 ],
 "stdvValues": [
  128.30890980761
 ],
 "objectIdField": "",
 "fields": [],
 "capabilities": "Image,Metadata,Mensuration",
 "defaultMosaicMethod": "Center",
 "allowedMosaicMethods": "",
 "sortField": "",
 "sortValue": null,
 "sortAscending": true,
 "mosaicOperator": "First",
 "defaultCompressionQuality": 75,
 "defaultResamplingMethod": "Bilinear",
 "maxImageHeight": 4100,
 "maxImageWidth": 15000,
 "allowRasterFunction": true,
 "rasterFunctionInfos": [
  {
   "name": "None",
   "description": "",
   "help": ""
  }
 ],
 "rasterTypeInfos": [
  {
   "name": "Raster Dataset",
   "description": "Supports all ArcGIS Raster Datasets",
   "help": ""
  }
 ],
 "mensurationCapabilities": "Basic",
 "hasHistograms": true,
 "hasColormap": false,
 "hasRasterAttributeTable": false,
 "minScale": 0,
 "maxScale": 0,
 "exportTilesAllowed": false,
 "supportsStatistics": false,
 "supportsAdvancedQueries": false,
 "editFieldsInfo": null,
 "ownershipBasedAccessControlForRasters": null,
 "allowComputeTiePoints": false,
 "useStandardizedQueries": true,
 "advancedQueryCapabilities": {
  "useStandardizedQueries": true,
  "supportsStatistics": false,
  "supportsOrderBy": false,
  "supportsDistinct": false,
  "supportsPagination": false
 },
 "spatialReference": {
  "wkid": 2036,
  "latestWkid": 2953
 }
}
