{
 "currentVersion": 10.91,
 "serviceDescription": "A grid of the total magnetic intensity difference (BigT) for the Columbia 2000 survey.This dataset represents BigT, the total magnetic intensity difference, for the Columbia 2000 airborne magnetic survey in New Brunswick. BigT is calculated by converting TMI to magnetic field components (X, Y, Z) and computing the vector magnitude, providing a clear view of magnetic anomalies and sources. The dataset is provided in NB Stereographic double (NAD83).The BigT grid was created from the Columbia 2000 survey by microlevelling the TMI (Mag_miclev), converting it to magnetic field components, and calculating the vector magnitude (√(X² + Y² + Z²)). The final grid is provided in NB Stereographic double (NAD83).Data created Sept 2025.",
 "name": "Geophysics_Aeromagnetic_Individual_Surveys/Colombia_BigT",
 "description": "A grid of the total magnetic intensity difference (BigT) for the Columbia 2000 survey.This dataset represents BigT, the total magnetic intensity difference, for the Columbia 2000 airborne magnetic survey in New Brunswick. BigT is calculated by converting TMI to magnetic field components (X, Y, Z) and computing the vector magnitude, providing a clear view of magnetic anomalies and sources. The dataset is provided in NB Stereographic double (NAD83).The BigT grid was created from the Columbia 2000 survey by microlevelling the TMI (Mag_miclev), converting it to magnetic field components, and calculating the vector magnitude (√(X² + Y² + Z²)). The final grid is provided in NB Stereographic double (NAD83).Data created Sept 2025.",
 "extent": {
  "xmin": 2460000,
  "ymin": 7387360,
  "xmax": 2695840,
  "ymax": 7502560,
  "spatialReference": {
   "wkid": 2036,
   "latestWkid": 2953
  }
 },
 "initialExtent": {
  "xmin": 2460000,
  "ymin": 7387360,
  "xmax": 2695840,
  "ymax": 7502560,
  "spatialReference": {
   "wkid": 2036,
   "latestWkid": 2953
  }
 },
 "fullExtent": {
  "xmin": 2460000,
  "ymin": 7387360,
  "xmax": 2695840,
  "ymax": 7502560,
  "spatialReference": {
   "wkid": 2036,
   "latestWkid": 2953
  }
 },
 "hasMultidimensions": false,
 "pixelSizeX": 320,
 "pixelSizeY": 320,
 "datasetFormat": "ER Mapper",
 "uncompressedSize": 1061280,
 "blockWidth": 737,
 "blockHeight": 1,
 "compressionType": "None",
 "bandNames": [
  "Band_1"
 ],
 "allowCopy": true,
 "allowAnalysis": true,
 "bandCount": 1,
 "noDataValue": -999999,
 "noDataValues": [
  -999999
 ],
 "pixelType": "F32",
 "minPixelSize": 0,
 "maxPixelSize": 0,
 "copyrightText": "NB Dept of Natural Resources, GSB Section",
 "serviceDataType": "esriImageServiceDataTypeGeneric",
 "serviceSourceType": "esriImageServiceSourceTypeDataset",
 "minValues": [
  53788.4296875
 ],
 "maxValues": [
  55876.125
 ],
 "meanValues": [
  54235.923092651
 ],
 "stdvValues": [
  149.71049126373
 ],
 "objectIdField": "",
 "fields": [],
 "capabilities": "Image,Metadata,Mensuration",
 "defaultMosaicMethod": "Center",
 "allowedMosaicMethods": "",
 "sortField": "",
 "sortValue": null,
 "sortAscending": true,
 "mosaicOperator": "First",
 "defaultCompressionQuality": 75,
 "defaultResamplingMethod": "Bilinear",
 "maxImageHeight": 4100,
 "maxImageWidth": 15000,
 "allowRasterFunction": true,
 "rasterFunctionInfos": [
  {
   "name": "None",
   "description": "",
   "help": ""
  }
 ],
 "rasterTypeInfos": [
  {
   "name": "Raster Dataset",
   "description": "Supports all ArcGIS Raster Datasets",
   "help": ""
  }
 ],
 "mensurationCapabilities": "Basic",
 "hasHistograms": true,
 "hasColormap": false,
 "hasRasterAttributeTable": false,
 "minScale": 0,
 "maxScale": 0,
 "exportTilesAllowed": false,
 "supportsStatistics": false,
 "supportsAdvancedQueries": false,
 "editFieldsInfo": null,
 "ownershipBasedAccessControlForRasters": null,
 "allowComputeTiePoints": false,
 "useStandardizedQueries": true,
 "advancedQueryCapabilities": {
  "useStandardizedQueries": true,
  "supportsStatistics": false,
  "supportsOrderBy": false,
  "supportsDistinct": false,
  "supportsPagination": false
 },
 "spatialReference": {
  "wkid": 2036,
  "latestWkid": 2953
 }
}
