{
 "currentVersion": 10.91,
 "serviceDescription": "A grid of the reduction-to-the-pole (RTP) magnetic intensity for the Columbia 2000 survey.This dataset represents the reduction-to-the-pole (RTP) of total magnetic intensity for the Columbia 2000 airborne magnetic survey in New Brunswick. RTP processing repositions magnetic anomalies directly over their causative sources, improving the clarity of subsurface structures for geological interpretation. The dataset is provided in NB Stereographic double (NAD83).The RTP grid was created from the Columbia 2000 survey by microlevelling the TMI (Mag_miclev), converting it to a grid, and applying reduction-to-the-pole processing using the magnetic inclination and declination from the IGRF model. The final grid is provided in NB Stereographic double (NAD83).Data created Sept 2025.",
 "name": "Geophysics_Aeromagnetic_Individual_Surveys/Colombia_RTP",
 "description": "A grid of the reduction-to-the-pole (RTP) magnetic intensity for the Columbia 2000 survey.This dataset represents the reduction-to-the-pole (RTP) of total magnetic intensity for the Columbia 2000 airborne magnetic survey in New Brunswick. RTP processing repositions magnetic anomalies directly over their causative sources, improving the clarity of subsurface structures for geological interpretation. The dataset is provided in NB Stereographic double (NAD83).The RTP grid was created from the Columbia 2000 survey by microlevelling the TMI (Mag_miclev), converting it to a grid, and applying reduction-to-the-pole processing using the magnetic inclination and declination from the IGRF model. The final grid is provided in NB Stereographic double (NAD83).Data created Sept 2025.",
 "extent": {
  "xmin": 2460000,
  "ymin": 7387360,
  "xmax": 2695840,
  "ymax": 7502560,
  "spatialReference": {
   "wkid": 2036,
   "latestWkid": 2953
  }
 },
 "initialExtent": {
  "xmin": 2460000,
  "ymin": 7387360,
  "xmax": 2695840,
  "ymax": 7502560,
  "spatialReference": {
   "wkid": 2036,
   "latestWkid": 2953
  }
 },
 "fullExtent": {
  "xmin": 2460000,
  "ymin": 7387360,
  "xmax": 2695840,
  "ymax": 7502560,
  "spatialReference": {
   "wkid": 2036,
   "latestWkid": 2953
  }
 },
 "hasMultidimensions": false,
 "pixelSizeX": 320,
 "pixelSizeY": 320,
 "datasetFormat": "ER Mapper",
 "uncompressedSize": 1061280,
 "blockWidth": 737,
 "blockHeight": 1,
 "compressionType": "None",
 "bandNames": [
  "Band_1"
 ],
 "allowCopy": true,
 "allowAnalysis": true,
 "bandCount": 1,
 "noDataValue": -999999,
 "noDataValues": [
  -999999
 ],
 "pixelType": "F32",
 "minPixelSize": 0,
 "maxPixelSize": 0,
 "copyrightText": "NB Dept of Natural Resources, GSB Section",
 "serviceDataType": "esriImageServiceDataTypeGeneric",
 "serviceSourceType": "esriImageServiceSourceTypeDataset",
 "minValues": [
  53815.7265625
 ],
 "maxValues": [
  55992.33984375
 ],
 "meanValues": [
  54232.041970855
 ],
 "stdvValues": [
  153.5743176304
 ],
 "objectIdField": "",
 "fields": [],
 "capabilities": "Image,Metadata,Mensuration",
 "defaultMosaicMethod": "Center",
 "allowedMosaicMethods": "",
 "sortField": "",
 "sortValue": null,
 "sortAscending": true,
 "mosaicOperator": "First",
 "defaultCompressionQuality": 75,
 "defaultResamplingMethod": "Bilinear",
 "maxImageHeight": 4100,
 "maxImageWidth": 15000,
 "allowRasterFunction": true,
 "rasterFunctionInfos": [
  {
   "name": "None",
   "description": "",
   "help": ""
  }
 ],
 "rasterTypeInfos": [
  {
   "name": "Raster Dataset",
   "description": "Supports all ArcGIS Raster Datasets",
   "help": ""
  }
 ],
 "mensurationCapabilities": "Basic",
 "hasHistograms": true,
 "hasColormap": false,
 "hasRasterAttributeTable": false,
 "minScale": 0,
 "maxScale": 0,
 "exportTilesAllowed": false,
 "supportsStatistics": false,
 "supportsAdvancedQueries": false,
 "editFieldsInfo": null,
 "ownershipBasedAccessControlForRasters": null,
 "allowComputeTiePoints": false,
 "useStandardizedQueries": true,
 "advancedQueryCapabilities": {
  "useStandardizedQueries": true,
  "supportsStatistics": false,
  "supportsOrderBy": false,
  "supportsDistinct": false,
  "supportsPagination": false
 },
 "spatialReference": {
  "wkid": 2036,
  "latestWkid": 2953
 }
}
