{
 "currentVersion": 10.91,
 "serviceDescription": "A grid of BigT (total magnetic field magnitude) for the Florenceville 1988 survey.This dataset represents BigT, the total magnetic field magnitude, for the Florenceville airborne magnetic survey in New Brunswick. BigT is calculated by converting total magnetic intensity (TMI) to magnetic field components (X, Y, Z) and computing the vector magnitude, providing a clear view of magnetic anomalies and sources. The dataset is provided in NB Stereographic Double, NAD83.The BigT grid was created from the Florenceville 1988 survey by microlevelling the TMI, converting it to magnetic field components, and calculating the vector magnitude (√(X² + Y² + Z²)). The final grid is provided in NB Stereographic Double, NAD83.Data created Sept. 1, 2025",
 "name": "Geophysics_Aeromagnetic_Individual_Surveys/Florenceville_BigT",
 "description": "A grid of BigT (total magnetic field magnitude) for the Florenceville 1988 survey.This dataset represents BigT, the total magnetic field magnitude, for the Florenceville airborne magnetic survey in New Brunswick. BigT is calculated by converting total magnetic intensity (TMI) to magnetic field components (X, Y, Z) and computing the vector magnitude, providing a clear view of magnetic anomalies and sources. The dataset is provided in NB Stereographic Double, NAD83.The BigT grid was created from the Florenceville 1988 survey by microlevelling the TMI, converting it to magnetic field components, and calculating the vector magnitude (√(X² + Y² + Z²)). The final grid is provided in NB Stereographic Double, NAD83.Data created Sept. 1, 2025",
 "extent": {
  "xmin": 2408430,
  "ymin": 7456350,
  "xmax": 2465850,
  "ymax": 7502670,
  "spatialReference": {
   "wkid": 2036,
   "latestWkid": 2953
  }
 },
 "initialExtent": {
  "xmin": 2408430,
  "ymin": 7456350,
  "xmax": 2465850,
  "ymax": 7502670,
  "spatialReference": {
   "wkid": 2036,
   "latestWkid": 2953
  }
 },
 "fullExtent": {
  "xmin": 2408430,
  "ymin": 7456350,
  "xmax": 2465850,
  "ymax": 7502670,
  "spatialReference": {
   "wkid": 2036,
   "latestWkid": 2953
  }
 },
 "hasMultidimensions": false,
 "pixelSizeX": 60,
 "pixelSizeY": 60,
 "datasetFormat": "ER Mapper",
 "uncompressedSize": 2955216,
 "blockWidth": 957,
 "blockHeight": 1,
 "compressionType": "None",
 "bandNames": [
  "Band_1"
 ],
 "allowCopy": true,
 "allowAnalysis": true,
 "bandCount": 1,
 "noDataValue": -999999,
 "noDataValues": [
  -999999
 ],
 "pixelType": "F32",
 "minPixelSize": 0,
 "maxPixelSize": 0,
 "copyrightText": "NB Dept of Natural Resources, GSB Section",
 "serviceDataType": "esriImageServiceDataTypeGeneric",
 "serviceSourceType": "esriImageServiceSourceTypeDataset",
 "minValues": [
  55530.875
 ],
 "maxValues": [
  56220.35546875
 ],
 "meanValues": [
  55802.960272259
 ],
 "stdvValues": [
  121.37977626356
 ],
 "objectIdField": "",
 "fields": [],
 "capabilities": "Image,Metadata,Mensuration",
 "defaultMosaicMethod": "Center",
 "allowedMosaicMethods": "",
 "sortField": "",
 "sortValue": null,
 "sortAscending": true,
 "mosaicOperator": "First",
 "defaultCompressionQuality": 75,
 "defaultResamplingMethod": "Bilinear",
 "maxImageHeight": 4100,
 "maxImageWidth": 15000,
 "allowRasterFunction": true,
 "rasterFunctionInfos": [
  {
   "name": "None",
   "description": "",
   "help": ""
  }
 ],
 "rasterTypeInfos": [
  {
   "name": "Raster Dataset",
   "description": "Supports all ArcGIS Raster Datasets",
   "help": ""
  }
 ],
 "mensurationCapabilities": "Basic",
 "hasHistograms": true,
 "hasColormap": false,
 "hasRasterAttributeTable": false,
 "minScale": 0,
 "maxScale": 0,
 "exportTilesAllowed": false,
 "supportsStatistics": false,
 "supportsAdvancedQueries": false,
 "editFieldsInfo": null,
 "ownershipBasedAccessControlForRasters": null,
 "allowComputeTiePoints": false,
 "useStandardizedQueries": true,
 "advancedQueryCapabilities": {
  "useStandardizedQueries": true,
  "supportsStatistics": false,
  "supportsOrderBy": false,
  "supportsDistinct": false,
  "supportsPagination": false
 },
 "spatialReference": {
  "wkid": 2036,
  "latestWkid": 2953
 }
}
