<?xml version="1.0" encoding="UTF-8" standalone="no"?>
<metadata xml:lang="en">
<Esri>
<CreaDate>20251217</CreaDate>
<CreaTime>15024700</CreaTime>
<ArcGISFormat>1.0</ArcGISFormat>
<ArcGISstyle>ISO 19139 Metadata Implementation Specification GML3.2</ArcGISstyle>
<SyncOnce>FALSE</SyncOnce>
<scaleRange>
<minScale>150000000</minScale>
<maxScale>5000</maxScale>
</scaleRange>
<DataProperties>
<itemProps>
<itemName Sync="TRUE">Florenceville_NBSte_RTP.ers</itemName>
<imsContentType Sync="TRUE">002</imsContentType>
<nativeExtBox>
<westBL Sync="TRUE">2408430.000000</westBL>
<eastBL Sync="TRUE">2465850.000000</eastBL>
<southBL Sync="TRUE">7456350.000000</southBL>
<northBL Sync="TRUE">7502670.000000</northBL>
<exTypeCode Sync="TRUE">1</exTypeCode>
</nativeExtBox>
</itemProps>
<coordRef>
<type Sync="TRUE">Projected</type>
<geogcsn Sync="TRUE">GCS_North_American_1983_CSRS</geogcsn>
<csUnits Sync="TRUE">Linear Unit: Meter (1.000000)</csUnits>
<projcsn Sync="TRUE">NAD_1983_CSRS_New_Brunswick_Stereographic</projcsn>
<peXml Sync="TRUE">&lt;ProjectedCoordinateSystem xsi:type='typens:ProjectedCoordinateSystem' xmlns:xsi='http://www.w3.org/2001/XMLSchema-instance' xmlns:xs='http://www.w3.org/2001/XMLSchema' xmlns:typens='http://www.esri.com/schemas/ArcGIS/10.8'&gt;&lt;WKT&gt;PROJCS[&amp;quot;NAD_1983_CSRS_New_Brunswick_Stereographic&amp;quot;,GEOGCS[&amp;quot;GCS_North_American_1983_CSRS&amp;quot;,DATUM[&amp;quot;D_North_American_1983_CSRS&amp;quot;,SPHEROID[&amp;quot;GRS_1980&amp;quot;,6378137.0,298.257222101]],PRIMEM[&amp;quot;Greenwich&amp;quot;,0.0],UNIT[&amp;quot;Degree&amp;quot;,0.0174532925199433]],PROJECTION[&amp;quot;Double_Stereographic&amp;quot;],PARAMETER[&amp;quot;False_Easting&amp;quot;,2500000.0],PARAMETER[&amp;quot;False_Northing&amp;quot;,7500000.0],PARAMETER[&amp;quot;Central_Meridian&amp;quot;,-66.5],PARAMETER[&amp;quot;Scale_Factor&amp;quot;,0.999912],PARAMETER[&amp;quot;Latitude_Of_Origin&amp;quot;,46.5],UNIT[&amp;quot;Meter&amp;quot;,1.0],AUTHORITY[&amp;quot;EPSG&amp;quot;,2953]]&lt;/WKT&gt;&lt;XOrigin&gt;-28216700&lt;/XOrigin&gt;&lt;YOrigin&gt;-23260100&lt;/YOrigin&gt;&lt;XYScale&gt;146555990.15834904&lt;/XYScale&gt;&lt;ZOrigin&gt;-100000&lt;/ZOrigin&gt;&lt;ZScale&gt;10000&lt;/ZScale&gt;&lt;MOrigin&gt;-100000&lt;/MOrigin&gt;&lt;MScale&gt;10000&lt;/MScale&gt;&lt;XYTolerance&gt;0.001&lt;/XYTolerance&gt;&lt;ZTolerance&gt;0.001&lt;/ZTolerance&gt;&lt;MTolerance&gt;0.001&lt;/MTolerance&gt;&lt;HighPrecision&gt;true&lt;/HighPrecision&gt;&lt;WKID&gt;2036&lt;/WKID&gt;&lt;LatestWKID&gt;2953&lt;/LatestWKID&gt;&lt;/ProjectedCoordinateSystem&gt;</peXml>
</coordRef>
<RasterProperties>
<General>
<PixelDepth Sync="TRUE">32</PixelDepth>
<HasColormap Sync="TRUE">FALSE</HasColormap>
<CompressionType Sync="TRUE">None</CompressionType>
<NumBands Sync="TRUE">1</NumBands>
<Format Sync="TRUE">ER Mapper</Format>
<HasPyramids Sync="TRUE">FALSE</HasPyramids>
<SourceType Sync="TRUE">continuous</SourceType>
<PixelType Sync="TRUE">floating point</PixelType>
<NoDataValue Sync="TRUE">-999999</NoDataValue>
</General>
</RasterProperties>
</DataProperties>
<SyncDate>20251217</SyncDate>
<SyncTime>15024700</SyncTime>
<ModDate>20251217</ModDate>
<ModTime>15080900</ModTime>
<ArcGISProfile>ISO19115_3</ArcGISProfile>
</Esri>
<dataIdInfo>
<idPoC>
<rpIndName>Amirabbas Karbalaeiramezanali</rpIndName>
<rpOrgName>GSB</rpOrgName>
<role>
<RoleCd value="007">
</RoleCd>
</role>
<rpCntInfo>
<cntAddress>
<eMailAdd>amirabbas.karbalaeiramezanali@gnb.ca</eMailAdd>
</cntAddress>
</rpCntInfo>
</idPoC>
<idPoC>
<rpIndName>Serge Allard</rpIndName>
<rpOrgName>GSB</rpOrgName>
<rpCntInfo>
<cntAddress>
<eMailAdd>Serge.Allard@gnb.ca</eMailAdd>
</cntAddress>
</rpCntInfo>
<displayName>Serge Alard</displayName>
<displayName>Serge Allard</displayName>
<displayName>Serge Allard</displayName>
<role>
<RoleCd value="003">
</RoleCd>
</role>
</idPoC>
<idPoC>
<rpIndName>Hernan Ugalde</rpIndName>
<role>
<RoleCd value="006">
</RoleCd>
</role>
<rpCntInfo>
<cntAddress>
<eMailAdd>hernan.ugalde@dipgeosciences.com</eMailAdd>
</cntAddress>
</rpCntInfo>
</idPoC>
<resConst>
<Consts>
<useLimit/>
</Consts>
</resConst>
<idPurp>A grid of the reduction-to-the-pole (RTP) magnetic intensity for the Florenceville 1988 survey.</idPurp>
<idAbs>A grid of the reduction-to-the-pole (RTP) magnetic intensity for the Florenceville 1988 survey.This dataset represents the reduction-to-the-pole (RTP) of total magnetic intensity for the Florenceville airborne magnetic survey in New Brunswick. RTP processing repositions magnetic anomalies directly over their causative sources, improving the clarity of subsurface structures and aiding geological interpretation. The dataset is provided in NB Stereographic Double, NAD83.The RTP grid was created from the Florenceville 1988 survey by microlevelling the TMI (Mag_miclev), converting it to a grid, and applying reduction-to-the-pole processing using magnetic inclination and declination from the IGRF model. The final grid is provided in NB Stereographic Double, NAD83.Data created Sept. 1, 2025</idAbs>
<envirDesc Sync="TRUE"> Version 6.2 (Build 9200) ; Esri ArcGIS 10.8.1.14362</envirDesc>
<dataLang>
<languageCode Sync="TRUE" value="eng">
</languageCode>
<countryCode Sync="TRUE" value="CAN">
</countryCode>
</dataLang>
<idCitation>
<resTitle Sync="TRUE">Florenceville_NBSte_RTP.ers</resTitle>
<presForm>
<PresFormCd Sync="TRUE" value="005">
</PresFormCd>
</presForm>
</idCitation>
<spatRpType>
<SpatRepTypCd Sync="TRUE" value="002">
</SpatRepTypCd>
</spatRpType>
<dataExt>
<geoEle>
<GeoBndBox esriExtentType="search">
<exTypeCode Sync="TRUE">1</exTypeCode>
<westBL Sync="TRUE">-67.693418</westBL>
<eastBL Sync="TRUE">-66.941736</eastBL>
<northBL Sync="TRUE">46.523155</northBL>
<southBL Sync="TRUE">46.101123</southBL>
</GeoBndBox>
</geoEle>
</dataExt>
<idCredit>NB Dept of Natural Resources, GSB Section</idCredit>
</dataIdInfo>
<spatRepInfo>
<Georect>
<axisDimension type="002">
<dimSize Sync="TRUE">957</dimSize>
<dimResol>
<value Sync="TRUE" uom="m">60.000000</value>
</dimResol>
</axisDimension>
<axisDimension type="001">
<dimSize Sync="TRUE">772</dimSize>
<dimResol>
<value Sync="TRUE" uom="m">60.000000</value>
</dimResol>
</axisDimension>
<cellGeo>
<CellGeoCd Sync="TRUE" value="002">
</CellGeoCd>
</cellGeo>
<numDims Sync="TRUE">2</numDims>
<tranParaAv Sync="TRUE">1</tranParaAv>
<chkPtAv Sync="TRUE">0</chkPtAv>
<cornerPts>
<pos Sync="TRUE">2408430.000000 7456350.000000</pos>
</cornerPts>
<cornerPts>
<pos Sync="TRUE">2408430.000000 7502670.000000</pos>
</cornerPts>
<cornerPts>
<pos Sync="TRUE">2465850.000000 7502670.000000</pos>
</cornerPts>
<cornerPts>
<pos Sync="TRUE">2465850.000000 7456350.000000</pos>
</cornerPts>
<centerPt>
<pos Sync="TRUE">2437140.000000 7479510.000000</pos>
</centerPt>
<ptInPixel>
<PixOrientCd Sync="TRUE" value="001">
</PixOrientCd>
</ptInPixel>
</Georect>
</spatRepInfo>
<contInfo>
<ImgDesc>
<covDim>
<Band>
<valUnit>
<UOM type="length">
</UOM>
</valUnit>
<dimDescrp Sync="TRUE">Band_1</dimDescrp>
<maxVal Sync="TRUE">56277.312500</maxVal>
<minVal Sync="TRUE">55557.542969</minVal>
<bitsPerVal Sync="TRUE">32</bitsPerVal>
</Band>
</covDim>
<contentTyp>
<ContentTypCd Sync="TRUE" value="001">
</ContentTypCd>
</contentTyp>
</ImgDesc>
</contInfo>
<mdLang>
<languageCode Sync="TRUE" value="eng">
</languageCode>
<countryCode Sync="TRUE" value="CAN">
</countryCode>
</mdLang>
<distInfo>
<distFormat>
<formatName Sync="TRUE">Raster Dataset</formatName>
</distFormat>
</distInfo>
<mdHrLv>
<ScopeCd Sync="TRUE" value="005">
</ScopeCd>
</mdHrLv>
<mdHrLvName Sync="TRUE">dataset</mdHrLvName>
<refSysInfo>
<RefSystem>
<refSysID>
<identCode Sync="TRUE" code="2953">
</identCode>
<idCodeSpace Sync="TRUE">EPSG</idCodeSpace>
<idVersion Sync="TRUE">6.2(9.3.0.0)</idVersion>
</refSysID>
</RefSystem>
</refSysInfo>
<mdDateSt Sync="TRUE">20251217</mdDateSt>
</metadata>
