{
 "currentVersion": 10.91,
 "serviceDescription": "A grid of total magnetic intensity (TMI) for the Florenceville airborne survey, reprocessed and projected to NB Stereographic Double, NAD83.This dataset represents the total magnetic intensity (TMI) measured during the Florenceville Mag-EM 1988 airborne survey. TMI provides the magnitude of the Earth's magnetic field at each location and is essential for identifying magnetic anomalies associated with lithological variations, faults, and other geological features. The data have been reprocessed, gridded, and reprojected to the NB Stereographic Double coordinate system, making them suitable for regional and detailed geological interpretation.The TMI grid was created from the Florenceville survey by microlevelling the original magnetic channel to reduce line-to-line inconsistencies and noise, converting the microlevelled data into a gridded format, and then reprojecting the grid from the original NAD83 UTM19N to NB Stereographic Double, NAD83.Data created Sept. 1, 2025",
 "name": "Geophysics_Aeromagnetic_Individual_Surveys/Florenceville_TMI",
 "description": "A grid of total magnetic intensity (TMI) for the Florenceville airborne survey, reprocessed and projected to NB Stereographic Double, NAD83.This dataset represents the total magnetic intensity (TMI) measured during the Florenceville Mag-EM 1988 airborne survey. TMI provides the magnitude of the Earth's magnetic field at each location and is essential for identifying magnetic anomalies associated with lithological variations, faults, and other geological features. The data have been reprocessed, gridded, and reprojected to the NB Stereographic Double coordinate system, making them suitable for regional and detailed geological interpretation.The TMI grid was created from the Florenceville survey by microlevelling the original magnetic channel to reduce line-to-line inconsistencies and noise, converting the microlevelled data into a gridded format, and then reprojecting the grid from the original NAD83 UTM19N to NB Stereographic Double, NAD83.Data created Sept. 1, 2025",
 "extent": {
  "xmin": 2408430,
  "ymin": 7456350,
  "xmax": 2465850,
  "ymax": 7502670,
  "spatialReference": {
   "wkid": 2036,
   "latestWkid": 2953
  }
 },
 "initialExtent": {
  "xmin": 2408430,
  "ymin": 7456350,
  "xmax": 2465850,
  "ymax": 7502670,
  "spatialReference": {
   "wkid": 2036,
   "latestWkid": 2953
  }
 },
 "fullExtent": {
  "xmin": 2408430,
  "ymin": 7456350,
  "xmax": 2465850,
  "ymax": 7502670,
  "spatialReference": {
   "wkid": 2036,
   "latestWkid": 2953
  }
 },
 "hasMultidimensions": false,
 "pixelSizeX": 60,
 "pixelSizeY": 60,
 "datasetFormat": "ER Mapper",
 "uncompressedSize": 2955216,
 "blockWidth": 957,
 "blockHeight": 1,
 "compressionType": "None",
 "bandNames": [
  "Band_1"
 ],
 "allowCopy": true,
 "allowAnalysis": true,
 "bandCount": 1,
 "noDataValue": -999999,
 "noDataValues": [
  -999999
 ],
 "pixelType": "F32",
 "minPixelSize": 0,
 "maxPixelSize": 0,
 "copyrightText": "NB Dept of Natural Resources, GSB Section",
 "serviceDataType": "esriImageServiceDataTypeGeneric",
 "serviceSourceType": "esriImageServiceSourceTypeDataset",
 "minValues": [
  55529.84765625
 ],
 "maxValues": [
  57062.8359375
 ],
 "meanValues": [
  55810.369896661
 ],
 "stdvValues": [
  151.22152461497
 ],
 "objectIdField": "",
 "fields": [],
 "capabilities": "Image,Metadata,Mensuration",
 "defaultMosaicMethod": "Center",
 "allowedMosaicMethods": "",
 "sortField": "",
 "sortValue": null,
 "sortAscending": true,
 "mosaicOperator": "First",
 "defaultCompressionQuality": 75,
 "defaultResamplingMethod": "Bilinear",
 "maxImageHeight": 4100,
 "maxImageWidth": 15000,
 "allowRasterFunction": true,
 "rasterFunctionInfos": [
  {
   "name": "None",
   "description": "",
   "help": ""
  }
 ],
 "rasterTypeInfos": [
  {
   "name": "Raster Dataset",
   "description": "Supports all ArcGIS Raster Datasets",
   "help": ""
  }
 ],
 "mensurationCapabilities": "Basic",
 "hasHistograms": true,
 "hasColormap": false,
 "hasRasterAttributeTable": false,
 "minScale": 0,
 "maxScale": 0,
 "exportTilesAllowed": false,
 "supportsStatistics": false,
 "supportsAdvancedQueries": false,
 "editFieldsInfo": null,
 "ownershipBasedAccessControlForRasters": null,
 "allowComputeTiePoints": false,
 "useStandardizedQueries": true,
 "advancedQueryCapabilities": {
  "useStandardizedQueries": true,
  "supportsStatistics": false,
  "supportsOrderBy": false,
  "supportsDistinct": false,
  "supportsPagination": false
 },
 "spatialReference": {
  "wkid": 2036,
  "latestWkid": 2953
 }
}
