{
 "currentVersion": 10.91,
 "serviceDescription": "A grid of microlevelled total magnetic intensity (TMI) for the Kedgwick 1999 survey.This dataset represents the microlevelled total magnetic intensity (TMI) for the Kedgwick airborne magnetic survey in New Brunswick. Microlevelling reduces line-to-line inconsistencies and noise in the original survey data, providing a cleaner and more accurate representation of magnetic variations for geological interpretation. The dataset is provided in NB Stereographic Double, NAD83.The Mag_Miclev grid was created by applying microlevelling to the original TMI data from the Kedgwick 1999 survey and converting it to a grid. The final grid is provided in NB Stereographic Double, NAD83.Data created Sept 2025.",
 "name": "Geophysics_Aeromagnetic_Individual_Surveys/Kedgwick_TMI",
 "description": "A grid of microlevelled total magnetic intensity (TMI) for the Kedgwick 1999 survey.This dataset represents the microlevelled total magnetic intensity (TMI) for the Kedgwick airborne magnetic survey in New Brunswick. Microlevelling reduces line-to-line inconsistencies and noise in the original survey data, providing a cleaner and more accurate representation of magnetic variations for geological interpretation. The dataset is provided in NB Stereographic Double, NAD83.The Mag_Miclev grid was created by applying microlevelling to the original TMI data from the Kedgwick 1999 survey and converting it to a grid. The final grid is provided in NB Stereographic Double, NAD83.Data created Sept 2025.",
 "extent": {
  "xmin": 2403260,
  "ymin": 7608660,
  "xmax": 2465180,
  "ymax": 7669380,
  "spatialReference": {
   "wkid": 2036,
   "latestWkid": 2953
  }
 },
 "initialExtent": {
  "xmin": 2403260,
  "ymin": 7608660,
  "xmax": 2465180,
  "ymax": 7669380,
  "spatialReference": {
   "wkid": 2036,
   "latestWkid": 2953
  }
 },
 "fullExtent": {
  "xmin": 2403260,
  "ymin": 7608660,
  "xmax": 2465180,
  "ymax": 7669380,
  "spatialReference": {
   "wkid": 2036,
   "latestWkid": 2953
  }
 },
 "hasMultidimensions": false,
 "pixelSizeX": 40,
 "pixelSizeY": 40,
 "datasetFormat": "ER Mapper",
 "uncompressedSize": 9399456,
 "blockWidth": 1548,
 "blockHeight": 1,
 "compressionType": "None",
 "bandNames": [
  "Band_1"
 ],
 "allowCopy": true,
 "allowAnalysis": true,
 "bandCount": 1,
 "noDataValue": -999999,
 "noDataValues": [
  -999999
 ],
 "pixelType": "F32",
 "minPixelSize": 0,
 "maxPixelSize": 0,
 "copyrightText": "NB Dept of Natural Resources, GSB Section",
 "serviceDataType": "esriImageServiceDataTypeGeneric",
 "serviceSourceType": "esriImageServiceSourceTypeDataset",
 "minValues": [
  55148.8984375
 ],
 "maxValues": [
  55669.8203125
 ],
 "meanValues": [
  55286.568564061
 ],
 "stdvValues": [
  51.842879358601
 ],
 "objectIdField": "",
 "fields": [],
 "capabilities": "Image,Metadata,Mensuration",
 "defaultMosaicMethod": "Center",
 "allowedMosaicMethods": "",
 "sortField": "",
 "sortValue": null,
 "sortAscending": true,
 "mosaicOperator": "First",
 "defaultCompressionQuality": 75,
 "defaultResamplingMethod": "Bilinear",
 "maxImageHeight": 4100,
 "maxImageWidth": 15000,
 "allowRasterFunction": true,
 "rasterFunctionInfos": [
  {
   "name": "None",
   "description": "",
   "help": ""
  }
 ],
 "rasterTypeInfos": [
  {
   "name": "Raster Dataset",
   "description": "Supports all ArcGIS Raster Datasets",
   "help": ""
  }
 ],
 "mensurationCapabilities": "Basic",
 "hasHistograms": true,
 "hasColormap": false,
 "hasRasterAttributeTable": false,
 "minScale": 0,
 "maxScale": 0,
 "exportTilesAllowed": false,
 "supportsStatistics": false,
 "supportsAdvancedQueries": false,
 "editFieldsInfo": null,
 "ownershipBasedAccessControlForRasters": null,
 "allowComputeTiePoints": false,
 "useStandardizedQueries": true,
 "advancedQueryCapabilities": {
  "useStandardizedQueries": true,
  "supportsStatistics": false,
  "supportsOrderBy": false,
  "supportsDistinct": false,
  "supportsPagination": false
 },
 "spatialReference": {
  "wkid": 2036,
  "latestWkid": 2953
 }
}
