{
 "currentVersion": 10.91,
 "serviceDescription": "A grid of total magnetic intensity (TMI) from the Magaguadavic Lake 1991 airborne magnetic survey, reprocessed and projected to NB Stereographic Double, NAD83.This dataset contains the total magnetic intensity (TMI) measured during the Magaguadavic Lake Mag-EM 1991 airborne survey. TMI reflects variations in the Earth\u2019s magnetic field caused by changes in bedrock composition, structure, and magnetite content, making it a fundamental dataset for geological mapping and mineral exploration. As part of the 2025 reprocessing workflow, the magnetic data were microlevelled to remove acquisition artifacts and improve continuity between flight lines. The final TMI grid has been reprojected to the NB Stereographic Double coordinate system to ensure compatibility with the provincial high-resolution compilation.The dataset was produced by microlevelling the original TMI channel, converting the cleaned magnetic data into a continuous grid, and reprojecting the grid from its original NAD83 UTM Zone 19N coordinate system to NB Stereographic Double, NAD83.Data created Sept 2025.",
 "name": "Geophysics_Aeromagnetic_Individual_Surveys/Magaguadavic_TMI",
 "description": "A grid of total magnetic intensity (TMI) from the Magaguadavic Lake 1991 airborne magnetic survey, reprocessed and projected to NB Stereographic Double, NAD83.This dataset contains the total magnetic intensity (TMI) measured during the Magaguadavic Lake Mag-EM 1991 airborne survey. TMI reflects variations in the Earth\u2019s magnetic field caused by changes in bedrock composition, structure, and magnetite content, making it a fundamental dataset for geological mapping and mineral exploration. As part of the 2025 reprocessing workflow, the magnetic data were microlevelled to remove acquisition artifacts and improve continuity between flight lines. The final TMI grid has been reprojected to the NB Stereographic Double coordinate system to ensure compatibility with the provincial high-resolution compilation.The dataset was produced by microlevelling the original TMI channel, converting the cleaned magnetic data into a continuous grid, and reprojecting the grid from its original NAD83 UTM Zone 19N coordinate system to NB Stereographic Double, NAD83.Data created Sept 2025.",
 "extent": {
  "xmin": 2418210,
  "ymin": 7385850,
  "xmax": 2483910,
  "ymax": 7447770,
  "spatialReference": {
   "wkid": 2036,
   "latestWkid": 2953
  }
 },
 "initialExtent": {
  "xmin": 2418210,
  "ymin": 7385850,
  "xmax": 2483910,
  "ymax": 7447770,
  "spatialReference": {
   "wkid": 2036,
   "latestWkid": 2953
  }
 },
 "fullExtent": {
  "xmin": 2418210,
  "ymin": 7385850,
  "xmax": 2483910,
  "ymax": 7447770,
  "spatialReference": {
   "wkid": 2036,
   "latestWkid": 2953
  }
 },
 "hasMultidimensions": false,
 "pixelSizeX": 60,
 "pixelSizeY": 60,
 "datasetFormat": "ER Mapper",
 "uncompressedSize": 4520160,
 "blockWidth": 1095,
 "blockHeight": 1,
 "compressionType": "None",
 "bandNames": [
  "Band_1"
 ],
 "allowCopy": true,
 "allowAnalysis": true,
 "bandCount": 1,
 "noDataValue": -999999,
 "noDataValues": [
  -999999
 ],
 "pixelType": "F32",
 "minPixelSize": 0,
 "maxPixelSize": 0,
 "copyrightText": "NB Dept of Natural Resources, GSB Section",
 "serviceDataType": "esriImageServiceDataTypeGeneric",
 "serviceSourceType": "esriImageServiceSourceTypeDataset",
 "minValues": [
  55140.4921875
 ],
 "maxValues": [
  55849.484375
 ],
 "meanValues": [
  55334.318121385
 ],
 "stdvValues": [
  81.047688694889
 ],
 "objectIdField": "",
 "fields": [],
 "capabilities": "Image,Metadata,Mensuration",
 "defaultMosaicMethod": "Center",
 "allowedMosaicMethods": "",
 "sortField": "",
 "sortValue": null,
 "sortAscending": true,
 "mosaicOperator": "First",
 "defaultCompressionQuality": 75,
 "defaultResamplingMethod": "Bilinear",
 "maxImageHeight": 4100,
 "maxImageWidth": 15000,
 "allowRasterFunction": true,
 "rasterFunctionInfos": [
  {
   "name": "None",
   "description": "",
   "help": ""
  }
 ],
 "rasterTypeInfos": [
  {
   "name": "Raster Dataset",
   "description": "Supports all ArcGIS Raster Datasets",
   "help": ""
  }
 ],
 "mensurationCapabilities": "Basic",
 "hasHistograms": true,
 "hasColormap": false,
 "hasRasterAttributeTable": false,
 "minScale": 0,
 "maxScale": 0,
 "exportTilesAllowed": false,
 "supportsStatistics": false,
 "supportsAdvancedQueries": false,
 "editFieldsInfo": null,
 "ownershipBasedAccessControlForRasters": null,
 "allowComputeTiePoints": false,
 "useStandardizedQueries": true,
 "advancedQueryCapabilities": {
  "useStandardizedQueries": true,
  "supportsStatistics": false,
  "supportsOrderBy": false,
  "supportsDistinct": false,
  "supportsPagination": false
 },
 "spatialReference": {
  "wkid": 2036,
  "latestWkid": 2953
 }
}
