{
 "currentVersion": 10.91,
 "serviceDescription": "A grid showing the difference between BigT and total magnetic intensity (TMI) for the Marrtown 2004 surveyThis dataset represents the difference between BigT and TMI for the Marrtown airborne magnetic survey in New Brunswick. BigT is derived by converting TMI to magnetic field components and calculating the vector magnitude, and the difference with TMI highlights areas of potential remanent magnetization. The dataset is provided in NB Stereographic Double, NAD83.The grid was created from the Marrtown 2004 survey by microlevelling the TMI, calculating BigT from magnetic field components, and then subtracting the TMI values. The final grid is provided in NB Stereographic Double, NAD83.Data created Sept 2025.",
 "name": "Geophysics_Aeromagnetic_Individual_Surveys/Marrtown_BigT_TMI_diff",
 "description": "A grid showing the difference between BigT and total magnetic intensity (TMI) for the Marrtown 2004 surveyThis dataset represents the difference between BigT and TMI for the Marrtown airborne magnetic survey in New Brunswick. BigT is derived by converting TMI to magnetic field components and calculating the vector magnitude, and the difference with TMI highlights areas of potential remanent magnetization. The dataset is provided in NB Stereographic Double, NAD83.The grid was created from the Marrtown 2004 survey by microlevelling the TMI, calculating BigT from magnetic field components, and then subtracting the TMI values. The final grid is provided in NB Stereographic Double, NAD83.Data created Sept 2025.",
 "extent": {
  "xmin": 2532870,
  "ymin": 7357590,
  "xmax": 2609010,
  "ymax": 7478070,
  "spatialReference": {
   "wkid": 2036,
   "latestWkid": 2953
  }
 },
 "initialExtent": {
  "xmin": 2532870,
  "ymin": 7357590,
  "xmax": 2609010,
  "ymax": 7478070,
  "spatialReference": {
   "wkid": 2036,
   "latestWkid": 2953
  }
 },
 "fullExtent": {
  "xmin": 2532870,
  "ymin": 7357590,
  "xmax": 2609010,
  "ymax": 7478070,
  "spatialReference": {
   "wkid": 2036,
   "latestWkid": 2953
  }
 },
 "hasMultidimensions": false,
 "pixelSizeX": 60,
 "pixelSizeY": 60,
 "datasetFormat": "ER Mapper",
 "uncompressedSize": 10192608,
 "blockWidth": 1269,
 "blockHeight": 1,
 "compressionType": "None",
 "bandNames": [
  "Band_1"
 ],
 "allowCopy": true,
 "allowAnalysis": true,
 "bandCount": 1,
 "noDataValue": -999999,
 "noDataValues": [
  -999999
 ],
 "pixelType": "F32",
 "minPixelSize": 0,
 "maxPixelSize": 0,
 "copyrightText": "NB Dept of Natural Resources, GSB Section",
 "serviceDataType": "esriImageServiceDataTypeGeneric",
 "serviceSourceType": "esriImageServiceSourceTypeDataset",
 "minValues": [
  -0.0031192842870951
 ],
 "maxValues": [
  23.168563842773
 ],
 "meanValues": [
  0.15623906385192
 ],
 "stdvValues": [
  0.50361208498981
 ],
 "objectIdField": "",
 "fields": [],
 "capabilities": "Image,Metadata,Mensuration",
 "defaultMosaicMethod": "Center",
 "allowedMosaicMethods": "",
 "sortField": "",
 "sortValue": null,
 "sortAscending": true,
 "mosaicOperator": "First",
 "defaultCompressionQuality": 75,
 "defaultResamplingMethod": "Bilinear",
 "maxImageHeight": 4100,
 "maxImageWidth": 15000,
 "allowRasterFunction": true,
 "rasterFunctionInfos": [
  {
   "name": "None",
   "description": "",
   "help": ""
  }
 ],
 "rasterTypeInfos": [
  {
   "name": "Raster Dataset",
   "description": "Supports all ArcGIS Raster Datasets",
   "help": ""
  }
 ],
 "mensurationCapabilities": "Basic",
 "hasHistograms": true,
 "hasColormap": false,
 "hasRasterAttributeTable": false,
 "minScale": 0,
 "maxScale": 0,
 "exportTilesAllowed": false,
 "supportsStatistics": false,
 "supportsAdvancedQueries": false,
 "editFieldsInfo": null,
 "ownershipBasedAccessControlForRasters": null,
 "allowComputeTiePoints": false,
 "useStandardizedQueries": true,
 "advancedQueryCapabilities": {
  "useStandardizedQueries": true,
  "supportsStatistics": false,
  "supportsOrderBy": false,
  "supportsDistinct": false,
  "supportsPagination": false
 },
 "spatialReference": {
  "wkid": 2036,
  "latestWkid": 2953
 }
}
