{
 "currentVersion": 10.91,
 "serviceDescription": "A grid of total magnetic intensity (TMI) from the Marrtown 2004 airborne magnetic survey, reprocessed and projected to NB Stereographic Double, NAD83.This dataset represents the total magnetic intensity (TMI) acquired during the Marrtown 2004 airborne magnetic survey. TMI captures variations in the Earth\u2019s magnetic field related to changes in lithology, structure, and magnetic mineral content, and is a key dataset for interpreting local and regional geology. As part of the 2025 reprocessing workflow, the original magnetic data were microlevelled to reduce survey noise and line-to-line artifacts. The cleaned dataset was then gridded and reprojected to NB Stereographic Double to support integration with New Brunswick\u2019s high-resolution magnetic compilation.The TMI grid was generated by microlevelling the original TMI channel, converting the corrected magnetic data into a grid, and reprojecting it from the original NAD83 UTM Zone 19N coordinate system into NB Stereographic Double, NAD83.Data created Sept 2025.",
 "name": "Geophysics_Aeromagnetic_Individual_Surveys/Marrtown_TMI",
 "description": "A grid of total magnetic intensity (TMI) from the Marrtown 2004 airborne magnetic survey, reprocessed and projected to NB Stereographic Double, NAD83.This dataset represents the total magnetic intensity (TMI) acquired during the Marrtown 2004 airborne magnetic survey. TMI captures variations in the Earth\u2019s magnetic field related to changes in lithology, structure, and magnetic mineral content, and is a key dataset for interpreting local and regional geology. As part of the 2025 reprocessing workflow, the original magnetic data were microlevelled to reduce survey noise and line-to-line artifacts. The cleaned dataset was then gridded and reprojected to NB Stereographic Double to support integration with New Brunswick\u2019s high-resolution magnetic compilation.The TMI grid was generated by microlevelling the original TMI channel, converting the corrected magnetic data into a grid, and reprojecting it from the original NAD83 UTM Zone 19N coordinate system into NB Stereographic Double, NAD83.Data created Sept 2025.",
 "extent": {
  "xmin": 2532870,
  "ymin": 7357590,
  "xmax": 2609010,
  "ymax": 7478070,
  "spatialReference": {
   "wkid": 2036,
   "latestWkid": 2953
  }
 },
 "initialExtent": {
  "xmin": 2532870,
  "ymin": 7357590,
  "xmax": 2609010,
  "ymax": 7478070,
  "spatialReference": {
   "wkid": 2036,
   "latestWkid": 2953
  }
 },
 "fullExtent": {
  "xmin": 2532870,
  "ymin": 7357590,
  "xmax": 2609010,
  "ymax": 7478070,
  "spatialReference": {
   "wkid": 2036,
   "latestWkid": 2953
  }
 },
 "hasMultidimensions": false,
 "pixelSizeX": 60,
 "pixelSizeY": 60,
 "datasetFormat": "ER Mapper",
 "uncompressedSize": 10192608,
 "blockWidth": 1269,
 "blockHeight": 1,
 "compressionType": "None",
 "bandNames": [
  "Band_1"
 ],
 "allowCopy": true,
 "allowAnalysis": true,
 "bandCount": 1,
 "noDataValue": -999999,
 "noDataValues": [
  -999999
 ],
 "pixelType": "F32",
 "minPixelSize": 0,
 "maxPixelSize": 0,
 "copyrightText": "NB Dept of Natural Resources, GSB Section",
 "serviceDataType": "esriImageServiceDataTypeGeneric",
 "serviceSourceType": "esriImageServiceSourceTypeDataset",
 "minValues": [
  53507.2578125
 ],
 "maxValues": [
  56434.5703125
 ],
 "meanValues": [
  53927.130747015
 ],
 "stdvValues": [
  131.71564124174
 ],
 "objectIdField": "",
 "fields": [],
 "capabilities": "Image,Metadata,Mensuration",
 "defaultMosaicMethod": "Center",
 "allowedMosaicMethods": "",
 "sortField": "",
 "sortValue": null,
 "sortAscending": true,
 "mosaicOperator": "First",
 "defaultCompressionQuality": 75,
 "defaultResamplingMethod": "Bilinear",
 "maxImageHeight": 4100,
 "maxImageWidth": 15000,
 "allowRasterFunction": true,
 "rasterFunctionInfos": [
  {
   "name": "None",
   "description": "",
   "help": ""
  }
 ],
 "rasterTypeInfos": [
  {
   "name": "Raster Dataset",
   "description": "Supports all ArcGIS Raster Datasets",
   "help": ""
  }
 ],
 "mensurationCapabilities": "Basic",
 "hasHistograms": true,
 "hasColormap": false,
 "hasRasterAttributeTable": false,
 "minScale": 0,
 "maxScale": 0,
 "exportTilesAllowed": false,
 "supportsStatistics": false,
 "supportsAdvancedQueries": false,
 "editFieldsInfo": null,
 "ownershipBasedAccessControlForRasters": null,
 "allowComputeTiePoints": false,
 "useStandardizedQueries": true,
 "advancedQueryCapabilities": {
  "useStandardizedQueries": true,
  "supportsStatistics": false,
  "supportsOrderBy": false,
  "supportsDistinct": false,
  "supportsPagination": false
 },
 "spatialReference": {
  "wkid": 2036,
  "latestWkid": 2953
 }
}
