{
 "currentVersion": 10.91,
 "serviceDescription": "A grid of total magnetic intensity (TMI) from the Bathurst 1988 airborne magnetic survey, reprocessed and projected to NB Stereographic Double, NAD83.This dataset represents the total magnetic intensity (TMI) measured during the 1988 Bathurst airborne magnetic survey. TMI provides a direct measure of the Earth's magnetic field strength, reflecting variations in bedrock magnetization associated with lithological changes, faults, alteration zones, and mineralized systems within the Bathurst Mining Camp. As part of the 2025 reprocessing effort, the original magnetic channel was microlevelled to remove line-to-line artefacts and noise, improving the consistency and interpretability of the dataset. The resulting gridded TMI data were then reprojected to the NB Stereographic Double coordinate system for seamless integration into the province-wide high-resolution compilation.The TMI grid was produced by microlevelling the original magnetic data (Mag_miclev), gridding the corrected TMI, and reprojecting it from the original NAD83 UTM Zone 19N coordinate system into NB Stereographic Double, NAD83.Data created Sept 2025.",
 "name": "Geophysics_Aeromagnetic_Individual_Surveys/NBBathurst_TMI",
 "description": "A grid of total magnetic intensity (TMI) from the Bathurst 1988 airborne magnetic survey, reprocessed and projected to NB Stereographic Double, NAD83.This dataset represents the total magnetic intensity (TMI) measured during the 1988 Bathurst airborne magnetic survey. TMI provides a direct measure of the Earth's magnetic field strength, reflecting variations in bedrock magnetization associated with lithological changes, faults, alteration zones, and mineralized systems within the Bathurst Mining Camp. As part of the 2025 reprocessing effort, the original magnetic channel was microlevelled to remove line-to-line artefacts and noise, improving the consistency and interpretability of the dataset. The resulting gridded TMI data were then reprojected to the NB Stereographic Double coordinate system for seamless integration into the province-wide high-resolution compilation.The TMI grid was produced by microlevelling the original magnetic data (Mag_miclev), gridding the corrected TMI, and reprojecting it from the original NAD83 UTM Zone 19N coordinate system into NB Stereographic Double, NAD83.Data created Sept 2025.",
 "extent": {
  "xmin": 2458410,
  "ymin": 7548390,
  "xmax": 2561430,
  "ymax": 7644990,
  "spatialReference": {
   "wkid": 2036,
   "latestWkid": 2953
  }
 },
 "initialExtent": {
  "xmin": 2458410,
  "ymin": 7548390,
  "xmax": 2561430,
  "ymax": 7644990,
  "spatialReference": {
   "wkid": 2036,
   "latestWkid": 2953
  }
 },
 "fullExtent": {
  "xmin": 2458410,
  "ymin": 7548390,
  "xmax": 2561430,
  "ymax": 7644990,
  "spatialReference": {
   "wkid": 2036,
   "latestWkid": 2953
  }
 },
 "hasMultidimensions": false,
 "pixelSizeX": 60,
 "pixelSizeY": 60,
 "datasetFormat": "ER Mapper",
 "uncompressedSize": 11057480,
 "blockWidth": 1717,
 "blockHeight": 1,
 "compressionType": "None",
 "bandNames": [
  "Band_1"
 ],
 "allowCopy": true,
 "allowAnalysis": true,
 "bandCount": 1,
 "noDataValue": -999999,
 "noDataValues": [
  -999999
 ],
 "pixelType": "F32",
 "minPixelSize": 0,
 "maxPixelSize": 0,
 "copyrightText": "NB Dept of Natural Resources, GSB Section",
 "serviceDataType": "esriImageServiceDataTypeGeneric",
 "serviceSourceType": "esriImageServiceSourceTypeDataset",
 "minValues": [
  47334.55859375
 ],
 "maxValues": [
  58763.35546875
 ],
 "meanValues": [
  55798.773667104
 ],
 "stdvValues": [
  180.28759752929
 ],
 "objectIdField": "",
 "fields": [],
 "capabilities": "Image,Metadata,Mensuration",
 "defaultMosaicMethod": "Center",
 "allowedMosaicMethods": "",
 "sortField": "",
 "sortValue": null,
 "sortAscending": true,
 "mosaicOperator": "First",
 "defaultCompressionQuality": 75,
 "defaultResamplingMethod": "Bilinear",
 "maxImageHeight": 4100,
 "maxImageWidth": 15000,
 "allowRasterFunction": true,
 "rasterFunctionInfos": [
  {
   "name": "None",
   "description": "",
   "help": ""
  }
 ],
 "rasterTypeInfos": [
  {
   "name": "Raster Dataset",
   "description": "Supports all ArcGIS Raster Datasets",
   "help": ""
  }
 ],
 "mensurationCapabilities": "Basic",
 "hasHistograms": true,
 "hasColormap": false,
 "hasRasterAttributeTable": false,
 "minScale": 0,
 "maxScale": 0,
 "exportTilesAllowed": false,
 "supportsStatistics": false,
 "supportsAdvancedQueries": false,
 "editFieldsInfo": null,
 "ownershipBasedAccessControlForRasters": null,
 "allowComputeTiePoints": false,
 "useStandardizedQueries": true,
 "advancedQueryCapabilities": {
  "useStandardizedQueries": true,
  "supportsStatistics": false,
  "supportsOrderBy": false,
  "supportsDistinct": false,
  "supportsPagination": false
 },
 "spatialReference": {
  "wkid": 2036,
  "latestWkid": 2953
 }
}
