{
 "currentVersion": 10.91,
 "serviceDescription": "A grid of total magnetic intensity (TMI) from the Restigouche 1997 airborne magnetic survey, reprocessed and projected to NB Stereographic Double, NAD83.This dataset represents the total magnetic intensity (TMI) acquired during the 1997 Restigouche Mag-EM survey. TMI captures variations in the Earth\u2019s magnetic field linked to differences in bedrock magnetization, helping delineate lithological contacts, faults, and areas of potential mineralization. As part of the 2025 reprocessing workflow, the original magnetic channel was microlevelled to correct line-to-line mismatches, noise, and levelling artefacts, resulting in a cleaner and more geologically coherent dataset. The final TMI grid was then reprojected into the NB Stereographic Double coordinate system for seamless integration with the provincial high-resolution compilation.The TMI grid was generated by microlevelling the original magnetic channel, converting the corrected data into a continuous grid, and reprojecting it from NAD83 UTM Zone 19N to NB Stereographic Double, NAD83.Data created Sept 2025.",
 "name": "Geophysics_Aeromagnetic_Individual_Surveys/Restigouche_TMI",
 "description": "A grid of total magnetic intensity (TMI) from the Restigouche 1997 airborne magnetic survey, reprocessed and projected to NB Stereographic Double, NAD83.This dataset represents the total magnetic intensity (TMI) acquired during the 1997 Restigouche Mag-EM survey. TMI captures variations in the Earth\u2019s magnetic field linked to differences in bedrock magnetization, helping delineate lithological contacts, faults, and areas of potential mineralization. As part of the 2025 reprocessing workflow, the original magnetic channel was microlevelled to correct line-to-line mismatches, noise, and levelling artefacts, resulting in a cleaner and more geologically coherent dataset. The final TMI grid was then reprojected into the NB Stereographic Double coordinate system for seamless integration with the provincial high-resolution compilation.The TMI grid was generated by microlevelling the original magnetic channel, converting the corrected data into a continuous grid, and reprojecting it from NAD83 UTM Zone 19N to NB Stereographic Double, NAD83.Data created Sept 2025.",
 "extent": {
  "xmin": 2441860,
  "ymin": 7607540,
  "xmax": 2515420,
  "ymax": 7670340,
  "spatialReference": {
   "wkid": 2036,
   "latestWkid": 2953
  }
 },
 "initialExtent": {
  "xmin": 2441860,
  "ymin": 7607540,
  "xmax": 2515420,
  "ymax": 7670340,
  "spatialReference": {
   "wkid": 2036,
   "latestWkid": 2953
  }
 },
 "fullExtent": {
  "xmin": 2441860,
  "ymin": 7607540,
  "xmax": 2515420,
  "ymax": 7670340,
  "spatialReference": {
   "wkid": 2036,
   "latestWkid": 2953
  }
 },
 "hasMultidimensions": false,
 "pixelSizeX": 40,
 "pixelSizeY": 40,
 "datasetFormat": "ER Mapper",
 "uncompressedSize": 11548920,
 "blockWidth": 1839,
 "blockHeight": 1,
 "compressionType": "None",
 "bandNames": [
  "Band_1"
 ],
 "allowCopy": true,
 "allowAnalysis": true,
 "bandCount": 1,
 "noDataValue": -999999,
 "noDataValues": [
  -999999
 ],
 "pixelType": "F32",
 "minPixelSize": 0,
 "maxPixelSize": 0,
 "copyrightText": "NB Dept of Natural Resources, GSB Section",
 "serviceDataType": "esriImageServiceDataTypeGeneric",
 "serviceSourceType": "esriImageServiceSourceTypeDataset",
 "minValues": [
  54575.3828125
 ],
 "maxValues": [
  56338.51171875
 ],
 "meanValues": [
  55371.102565146
 ],
 "stdvValues": [
  98.59505345224
 ],
 "objectIdField": "",
 "fields": [],
 "capabilities": "Image,Metadata,Mensuration",
 "defaultMosaicMethod": "Center",
 "allowedMosaicMethods": "",
 "sortField": "",
 "sortValue": null,
 "sortAscending": true,
 "mosaicOperator": "First",
 "defaultCompressionQuality": 75,
 "defaultResamplingMethod": "Bilinear",
 "maxImageHeight": 4100,
 "maxImageWidth": 15000,
 "allowRasterFunction": true,
 "rasterFunctionInfos": [
  {
   "name": "None",
   "description": "",
   "help": ""
  }
 ],
 "rasterTypeInfos": [
  {
   "name": "Raster Dataset",
   "description": "Supports all ArcGIS Raster Datasets",
   "help": ""
  }
 ],
 "mensurationCapabilities": "Basic",
 "hasHistograms": true,
 "hasColormap": false,
 "hasRasterAttributeTable": false,
 "minScale": 0,
 "maxScale": 0,
 "exportTilesAllowed": false,
 "supportsStatistics": false,
 "supportsAdvancedQueries": false,
 "editFieldsInfo": null,
 "ownershipBasedAccessControlForRasters": null,
 "allowComputeTiePoints": false,
 "useStandardizedQueries": true,
 "advancedQueryCapabilities": {
  "useStandardizedQueries": true,
  "supportsStatistics": false,
  "supportsOrderBy": false,
  "supportsDistinct": false,
  "supportsPagination": false
 },
 "spatialReference": {
  "wkid": 2036,
  "latestWkid": 2953
 }
}
