{
 "currentVersion": 10.91,
 "serviceDescription": "A grid of BigT (total magnetic field magnitude) for the SWN 2010 survey.This dataset represents BigT, the total magnetic field magnitude, for the SWN airborne magnetic survey in southern New Brunswick. BigT is calculated by converting total magnetic intensity (TMI) to magnetic field components (X, Y, Z) and computing the vector magnitude, providing a clear overview of magnetic anomalies and sources. The dataset is provided in NB Stereographic Double, NAD83.The BigT grid was created from the SWN 2010 survey by microlevelling the TMI (Mag_Miclev), converting it to magnetic field components, and calculating the vector magnitude (√(X² + Y² + Z²)). The final grid is provided in NB Stereographic Double, NAD83.Data created Sept 2025.",
 "name": "Geophysics_Aeromagnetic_Individual_Surveys/SWN_BigT",
 "description": "A grid of BigT (total magnetic field magnitude) for the SWN 2010 survey.This dataset represents BigT, the total magnetic field magnitude, for the SWN airborne magnetic survey in southern New Brunswick. BigT is calculated by converting total magnetic intensity (TMI) to magnetic field components (X, Y, Z) and computing the vector magnitude, providing a clear overview of magnetic anomalies and sources. The dataset is provided in NB Stereographic Double, NAD83.The BigT grid was created from the SWN 2010 survey by microlevelling the TMI (Mag_Miclev), converting it to magnetic field components, and calculating the vector magnitude (√(X² + Y² + Z²)). The final grid is provided in NB Stereographic Double, NAD83.Data created Sept 2025.",
 "extent": {
  "xmin": 2433560,
  "ymin": 7378280,
  "xmax": 2665400,
  "ymax": 7556520,
  "spatialReference": {
   "wkid": 2036,
   "latestWkid": 2953
  }
 },
 "initialExtent": {
  "xmin": 2433560,
  "ymin": 7378280,
  "xmax": 2665400,
  "ymax": 7556520,
  "spatialReference": {
   "wkid": 2036,
   "latestWkid": 2953
  }
 },
 "fullExtent": {
  "xmin": 2433560,
  "ymin": 7378280,
  "xmax": 2665400,
  "ymax": 7556520,
  "spatialReference": {
   "wkid": 2036,
   "latestWkid": 2953
  }
 },
 "hasMultidimensions": false,
 "pixelSizeX": 80,
 "pixelSizeY": 80,
 "datasetFormat": "ER Mapper",
 "uncompressedSize": 25826976,
 "blockWidth": 2898,
 "blockHeight": 1,
 "compressionType": "None",
 "bandNames": [
  "Band_1"
 ],
 "allowCopy": true,
 "allowAnalysis": true,
 "bandCount": 1,
 "noDataValue": -999999,
 "noDataValues": [
  -999999
 ],
 "pixelType": "F32",
 "minPixelSize": 0,
 "maxPixelSize": 0,
 "copyrightText": "NB Dept of Natural Resources, GSB Section",
 "serviceDataType": "esriImageServiceDataTypeGeneric",
 "serviceSourceType": "esriImageServiceSourceTypeDataset",
 "minValues": [
  53073.40625
 ],
 "maxValues": [
  55339.8125
 ],
 "meanValues": [
  53406.396980929
 ],
 "stdvValues": [
  124.18997531243
 ],
 "objectIdField": "",
 "fields": [],
 "capabilities": "Image,Metadata,Mensuration",
 "defaultMosaicMethod": "Center",
 "allowedMosaicMethods": "",
 "sortField": "",
 "sortValue": null,
 "sortAscending": true,
 "mosaicOperator": "First",
 "defaultCompressionQuality": 75,
 "defaultResamplingMethod": "Bilinear",
 "maxImageHeight": 4100,
 "maxImageWidth": 15000,
 "allowRasterFunction": true,
 "rasterFunctionInfos": [
  {
   "name": "None",
   "description": "",
   "help": ""
  }
 ],
 "rasterTypeInfos": [
  {
   "name": "Raster Dataset",
   "description": "Supports all ArcGIS Raster Datasets",
   "help": ""
  }
 ],
 "mensurationCapabilities": "Basic",
 "hasHistograms": true,
 "hasColormap": false,
 "hasRasterAttributeTable": false,
 "minScale": 0,
 "maxScale": 0,
 "exportTilesAllowed": false,
 "supportsStatistics": false,
 "supportsAdvancedQueries": false,
 "editFieldsInfo": null,
 "ownershipBasedAccessControlForRasters": null,
 "allowComputeTiePoints": false,
 "useStandardizedQueries": true,
 "advancedQueryCapabilities": {
  "useStandardizedQueries": true,
  "supportsStatistics": false,
  "supportsOrderBy": false,
  "supportsDistinct": false,
  "supportsPagination": false
 },
 "spatialReference": {
  "wkid": 2036,
  "latestWkid": 2953
 }
}
