{
 "currentVersion": 10.91,
 "serviceDescription": "A grid of the reduction-to-the-pole (RTP) magnetic intensity for the Tobique River 1985 survey.This dataset represents the reduction-to-the-pole (RTP) of total magnetic intensity for the Tobique River airborne magnetic survey in northern New Brunswick. RTP processing repositions magnetic anomalies directly over their causative sources, improving the clarity of subsurface structures and supporting geological interpretation. The dataset is provided in NB Stereographic Double, NAD83.The RTP grid was created from the Tobique River 1985 survey by microlevelling the TMI, converting it to a grid, and applying reduction-to-the-pole processing using magnetic inclination and declination from the IGRF model. The final grid is provided in NB Stereographic Double, NAD83.Data created Sept 2025.",
 "name": "Geophysics_Aeromagnetic_Individual_Surveys/Tobique_RTP",
 "description": "A grid of the reduction-to-the-pole (RTP) magnetic intensity for the Tobique River 1985 survey.This dataset represents the reduction-to-the-pole (RTP) of total magnetic intensity for the Tobique River airborne magnetic survey in northern New Brunswick. RTP processing repositions magnetic anomalies directly over their causative sources, improving the clarity of subsurface structures and supporting geological interpretation. The dataset is provided in NB Stereographic Double, NAD83.The RTP grid was created from the Tobique River 1985 survey by microlevelling the TMI, converting it to a grid, and applying reduction-to-the-pole processing using magnetic inclination and declination from the IGRF model. The final grid is provided in NB Stereographic Double, NAD83.Data created Sept 2025.",
 "extent": {
  "xmin": 2399490,
  "ymin": 7525050,
  "xmax": 2487330,
  "ymax": 7587150,
  "spatialReference": {
   "wkid": 2036,
   "latestWkid": 2953
  }
 },
 "initialExtent": {
  "xmin": 2399490,
  "ymin": 7525050,
  "xmax": 2487330,
  "ymax": 7587150,
  "spatialReference": {
   "wkid": 2036,
   "latestWkid": 2953
  }
 },
 "fullExtent": {
  "xmin": 2399490,
  "ymin": 7525050,
  "xmax": 2487330,
  "ymax": 7587150,
  "spatialReference": {
   "wkid": 2036,
   "latestWkid": 2953
  }
 },
 "hasMultidimensions": false,
 "pixelSizeX": 60,
 "pixelSizeY": 60,
 "datasetFormat": "ER Mapper",
 "uncompressedSize": 6060960,
 "blockWidth": 1464,
 "blockHeight": 1,
 "compressionType": "None",
 "bandNames": [
  "Band_1"
 ],
 "allowCopy": true,
 "allowAnalysis": true,
 "bandCount": 1,
 "noDataValue": -999999,
 "noDataValues": [
  -999999
 ],
 "pixelType": "F32",
 "minPixelSize": 0,
 "maxPixelSize": 0,
 "copyrightText": "NB Dept of Natural Resources, GSB Section",
 "serviceDataType": "esriImageServiceDataTypeGeneric",
 "serviceSourceType": "esriImageServiceSourceTypeDataset",
 "minValues": [
  55879.3515625
 ],
 "maxValues": [
  57670.22265625
 ],
 "meanValues": [
  56275.034816109
 ],
 "stdvValues": [
  158.58130363622
 ],
 "objectIdField": "",
 "fields": [],
 "capabilities": "Image,Metadata,Mensuration",
 "defaultMosaicMethod": "Center",
 "allowedMosaicMethods": "",
 "sortField": "",
 "sortValue": null,
 "sortAscending": true,
 "mosaicOperator": "First",
 "defaultCompressionQuality": 75,
 "defaultResamplingMethod": "Bilinear",
 "maxImageHeight": 4100,
 "maxImageWidth": 15000,
 "allowRasterFunction": true,
 "rasterFunctionInfos": [
  {
   "name": "None",
   "description": "",
   "help": ""
  }
 ],
 "rasterTypeInfos": [
  {
   "name": "Raster Dataset",
   "description": "Supports all ArcGIS Raster Datasets",
   "help": ""
  }
 ],
 "mensurationCapabilities": "Basic",
 "hasHistograms": true,
 "hasColormap": false,
 "hasRasterAttributeTable": false,
 "minScale": 0,
 "maxScale": 0,
 "exportTilesAllowed": false,
 "supportsStatistics": false,
 "supportsAdvancedQueries": false,
 "editFieldsInfo": null,
 "ownershipBasedAccessControlForRasters": null,
 "allowComputeTiePoints": false,
 "useStandardizedQueries": true,
 "advancedQueryCapabilities": {
  "useStandardizedQueries": true,
  "supportsStatistics": false,
  "supportsOrderBy": false,
  "supportsDistinct": false,
  "supportsPagination": false
 },
 "spatialReference": {
  "wkid": 2036,
  "latestWkid": 2953
 }
}
