{
 "currentVersion": 10.91,
 "serviceDescription": "A grid of the first vertical derivative of the reduction-to-the-pole (RTP) magnetic intensity for the Tobique River 1985 survey.his dataset represents the first vertical derivative of the RTP magnetic intensity for the Tobique River airborne magnetic survey in northern New Brunswick. The RTP_1VD emphasizes near-surface magnetic sources and sharpens anomaly edges, aiding detailed geological and structural interpretation. The dataset is provided in NB Stereographic Double, NAD83.The grid was created from the Tobique River 1985 survey by microlevelling the TMI, applying reduction-to-the-pole processing, and then calculating the first vertical derivative of the RTP grid. The final grid is provided in NB Stereographic Double, NAD83.Data created Sept 2025.",
 "name": "Geophysics_Aeromagnetic_Individual_Surveys/Tobique_RTP_1VD",
 "description": "A grid of the first vertical derivative of the reduction-to-the-pole (RTP) magnetic intensity for the Tobique River 1985 survey.his dataset represents the first vertical derivative of the RTP magnetic intensity for the Tobique River airborne magnetic survey in northern New Brunswick. The RTP_1VD emphasizes near-surface magnetic sources and sharpens anomaly edges, aiding detailed geological and structural interpretation. The dataset is provided in NB Stereographic Double, NAD83.The grid was created from the Tobique River 1985 survey by microlevelling the TMI, applying reduction-to-the-pole processing, and then calculating the first vertical derivative of the RTP grid. The final grid is provided in NB Stereographic Double, NAD83.Data created Sept 2025.",
 "extent": {
  "xmin": 2399490,
  "ymin": 7525050,
  "xmax": 2487330,
  "ymax": 7587150,
  "spatialReference": {
   "wkid": 2036,
   "latestWkid": 2953
  }
 },
 "initialExtent": {
  "xmin": 2399490,
  "ymin": 7525050,
  "xmax": 2487330,
  "ymax": 7587150,
  "spatialReference": {
   "wkid": 2036,
   "latestWkid": 2953
  }
 },
 "fullExtent": {
  "xmin": 2399490,
  "ymin": 7525050,
  "xmax": 2487330,
  "ymax": 7587150,
  "spatialReference": {
   "wkid": 2036,
   "latestWkid": 2953
  }
 },
 "hasMultidimensions": false,
 "pixelSizeX": 60,
 "pixelSizeY": 60,
 "datasetFormat": "ER Mapper",
 "uncompressedSize": 6060960,
 "blockWidth": 1464,
 "blockHeight": 1,
 "compressionType": "None",
 "bandNames": [
  "Band_1"
 ],
 "allowCopy": true,
 "allowAnalysis": true,
 "bandCount": 1,
 "noDataValue": -999999,
 "noDataValues": [
  -999999
 ],
 "pixelType": "F32",
 "minPixelSize": 0,
 "maxPixelSize": 0,
 "copyrightText": "NB Dept of Natural Resources, GSB Section",
 "serviceDataType": "esriImageServiceDataTypeGeneric",
 "serviceSourceType": "esriImageServiceSourceTypeDataset",
 "minValues": [
  -2.6970181465149
 ],
 "maxValues": [
  7.8399987220764
 ],
 "meanValues": [
  -0.0019688473943585
 ],
 "stdvValues": [
  0.17252908331154
 ],
 "objectIdField": "",
 "fields": [],
 "capabilities": "Image,Metadata,Mensuration",
 "defaultMosaicMethod": "Center",
 "allowedMosaicMethods": "",
 "sortField": "",
 "sortValue": null,
 "sortAscending": true,
 "mosaicOperator": "First",
 "defaultCompressionQuality": 75,
 "defaultResamplingMethod": "Bilinear",
 "maxImageHeight": 4100,
 "maxImageWidth": 15000,
 "allowRasterFunction": true,
 "rasterFunctionInfos": [
  {
   "name": "None",
   "description": "",
   "help": ""
  }
 ],
 "rasterTypeInfos": [
  {
   "name": "Raster Dataset",
   "description": "Supports all ArcGIS Raster Datasets",
   "help": ""
  }
 ],
 "mensurationCapabilities": "Basic",
 "hasHistograms": true,
 "hasColormap": false,
 "hasRasterAttributeTable": false,
 "minScale": 0,
 "maxScale": 0,
 "exportTilesAllowed": false,
 "supportsStatistics": false,
 "supportsAdvancedQueries": false,
 "editFieldsInfo": null,
 "ownershipBasedAccessControlForRasters": null,
 "allowComputeTiePoints": false,
 "useStandardizedQueries": true,
 "advancedQueryCapabilities": {
  "useStandardizedQueries": true,
  "supportsStatistics": false,
  "supportsOrderBy": false,
  "supportsDistinct": false,
  "supportsPagination": false
 },
 "spatialReference": {
  "wkid": 2036,
  "latestWkid": 2953
 }
}
