{
 "currentVersion": 10.91,
 "serviceDescription": "A grid of total magnetic intensity (TMI) from the 1985 Tobique River airborne magnetic survey, reprocessed and projected to NB Stereographic Double, NAD83.This dataset contains the total magnetic intensity (TMI) data acquired during the 1985 Tobique River airborne magnetic survey. TMI reflects variations in the Earth's magnetic field caused by differences in magnetic mineral content and bedrock magnetization, making it valuable for mapping lithological boundaries, structural features, and potential mineralized zones. As part of the 2025 reprocessing work, the original magnetic data were microlevelled to reduce line noise and levelling inconsistencies, improving the clarity and continuity of geological patterns. The resulting TMI grid was then reprojected to the NB Stereographic Double coordinate system to ensure consistency with New Brunswick\u2019s high-resolution magnetic compilation.The TMI grid was produced by microlevelling the original TMI data (Mag_miclev), gridding the corrected magnetic values, and reprojecting the dataset from its original NAD83 UTM Zone 19N coordinates into NB Stereographic Double, NAD83.Data created Sept 2025.",
 "name": "Geophysics_Aeromagnetic_Individual_Surveys/Tobique_TMI",
 "description": "A grid of total magnetic intensity (TMI) from the 1985 Tobique River airborne magnetic survey, reprocessed and projected to NB Stereographic Double, NAD83.This dataset contains the total magnetic intensity (TMI) data acquired during the 1985 Tobique River airborne magnetic survey. TMI reflects variations in the Earth's magnetic field caused by differences in magnetic mineral content and bedrock magnetization, making it valuable for mapping lithological boundaries, structural features, and potential mineralized zones. As part of the 2025 reprocessing work, the original magnetic data were microlevelled to reduce line noise and levelling inconsistencies, improving the clarity and continuity of geological patterns. The resulting TMI grid was then reprojected to the NB Stereographic Double coordinate system to ensure consistency with New Brunswick\u2019s high-resolution magnetic compilation.The TMI grid was produced by microlevelling the original TMI data (Mag_miclev), gridding the corrected magnetic values, and reprojecting the dataset from its original NAD83 UTM Zone 19N coordinates into NB Stereographic Double, NAD83.Data created Sept 2025.",
 "extent": {
  "xmin": 2399490,
  "ymin": 7525050,
  "xmax": 2487330,
  "ymax": 7587150,
  "spatialReference": {
   "wkid": 2036,
   "latestWkid": 2953
  }
 },
 "initialExtent": {
  "xmin": 2399490,
  "ymin": 7525050,
  "xmax": 2487330,
  "ymax": 7587150,
  "spatialReference": {
   "wkid": 2036,
   "latestWkid": 2953
  }
 },
 "fullExtent": {
  "xmin": 2399490,
  "ymin": 7525050,
  "xmax": 2487330,
  "ymax": 7587150,
  "spatialReference": {
   "wkid": 2036,
   "latestWkid": 2953
  }
 },
 "hasMultidimensions": false,
 "pixelSizeX": 60,
 "pixelSizeY": 60,
 "datasetFormat": "ER Mapper",
 "uncompressedSize": 6060960,
 "blockWidth": 1464,
 "blockHeight": 1,
 "compressionType": "None",
 "bandNames": [
  "Band_1"
 ],
 "allowCopy": true,
 "allowAnalysis": true,
 "bandCount": 1,
 "noDataValue": -999999,
 "noDataValues": [
  -999999
 ],
 "pixelType": "F32",
 "minPixelSize": 0,
 "maxPixelSize": 0,
 "copyrightText": "NB Dept of Natural Resources, GSB Section",
 "serviceDataType": "esriImageServiceDataTypeGeneric",
 "serviceSourceType": "esriImageServiceSourceTypeDataset",
 "minValues": [
  55865.14453125
 ],
 "maxValues": [
  57622.67578125
 ],
 "meanValues": [
  56276.359743655
 ],
 "stdvValues": [
  148.59668223157
 ],
 "objectIdField": "",
 "fields": [],
 "capabilities": "Image,Metadata,Mensuration",
 "defaultMosaicMethod": "Center",
 "allowedMosaicMethods": "",
 "sortField": "",
 "sortValue": null,
 "sortAscending": true,
 "mosaicOperator": "First",
 "defaultCompressionQuality": 75,
 "defaultResamplingMethod": "Bilinear",
 "maxImageHeight": 4100,
 "maxImageWidth": 15000,
 "allowRasterFunction": true,
 "rasterFunctionInfos": [
  {
   "name": "None",
   "description": "",
   "help": ""
  }
 ],
 "rasterTypeInfos": [
  {
   "name": "Raster Dataset",
   "description": "Supports all ArcGIS Raster Datasets",
   "help": ""
  }
 ],
 "mensurationCapabilities": "Basic",
 "hasHistograms": true,
 "hasColormap": false,
 "hasRasterAttributeTable": false,
 "minScale": 0,
 "maxScale": 0,
 "exportTilesAllowed": false,
 "supportsStatistics": false,
 "supportsAdvancedQueries": false,
 "editFieldsInfo": null,
 "ownershipBasedAccessControlForRasters": null,
 "allowComputeTiePoints": false,
 "useStandardizedQueries": true,
 "advancedQueryCapabilities": {
  "useStandardizedQueries": true,
  "supportsStatistics": false,
  "supportsOrderBy": false,
  "supportsDistinct": false,
  "supportsPagination": false
 },
 "spatialReference": {
  "wkid": 2036,
  "latestWkid": 2953
 }
}
