<?xml version="1.0" encoding="UTF-8" standalone="no"?>
<metadata xml:lang="en">
<Esri>
<CreaDate>20251217</CreaDate>
<CreaTime>13262200</CreaTime>
<ArcGISFormat>1.0</ArcGISFormat>
<ArcGISstyle>ISO 19139 Metadata Implementation Specification GML3.2</ArcGISstyle>
<SyncOnce>FALSE</SyncOnce>
<scaleRange>
<minScale>150000000</minScale>
<maxScale>5000</maxScale>
</scaleRange>
<DataProperties>
<itemProps>
<itemName Sync="TRUE">Airborne_Compiled_ShapeIndex.ers</itemName>
<imsContentType Sync="TRUE">002</imsContentType>
<nativeExtBox>
<westBL Sync="TRUE">2431312.500000</westBL>
<eastBL Sync="TRUE">2667612.500000</eastBL>
<southBL Sync="TRUE">7376837.500000</southBL>
<northBL Sync="TRUE">7627912.500000</northBL>
<exTypeCode Sync="TRUE">1</exTypeCode>
</nativeExtBox>
</itemProps>
<coordRef>
<type Sync="TRUE">Projected</type>
<geogcsn Sync="TRUE">GCS_North_American_1983_CSRS</geogcsn>
<csUnits Sync="TRUE">Linear Unit: Meter (1.000000)</csUnits>
<projcsn Sync="TRUE">NAD_1983_CSRS_New_Brunswick_Stereographic</projcsn>
<peXml Sync="TRUE">&lt;ProjectedCoordinateSystem xsi:type='typens:ProjectedCoordinateSystem' xmlns:xsi='http://www.w3.org/2001/XMLSchema-instance' xmlns:xs='http://www.w3.org/2001/XMLSchema' xmlns:typens='http://www.esri.com/schemas/ArcGIS/10.8'&gt;&lt;WKT&gt;PROJCS[&amp;quot;NAD_1983_CSRS_New_Brunswick_Stereographic&amp;quot;,GEOGCS[&amp;quot;GCS_North_American_1983_CSRS&amp;quot;,DATUM[&amp;quot;D_North_American_1983_CSRS&amp;quot;,SPHEROID[&amp;quot;GRS_1980&amp;quot;,6378137.0,298.257222101]],PRIMEM[&amp;quot;Greenwich&amp;quot;,0.0],UNIT[&amp;quot;Degree&amp;quot;,0.0174532925199433]],PROJECTION[&amp;quot;Double_Stereographic&amp;quot;],PARAMETER[&amp;quot;False_Easting&amp;quot;,2500000.0],PARAMETER[&amp;quot;False_Northing&amp;quot;,7500000.0],PARAMETER[&amp;quot;Central_Meridian&amp;quot;,-66.5],PARAMETER[&amp;quot;Scale_Factor&amp;quot;,0.999912],PARAMETER[&amp;quot;Latitude_Of_Origin&amp;quot;,46.5],UNIT[&amp;quot;Meter&amp;quot;,1.0],AUTHORITY[&amp;quot;EPSG&amp;quot;,2953]]&lt;/WKT&gt;&lt;XOrigin&gt;-28216700&lt;/XOrigin&gt;&lt;YOrigin&gt;-23260100&lt;/YOrigin&gt;&lt;XYScale&gt;146555990.15834904&lt;/XYScale&gt;&lt;ZOrigin&gt;-100000&lt;/ZOrigin&gt;&lt;ZScale&gt;10000&lt;/ZScale&gt;&lt;MOrigin&gt;-100000&lt;/MOrigin&gt;&lt;MScale&gt;10000&lt;/MScale&gt;&lt;XYTolerance&gt;0.001&lt;/XYTolerance&gt;&lt;ZTolerance&gt;0.001&lt;/ZTolerance&gt;&lt;MTolerance&gt;0.001&lt;/MTolerance&gt;&lt;HighPrecision&gt;true&lt;/HighPrecision&gt;&lt;WKID&gt;2036&lt;/WKID&gt;&lt;LatestWKID&gt;2953&lt;/LatestWKID&gt;&lt;/ProjectedCoordinateSystem&gt;</peXml>
</coordRef>
<RasterProperties>
<General>
<PixelDepth Sync="TRUE">32</PixelDepth>
<HasColormap Sync="TRUE">FALSE</HasColormap>
<CompressionType Sync="TRUE">None</CompressionType>
<NumBands Sync="TRUE">1</NumBands>
<Format Sync="TRUE">ER Mapper</Format>
<HasPyramids Sync="TRUE">TRUE</HasPyramids>
<SourceType Sync="TRUE">continuous</SourceType>
<PixelType Sync="TRUE">floating point</PixelType>
<NoDataValue Sync="TRUE">-999999</NoDataValue>
</General>
</RasterProperties>
</DataProperties>
<SyncDate>20251219</SyncDate>
<SyncTime>08221000</SyncTime>
<ModDate>20251219</ModDate>
<ModTime>08221000</ModTime>
<ArcGISProfile>ISO19139</ArcGISProfile>
</Esri>
<dataIdInfo>
<idPoC>
<rpIndName>Amirabbas Karbalaeiramezanali</rpIndName>
<rpOrgName>GSB</rpOrgName>
<role>
<RoleCd value="007">
</RoleCd>
</role>
<rpCntInfo>
<cntAddress>
<eMailAdd>amirabbas.karbalaeiramezanali@gnb.ca</eMailAdd>
</cntAddress>
</rpCntInfo>
</idPoC>
<idPoC>
<rpIndName>Serge Allard</rpIndName>
<rpOrgName>GSB</rpOrgName>
<rpCntInfo>
<cntAddress>
<eMailAdd>Serge.Allard@gnb.ca</eMailAdd>
</cntAddress>
</rpCntInfo>
<displayName>Serge Alard</displayName>
<displayName>Serge Allard</displayName>
<displayName>Serge Allard</displayName>
<role>
<RoleCd value="003">
</RoleCd>
</role>
</idPoC>
<idPoC>
<rpIndName>Hernan Ugalde</rpIndName>
<role>
<RoleCd value="006">
</RoleCd>
</role>
<rpCntInfo>
<cntAddress>
<eMailAdd>hernan.ugalde@dipgeosciences.com</eMailAdd>
</cntAddress>
</rpCntInfo>
</idPoC>
<resConst>
<Consts>
<useLimit/>
</Consts>
</resConst>
<envirDesc Sync="TRUE"> Version 6.2 (Build 9200) ; Esri ArcGIS 10.8.1.14362</envirDesc>
<dataLang>
<languageCode Sync="TRUE" value="eng">
</languageCode>
<countryCode Sync="TRUE" value="CAN">
</countryCode>
</dataLang>
<idCitation>
<resTitle Sync="TRUE">Airborne_Compiled_ShapeIndex.ers</resTitle>
<presForm>
<PresFormCd Sync="TRUE" value="005">
</PresFormCd>
</presForm>
</idCitation>
<spatRpType>
<SpatRepTypCd Sync="TRUE" value="002">
</SpatRepTypCd>
</spatRpType>
<dataExt>
<geoEle>
<GeoBndBox esriExtentType="search">
<exTypeCode Sync="TRUE">1</exTypeCode>
<westBL Sync="TRUE">-67.414213</westBL>
<eastBL Sync="TRUE">-64.269731</eastBL>
<northBL Sync="TRUE">47.650641</northBL>
<southBL Sync="TRUE">45.371626</southBL>
</GeoBndBox>
</geoEle>
</dataExt>
<idPurp>The AGG (Airborne Gravity Gradiometry) and FTG (Full Tensor Gravity) compilation incorporates data from the Bathurst Bell 2002 survey (reprocessed in 2010),...</idPurp>
<idAbs>The AGG (Airborne Gravity Gradiometry) and FTG (Full Tensor Gravity) compilation incorporates data from the Bathurst Bell 2002 survey (reprocessed in 2010), the Bathurst NW Falcon 2013 survey, and the SWN Falcon 2010 survey. The associated shape-index raster provides a dimensionless representation of the local geometric characteristics of the derived potential-field surfaces—classifying features such as domes, bowls, ridges, valleys, and saddle structures based on their principal curvatures.This dataset compiles Airborne Gravity Gradiometry (AGG) and Full Tensor Gravity (FTG) data from three surveys conducted in the Bathurst region: the Bathurst Bell 2002 survey (reprocessed in 2010), the Bathurst NW Falcon 2013 survey, and the SWN Falcon 2010 survey. These datasets provide measurements of the spatial variations in the gravity‐gradient tensor, which reflects subsurface density contrasts and enables high-resolution imaging of geological structures. As part of this compilation, a shape-index raster was generated to characterize the geometric form of the potential-field surfaces derived from the gravity‐gradient data. The shape index is a dimensionless quantity computed from the principal curvatures of these surfaces and is used to classify local surface geometry into features such as domes, bowls, ridges, valleys, and saddle structures. This raster therefore offers a spatially continuous representation of curvature-based structural information that can assist in identifying geological trends, boundaries, and potential targets. For a detailed explanation of the shape-index methodology and its use in potential-field interpretation, see Cevallos (2014): https://library.seg.org/doi/10.1190/geo2013-0436.1This dataset was created by compiling and reprocessing Airborne Gravity Gradiometry (AGG) and Full Tensor Gravity (FTG) survey data acquired over the Bathurst region. The compilation integrates three individual airborne surveys—Bathurst Bell 2002 (reprocessed in 2010), Bathurst NW Falcon 2013, and SWN Falcon 2010. Each survey was processed separately using standard AGG/FTG geophysical workflows, including terrain correction, conforming to the GGM+ satellite gravity model, and calculation of derived products such as Tz (2.8 density), Tzz, and the shape index. After individual processing, the datasets were merged into a unified compilation. All grids were generated in NAD83, New Brunswick Stereographic Double projection.Data created Sept 2025.</idAbs>
<idCredit>NB Dept of Natural Resources, GSB Section</idCredit>
</dataIdInfo>
<spatRepInfo>
<Georect>
<axisDimension type="002">
<dimSize Sync="TRUE">9452</dimSize>
<dimResol>
<value Sync="TRUE" uom="m">25.000000</value>
</dimResol>
</axisDimension>
<axisDimension type="001">
<dimSize Sync="TRUE">10043</dimSize>
<dimResol>
<value Sync="TRUE" uom="m">25.000000</value>
</dimResol>
</axisDimension>
<cellGeo>
<CellGeoCd Sync="TRUE" value="002">
</CellGeoCd>
</cellGeo>
<numDims Sync="TRUE">2</numDims>
<tranParaAv Sync="TRUE">1</tranParaAv>
<chkPtAv Sync="TRUE">0</chkPtAv>
<cornerPts>
<pos Sync="TRUE">2431312.500000 7376837.500000</pos>
</cornerPts>
<cornerPts>
<pos Sync="TRUE">2431312.500000 7627912.500000</pos>
</cornerPts>
<cornerPts>
<pos Sync="TRUE">2667612.500000 7627912.500000</pos>
</cornerPts>
<cornerPts>
<pos Sync="TRUE">2667612.500000 7376837.500000</pos>
</cornerPts>
<centerPt>
<pos Sync="TRUE">2549462.500000 7502375.000000</pos>
</centerPt>
<ptInPixel>
<PixOrientCd Sync="TRUE" value="001">
</PixOrientCd>
</ptInPixel>
</Georect>
</spatRepInfo>
<contInfo>
<ImgDesc>
<covDim>
<Band>
<valUnit>
<UOM type="length">
</UOM>
</valUnit>
<dimDescrp Sync="TRUE">Band_1</dimDescrp>
<maxVal Sync="TRUE">1.144935</maxVal>
<minVal Sync="TRUE">-1.107073</minVal>
<bitsPerVal Sync="TRUE">32</bitsPerVal>
</Band>
</covDim>
<contentTyp>
<ContentTypCd Sync="TRUE" value="001">
</ContentTypCd>
</contentTyp>
</ImgDesc>
</contInfo>
<mdLang>
<languageCode Sync="TRUE" value="eng">
</languageCode>
<countryCode Sync="TRUE" value="CAN">
</countryCode>
</mdLang>
<distInfo>
<distFormat>
<formatName Sync="TRUE">Raster Dataset</formatName>
</distFormat>
</distInfo>
<mdHrLv>
<ScopeCd Sync="TRUE" value="005">
</ScopeCd>
</mdHrLv>
<mdHrLvName Sync="TRUE">dataset</mdHrLvName>
<refSysInfo>
<RefSystem>
<refSysID>
<identCode Sync="TRUE" code="2953">
</identCode>
<idCodeSpace Sync="TRUE">EPSG</idCodeSpace>
<idVersion Sync="TRUE">6.2(9.3.0.0)</idVersion>
</refSysID>
</RefSystem>
</refSysInfo>
<mdDateSt Sync="TRUE">20251219</mdDateSt>
</metadata>
