{
 "currentVersion": 10.91,
 "serviceDescription": "The AGG (Airborne Gravity Gradiometry) and FTG (Full Tensor Gravity) compilation incorporates data from the Bathurst Bell 2002 survey (reprocessed in 2010), the Bathurst NW Falcon 2013 survey, and the SWN Falcon 2010 survey. Merged vertical gradient (Tzz) gravity grids from multiple airborne gravity surveys, processed and conformed to the GGM+ satellite gravity dataset.This dataset represents the vertical gradient (Tzz) of the conformed airborne gravity (Tz) data over New Brunswick, compiled from three individual surveys: Bathurst Bell 2002 (reprocessed 2010), Bathurst NW Falcon 2013, and SWN Falcon 2010. Each survey was processed separately for quality control and merged into a continuous grid in NAD83, NB Stereographic double. The Tz data were calculated with a density of 2.8 g/cm³, terrain corrected, and conformed to the GGM+ satellite gravity dataset, and the Tzz represents the measured vertical gradient.The data were generated by airborne gravity gradiometry (AGG) and full tensor gravity (FTG) surveys, processed individually for each survey, terrain corrected, and conformed to satellite gravity data. The resulting Tz grids were then used to calculate the vertical gradient (Tzz), which were merged into a single continuous grid.Data created Sept 2025.",
 "name": "Geophysics_Gravity_Gradiometry_Compiled/Airborne_Compiled_Tzz",
 "description": "The AGG (Airborne Gravity Gradiometry) and FTG (Full Tensor Gravity) compilation incorporates data from the Bathurst Bell 2002 survey (reprocessed in 2010), the Bathurst NW Falcon 2013 survey, and the SWN Falcon 2010 survey. Merged vertical gradient (Tzz) gravity grids from multiple airborne gravity surveys, processed and conformed to the GGM+ satellite gravity dataset.This dataset represents the vertical gradient (Tzz) of the conformed airborne gravity (Tz) data over New Brunswick, compiled from three individual surveys: Bathurst Bell 2002 (reprocessed 2010), Bathurst NW Falcon 2013, and SWN Falcon 2010. Each survey was processed separately for quality control and merged into a continuous grid in NAD83, NB Stereographic double. The Tz data were calculated with a density of 2.8 g/cm³, terrain corrected, and conformed to the GGM+ satellite gravity dataset, and the Tzz represents the measured vertical gradient.The data were generated by airborne gravity gradiometry (AGG) and full tensor gravity (FTG) surveys, processed individually for each survey, terrain corrected, and conformed to satellite gravity data. The resulting Tz grids were then used to calculate the vertical gradient (Tzz), which were merged into a single continuous grid.Data created Sept 2025.",
 "extent": {
  "xmin": 2431312.5,
  "ymin": 7376837.5,
  "xmax": 2667612.5,
  "ymax": 7627912.5,
  "spatialReference": {
   "wkid": 2036,
   "latestWkid": 2953
  }
 },
 "initialExtent": {
  "xmin": 2431312.5,
  "ymin": 7376837.5,
  "xmax": 2667612.5,
  "ymax": 7627912.5,
  "spatialReference": {
   "wkid": 2036,
   "latestWkid": 2953
  }
 },
 "fullExtent": {
  "xmin": 2431312.5,
  "ymin": 7376837.5,
  "xmax": 2667612.5,
  "ymax": 7627912.5,
  "spatialReference": {
   "wkid": 2036,
   "latestWkid": 2953
  }
 },
 "hasMultidimensions": false,
 "pixelSizeX": 25,
 "pixelSizeY": 25,
 "datasetFormat": "ER Mapper",
 "uncompressedSize": 379705744,
 "blockWidth": 9452,
 "blockHeight": 1,
 "compressionType": "None",
 "bandNames": [
  "Band_1"
 ],
 "allowCopy": true,
 "allowAnalysis": true,
 "bandCount": 1,
 "noDataValue": -999999,
 "noDataValues": [
  -999999
 ],
 "pixelType": "F32",
 "minPixelSize": 0,
 "maxPixelSize": 0,
 "copyrightText": "NB Dept of Natural Resources, GSB Section",
 "serviceDataType": "esriImageServiceDataTypeGeneric",
 "serviceSourceType": "esriImageServiceSourceTypeDataset",
 "minValues": [
  -165.72747802734
 ],
 "maxValues": [
  193.98417663574
 ],
 "meanValues": [
  -0.03610213395325
 ],
 "stdvValues": [
  15.006553963597
 ],
 "objectIdField": "",
 "fields": [],
 "capabilities": "Image,Metadata,Mensuration",
 "defaultMosaicMethod": "Center",
 "allowedMosaicMethods": "",
 "sortField": "",
 "sortValue": null,
 "sortAscending": true,
 "mosaicOperator": "First",
 "defaultCompressionQuality": 75,
 "defaultResamplingMethod": "Bilinear",
 "maxImageHeight": 4100,
 "maxImageWidth": 15000,
 "allowRasterFunction": true,
 "rasterFunctionInfos": [
  {
   "name": "None",
   "description": "",
   "help": ""
  }
 ],
 "rasterTypeInfos": [
  {
   "name": "Raster Dataset",
   "description": "Supports all ArcGIS Raster Datasets",
   "help": ""
  }
 ],
 "mensurationCapabilities": "Basic",
 "hasHistograms": true,
 "hasColormap": false,
 "hasRasterAttributeTable": false,
 "minScale": 0,
 "maxScale": 0,
 "exportTilesAllowed": false,
 "supportsStatistics": false,
 "supportsAdvancedQueries": false,
 "editFieldsInfo": null,
 "ownershipBasedAccessControlForRasters": null,
 "allowComputeTiePoints": false,
 "useStandardizedQueries": true,
 "advancedQueryCapabilities": {
  "useStandardizedQueries": true,
  "supportsStatistics": false,
  "supportsOrderBy": false,
  "supportsDistinct": false,
  "supportsPagination": false
 },
 "spatialReference": {
  "wkid": 2036,
  "latestWkid": 2953
 }
}
