{
 "currentVersion": 10.91,
 "serviceDescription": "The dataset represents the first vertical derivative (1VD) of the complete Bouguer gravity anomaly (density 2.8 g/cc) for New Brunswick, gridded at 1 km resolution in NAD83 NB Stereographic projection.This dataset provides the first vertical derivative of the complete Bouguer anomaly calculated using a reduction density of 2.8 g/cc. The 1VD enhances short-wavelength features in the gravity field, improving the visibility of near-surface geological structures such as faults, contacts, and intrusive bodies. The grid covers the province of New Brunswick and is intended to support regional geological interpretation, structural mapping, and mineral exploration applications. The data is provided in NAD83, NB Stereographic double projection.The dataset was generated from ground gravity stations downloaded from the GSC server. The gravity data were reprocessed in September 2025 by recalculating Free Air and Bouguer anomalies using SRTM topography, applying terrain corrections (density 2.8 g/cc), and creating complete Bouguer grids. The complete Bouguer anomaly grid (CBoug_28) was then transformed using a first vertical derivative filter to produce the CBoug_28_1VD_NBStereo grid, which was subsequently gridded at 1 km cell size.Data created Sept 2025.",
 "name": "Geophysics_Gravity_Gradiometry_Compiled/Ground_compiled_1VD",
 "description": "The dataset represents the first vertical derivative (1VD) of the complete Bouguer gravity anomaly (density 2.8 g/cc) for New Brunswick, gridded at 1 km resolution in NAD83 NB Stereographic projection.This dataset provides the first vertical derivative of the complete Bouguer anomaly calculated using a reduction density of 2.8 g/cc. The 1VD enhances short-wavelength features in the gravity field, improving the visibility of near-surface geological structures such as faults, contacts, and intrusive bodies. The grid covers the province of New Brunswick and is intended to support regional geological interpretation, structural mapping, and mineral exploration applications. The data is provided in NAD83, NB Stereographic double projection.The dataset was generated from ground gravity stations downloaded from the GSC server. The gravity data were reprocessed in September 2025 by recalculating Free Air and Bouguer anomalies using SRTM topography, applying terrain corrections (density 2.8 g/cc), and creating complete Bouguer grids. The complete Bouguer anomaly grid (CBoug_28) was then transformed using a first vertical derivative filter to produce the CBoug_28_1VD_NBStereo grid, which was subsequently gridded at 1 km cell size.Data created Sept 2025.",
 "extent": {
  "xmin": 2235500,
  "ymin": 7229500,
  "xmax": 2812500,
  "ymax": 7870500,
  "spatialReference": {
   "wkid": 2036,
   "latestWkid": 2953
  }
 },
 "initialExtent": {
  "xmin": 2235500,
  "ymin": 7229500,
  "xmax": 2812500,
  "ymax": 7870500,
  "spatialReference": {
   "wkid": 2036,
   "latestWkid": 2953
  }
 },
 "fullExtent": {
  "xmin": 2235500,
  "ymin": 7229500,
  "xmax": 2812500,
  "ymax": 7870500,
  "spatialReference": {
   "wkid": 2036,
   "latestWkid": 2953
  }
 },
 "hasMultidimensions": false,
 "pixelSizeX": 1000,
 "pixelSizeY": 1000,
 "datasetFormat": "ER Mapper",
 "uncompressedSize": 1479428,
 "blockWidth": 577,
 "blockHeight": 1,
 "compressionType": "None",
 "bandNames": [
  "Band_1"
 ],
 "allowCopy": true,
 "allowAnalysis": true,
 "bandCount": 1,
 "noDataValue": -999999,
 "noDataValues": [
  -999999
 ],
 "pixelType": "F32",
 "minPixelSize": 0,
 "maxPixelSize": 0,
 "copyrightText": "NB Dept of Natural Resources, GSB Section",
 "serviceDataType": "esriImageServiceDataTypeGeneric",
 "serviceSourceType": "esriImageServiceSourceTypeDataset",
 "minValues": [
  -0.033174499869347
 ],
 "maxValues": [
  0.030383368954062
 ],
 "meanValues": [
  -9.5558265536853E-6
 ],
 "stdvValues": [
  0.001293250273172
 ],
 "objectIdField": "",
 "fields": [],
 "capabilities": "Image,Metadata,Mensuration",
 "defaultMosaicMethod": "Center",
 "allowedMosaicMethods": "",
 "sortField": "",
 "sortValue": null,
 "sortAscending": true,
 "mosaicOperator": "First",
 "defaultCompressionQuality": 75,
 "defaultResamplingMethod": "Bilinear",
 "maxImageHeight": 4100,
 "maxImageWidth": 15000,
 "allowRasterFunction": true,
 "rasterFunctionInfos": [
  {
   "name": "None",
   "description": "",
   "help": ""
  }
 ],
 "rasterTypeInfos": [
  {
   "name": "Raster Dataset",
   "description": "Supports all ArcGIS Raster Datasets",
   "help": ""
  }
 ],
 "mensurationCapabilities": "Basic",
 "hasHistograms": true,
 "hasColormap": false,
 "hasRasterAttributeTable": false,
 "minScale": 0,
 "maxScale": 0,
 "exportTilesAllowed": false,
 "supportsStatistics": false,
 "supportsAdvancedQueries": false,
 "editFieldsInfo": null,
 "ownershipBasedAccessControlForRasters": null,
 "allowComputeTiePoints": false,
 "useStandardizedQueries": true,
 "advancedQueryCapabilities": {
  "useStandardizedQueries": true,
  "supportsStatistics": false,
  "supportsOrderBy": false,
  "supportsDistinct": false,
  "supportsPagination": false
 },
 "spatialReference": {
  "wkid": 2036,
  "latestWkid": 2953
 }
}
