{
 "currentVersion": 10.91,
 "serviceDescription": "This dataset represents the Bouguer gravity anomaly calculated with a reduction density of 2.8 g/cc for ground gravity stations across New Brunswick.The dataset provides Bouguer anomaly values derived from reprocessed ground gravity measurements collected throughout New Brunswick. Using a reduction density of 2.8 g/cc, the Bouguer anomaly highlights variations in subsurface density and assists in interpreting regional geological structures, basin architecture, and intrusive bodies. The dataset is provided in the NAD83 NB Stereographic double projection and reflects consistent recalculation of Free Air and Bouguer corrections using SRTM-derived elevations and standardized processing parameters. It supports geological mapping, resource exploration, and crustal studies across the province.The data originated from ground gravity stations downloaded from the GSC server and reprocessed in September 2025. Marine stations were removed, SRTM topography was sampled for each station, and Free Air and Bouguer corrections were recalculated using a density of 2.8 g/cc. Terrain corrections were also computed using the same DEM. The resulting Bouguer anomaly values (Bouguer28) were exported and projected into NAD83 NB Stereographic to produce the dataset.Data created Sept 2025.",
 "name": "Geophysics_Gravity_Gradiometry_Compiled/Ground_compiled_Boug28",
 "description": "This dataset represents the Bouguer gravity anomaly calculated with a reduction density of 2.8 g/cc for ground gravity stations across New Brunswick.The dataset provides Bouguer anomaly values derived from reprocessed ground gravity measurements collected throughout New Brunswick. Using a reduction density of 2.8 g/cc, the Bouguer anomaly highlights variations in subsurface density and assists in interpreting regional geological structures, basin architecture, and intrusive bodies. The dataset is provided in the NAD83 NB Stereographic double projection and reflects consistent recalculation of Free Air and Bouguer corrections using SRTM-derived elevations and standardized processing parameters. It supports geological mapping, resource exploration, and crustal studies across the province.The data originated from ground gravity stations downloaded from the GSC server and reprocessed in September 2025. Marine stations were removed, SRTM topography was sampled for each station, and Free Air and Bouguer corrections were recalculated using a density of 2.8 g/cc. Terrain corrections were also computed using the same DEM. The resulting Bouguer anomaly values (Bouguer28) were exported and projected into NAD83 NB Stereographic to produce the dataset.Data created Sept 2025.",
 "extent": {
  "xmin": 2235500,
  "ymin": 7229500,
  "xmax": 2812500,
  "ymax": 7870500,
  "spatialReference": {
   "wkid": 2036,
   "latestWkid": 2953
  }
 },
 "initialExtent": {
  "xmin": 2235500,
  "ymin": 7229500,
  "xmax": 2812500,
  "ymax": 7870500,
  "spatialReference": {
   "wkid": 2036,
   "latestWkid": 2953
  }
 },
 "fullExtent": {
  "xmin": 2235500,
  "ymin": 7229500,
  "xmax": 2812500,
  "ymax": 7870500,
  "spatialReference": {
   "wkid": 2036,
   "latestWkid": 2953
  }
 },
 "hasMultidimensions": false,
 "pixelSizeX": 1000,
 "pixelSizeY": 1000,
 "datasetFormat": "ER Mapper",
 "uncompressedSize": 1479428,
 "blockWidth": 577,
 "blockHeight": 1,
 "compressionType": "None",
 "bandNames": [
  "Band_1"
 ],
 "allowCopy": true,
 "allowAnalysis": true,
 "bandCount": 1,
 "noDataValue": -999999,
 "noDataValues": [
  -999999
 ],
 "pixelType": "F32",
 "minPixelSize": 0,
 "maxPixelSize": 0,
 "copyrightText": "NB Dept of Natural Resources, GSB Section",
 "serviceDataType": "esriImageServiceDataTypeGeneric",
 "serviceSourceType": "esriImageServiceSourceTypeDataset",
 "minValues": [
  -76.86043548584
 ],
 "maxValues": [
  29.971187591553
 ],
 "meanValues": [
  -22.448672650878
 ],
 "stdvValues": [
  19.662820001625
 ],
 "objectIdField": "",
 "fields": [],
 "capabilities": "Image,Metadata,Mensuration",
 "defaultMosaicMethod": "Center",
 "allowedMosaicMethods": "",
 "sortField": "",
 "sortValue": null,
 "sortAscending": true,
 "mosaicOperator": "First",
 "defaultCompressionQuality": 75,
 "defaultResamplingMethod": "Bilinear",
 "maxImageHeight": 4100,
 "maxImageWidth": 15000,
 "allowRasterFunction": true,
 "rasterFunctionInfos": [
  {
   "name": "None",
   "description": "",
   "help": ""
  }
 ],
 "rasterTypeInfos": [
  {
   "name": "Raster Dataset",
   "description": "Supports all ArcGIS Raster Datasets",
   "help": ""
  }
 ],
 "mensurationCapabilities": "Basic",
 "hasHistograms": true,
 "hasColormap": false,
 "hasRasterAttributeTable": false,
 "minScale": 0,
 "maxScale": 0,
 "exportTilesAllowed": false,
 "supportsStatistics": false,
 "supportsAdvancedQueries": false,
 "editFieldsInfo": null,
 "ownershipBasedAccessControlForRasters": null,
 "allowComputeTiePoints": false,
 "useStandardizedQueries": true,
 "advancedQueryCapabilities": {
  "useStandardizedQueries": true,
  "supportsStatistics": false,
  "supportsOrderBy": false,
  "supportsDistinct": false,
  "supportsPagination": false
 },
 "spatialReference": {
  "wkid": 2036,
  "latestWkid": 2953
 }
}
