{
 "currentVersion": 10.91,
 "serviceDescription": "This dataset represents the complete Bouguer gravity anomaly (density 2.8 g/cc) derived from ground gravity measurements across New Brunswick.The dataset provides complete Bouguer anomaly values calculated from reprocessed ground gravity data collected throughout New Brunswick. The complete Bouguer anomaly incorporates the Bouguer correction and terrain correction, both computed using a reduction density of 2.8 g/cc. This anomaly enhances the accuracy of subsurface density interpretations, particularly in areas with significant topographic relief. It is well suited for regional geological mapping, structural interpretation, and mineral exploration studies. The dataset is delivered in NAD83 NB Stereographic double projection and reflects consistent recalculation of corrections using SRTM topography and standardized processing workflows.Ground gravity station data were downloaded from the GSC server and reprocessed in September 2025. Marine stations were removed, and SRTM elevation data were used to recompute Free Air and Bouguer corrections at each station using a density of 2.8 g/cc. Terrain corrections were calculated using the same DEM. The complete Bouguer anomaly was then obtained by adding the Bouguer anomaly and terrain correction. These values were exported and projected into NAD83 NB Stereographic to produce the dataset.Data created Sept 2025.",
 "name": "Geophysics_Gravity_Gradiometry_Compiled/Ground_compiled_CompleteBoug28",
 "description": "This dataset represents the complete Bouguer gravity anomaly (density 2.8 g/cc) derived from ground gravity measurements across New Brunswick.The dataset provides complete Bouguer anomaly values calculated from reprocessed ground gravity data collected throughout New Brunswick. The complete Bouguer anomaly incorporates the Bouguer correction and terrain correction, both computed using a reduction density of 2.8 g/cc. This anomaly enhances the accuracy of subsurface density interpretations, particularly in areas with significant topographic relief. It is well suited for regional geological mapping, structural interpretation, and mineral exploration studies. The dataset is delivered in NAD83 NB Stereographic double projection and reflects consistent recalculation of corrections using SRTM topography and standardized processing workflows.Ground gravity station data were downloaded from the GSC server and reprocessed in September 2025. Marine stations were removed, and SRTM elevation data were used to recompute Free Air and Bouguer corrections at each station using a density of 2.8 g/cc. Terrain corrections were calculated using the same DEM. The complete Bouguer anomaly was then obtained by adding the Bouguer anomaly and terrain correction. These values were exported and projected into NAD83 NB Stereographic to produce the dataset.Data created Sept 2025.",
 "extent": {
  "xmin": 2235500,
  "ymin": 7229500,
  "xmax": 2812500,
  "ymax": 7870500,
  "spatialReference": {
   "wkid": 2036,
   "latestWkid": 2953
  }
 },
 "initialExtent": {
  "xmin": 2235500,
  "ymin": 7229500,
  "xmax": 2812500,
  "ymax": 7870500,
  "spatialReference": {
   "wkid": 2036,
   "latestWkid": 2953
  }
 },
 "fullExtent": {
  "xmin": 2235500,
  "ymin": 7229500,
  "xmax": 2812500,
  "ymax": 7870500,
  "spatialReference": {
   "wkid": 2036,
   "latestWkid": 2953
  }
 },
 "hasMultidimensions": false,
 "pixelSizeX": 1000,
 "pixelSizeY": 1000,
 "datasetFormat": "ER Mapper",
 "uncompressedSize": 1479428,
 "blockWidth": 577,
 "blockHeight": 1,
 "compressionType": "None",
 "bandNames": [
  "Band_1"
 ],
 "allowCopy": true,
 "allowAnalysis": true,
 "bandCount": 1,
 "noDataValue": -999999,
 "noDataValues": [
  -999999
 ],
 "pixelType": "F32",
 "minPixelSize": 0,
 "maxPixelSize": 0,
 "copyrightText": "NB Dept of Natural Resources, GSB Section",
 "serviceDataType": "esriImageServiceDataTypeGeneric",
 "serviceSourceType": "esriImageServiceSourceTypeDataset",
 "minValues": [
  -76.778419494629
 ],
 "maxValues": [
  32.201606750488
 ],
 "meanValues": [
  -21.968990520917
 ],
 "stdvValues": [
  19.667395973401
 ],
 "objectIdField": "",
 "fields": [],
 "capabilities": "Image,Metadata,Mensuration",
 "defaultMosaicMethod": "Center",
 "allowedMosaicMethods": "",
 "sortField": "",
 "sortValue": null,
 "sortAscending": true,
 "mosaicOperator": "First",
 "defaultCompressionQuality": 75,
 "defaultResamplingMethod": "Bilinear",
 "maxImageHeight": 4100,
 "maxImageWidth": 15000,
 "allowRasterFunction": true,
 "rasterFunctionInfos": [
  {
   "name": "None",
   "description": "",
   "help": ""
  }
 ],
 "rasterTypeInfos": [
  {
   "name": "Raster Dataset",
   "description": "Supports all ArcGIS Raster Datasets",
   "help": ""
  }
 ],
 "mensurationCapabilities": "Basic",
 "hasHistograms": true,
 "hasColormap": false,
 "hasRasterAttributeTable": false,
 "minScale": 0,
 "maxScale": 0,
 "exportTilesAllowed": false,
 "supportsStatistics": false,
 "supportsAdvancedQueries": false,
 "editFieldsInfo": null,
 "ownershipBasedAccessControlForRasters": null,
 "allowComputeTiePoints": false,
 "useStandardizedQueries": true,
 "advancedQueryCapabilities": {
  "useStandardizedQueries": true,
  "supportsStatistics": false,
  "supportsOrderBy": false,
  "supportsDistinct": false,
  "supportsPagination": false
 },
 "spatialReference": {
  "wkid": 2036,
  "latestWkid": 2953
 }
}
