{
 "currentVersion": 10.91,
 "serviceDescription": "This dataset represents the regional component of the complete Bouguer gravity anomaly (density 2.8 g/cc) for New Brunswick, derived from reprocessed ground gravity data in NB Stereographic coordinates.The dataset contains the regional complete Bouguer gravity anomaly for New Brunswick, calculated from uniformly reprocessed ground-based gravity measurements. Marine gravity stations were excluded to avoid uncertainties related to bathymetry. The regional gravity field was derived from the complete Bouguer anomaly (density 2.8 g/cc) using upward continuation with a wavelength of 30 km, emphasizing long-wavelength crustal-scale features. The data are provided as a gridded product at 1 km cell size and are referenced to NAD83, New Brunswick Stereographic double, allowing consistent integration with other provincial geophysical datasets.Original ground gravity data were obtained from the Geological Survey of Canada geophysical data repository and reprocessed in September 2025. Elevations from an SRTM digital elevation model were used to recompute Free Air and Bouguer anomalies and terrain corrections, assuming a density of 2.8 g/cc, after masking marine stations. The complete Bouguer anomaly grid was generated at 1 km resolution, and the regional component was extracted by applying a 30 km upward continuation filter.Data created Sept 2025.",
 "name": "Geophysics_Gravity_Gradiometry_Compiled/Ground_compiled_CompleteBoug28_regional",
 "description": "This dataset represents the regional component of the complete Bouguer gravity anomaly (density 2.8 g/cc) for New Brunswick, derived from reprocessed ground gravity data in NB Stereographic coordinates.The dataset contains the regional complete Bouguer gravity anomaly for New Brunswick, calculated from uniformly reprocessed ground-based gravity measurements. Marine gravity stations were excluded to avoid uncertainties related to bathymetry. The regional gravity field was derived from the complete Bouguer anomaly (density 2.8 g/cc) using upward continuation with a wavelength of 30 km, emphasizing long-wavelength crustal-scale features. The data are provided as a gridded product at 1 km cell size and are referenced to NAD83, New Brunswick Stereographic double, allowing consistent integration with other provincial geophysical datasets.Original ground gravity data were obtained from the Geological Survey of Canada geophysical data repository and reprocessed in September 2025. Elevations from an SRTM digital elevation model were used to recompute Free Air and Bouguer anomalies and terrain corrections, assuming a density of 2.8 g/cc, after masking marine stations. The complete Bouguer anomaly grid was generated at 1 km resolution, and the regional component was extracted by applying a 30 km upward continuation filter.Data created Sept 2025.",
 "extent": {
  "xmin": 2235500,
  "ymin": 7229500,
  "xmax": 2812500,
  "ymax": 7870500,
  "spatialReference": {
   "wkid": 2036,
   "latestWkid": 2953
  }
 },
 "initialExtent": {
  "xmin": 2235500,
  "ymin": 7229500,
  "xmax": 2812500,
  "ymax": 7870500,
  "spatialReference": {
   "wkid": 2036,
   "latestWkid": 2953
  }
 },
 "fullExtent": {
  "xmin": 2235500,
  "ymin": 7229500,
  "xmax": 2812500,
  "ymax": 7870500,
  "spatialReference": {
   "wkid": 2036,
   "latestWkid": 2953
  }
 },
 "hasMultidimensions": false,
 "pixelSizeX": 1000,
 "pixelSizeY": 1000,
 "datasetFormat": "ER Mapper",
 "uncompressedSize": 1479428,
 "blockWidth": 577,
 "blockHeight": 1,
 "compressionType": "None",
 "bandNames": [
  "Band_1"
 ],
 "allowCopy": true,
 "allowAnalysis": true,
 "bandCount": 1,
 "noDataValue": -999999,
 "noDataValues": [
  -999999
 ],
 "pixelType": "F32",
 "minPixelSize": 0,
 "maxPixelSize": 0,
 "copyrightText": "NB Dept of Natural Resources, GSB Section",
 "serviceDataType": "esriImageServiceDataTypeGeneric",
 "serviceSourceType": "esriImageServiceSourceTypeDataset",
 "minValues": [
  -51.386779785156
 ],
 "maxValues": [
  0.62777626514435
 ],
 "meanValues": [
  -21.776430519082
 ],
 "stdvValues": [
  13.639584846582
 ],
 "objectIdField": "",
 "fields": [],
 "capabilities": "Image,Metadata,Mensuration",
 "defaultMosaicMethod": "Center",
 "allowedMosaicMethods": "",
 "sortField": "",
 "sortValue": null,
 "sortAscending": true,
 "mosaicOperator": "First",
 "defaultCompressionQuality": 75,
 "defaultResamplingMethod": "Bilinear",
 "maxImageHeight": 4100,
 "maxImageWidth": 15000,
 "allowRasterFunction": true,
 "rasterFunctionInfos": [
  {
   "name": "None",
   "description": "",
   "help": ""
  }
 ],
 "rasterTypeInfos": [
  {
   "name": "Raster Dataset",
   "description": "Supports all ArcGIS Raster Datasets",
   "help": ""
  }
 ],
 "mensurationCapabilities": "Basic",
 "hasHistograms": true,
 "hasColormap": false,
 "hasRasterAttributeTable": false,
 "minScale": 0,
 "maxScale": 0,
 "exportTilesAllowed": false,
 "supportsStatistics": false,
 "supportsAdvancedQueries": false,
 "editFieldsInfo": null,
 "ownershipBasedAccessControlForRasters": null,
 "allowComputeTiePoints": false,
 "useStandardizedQueries": true,
 "advancedQueryCapabilities": {
  "useStandardizedQueries": true,
  "supportsStatistics": false,
  "supportsOrderBy": false,
  "supportsDistinct": false,
  "supportsPagination": false
 },
 "spatialReference": {
  "wkid": 2036,
  "latestWkid": 2953
 }
}
