{
 "currentVersion": 10.91,
 "serviceDescription": "This dataset represents the residual complete Bouguer gravity anomaly (density 2.8 g/cc) derived by removing the regional component from the complete Bouguer grid for New Brunswick.The dataset provides the residual component of the complete Bouguer anomaly, highlighting short-wavelength gravity variations associated with relatively shallow geological structures. By subtracting the long-wavelength regional field, calculated using a 30 km upward continuation, the residual anomaly enhances features such as faults, lithological contacts, intrusive bodies, and shallow density contrasts. This dataset supports detailed geological interpretation, mineral exploration, and structural mapping. It is provided in the NAD83 NB Stereographic double projection.The dataset was produced using reprocessed ground gravity measurements. Free Air, Bouguer, and terrain corrections were recalculated using SRTM topography and a reduction density of 2.8 g/cc to create the complete Bouguer anomaly grid. A regional field was then generated by applying a 30 km upward continuation filter to the complete Bouguer grid. The residual anomaly was calculated by subtracting this regional field from the complete Bouguer anomaly. The final product was exported in NAD83 NB Stereographic.Data created Sept 2025.",
 "name": "Geophysics_Gravity_Gradiometry_Compiled/Ground_compiled_CompleteBoug28_residual",
 "description": "This dataset represents the residual complete Bouguer gravity anomaly (density 2.8 g/cc) derived by removing the regional component from the complete Bouguer grid for New Brunswick.The dataset provides the residual component of the complete Bouguer anomaly, highlighting short-wavelength gravity variations associated with relatively shallow geological structures. By subtracting the long-wavelength regional field, calculated using a 30 km upward continuation, the residual anomaly enhances features such as faults, lithological contacts, intrusive bodies, and shallow density contrasts. This dataset supports detailed geological interpretation, mineral exploration, and structural mapping. It is provided in the NAD83 NB Stereographic double projection.The dataset was produced using reprocessed ground gravity measurements. Free Air, Bouguer, and terrain corrections were recalculated using SRTM topography and a reduction density of 2.8 g/cc to create the complete Bouguer anomaly grid. A regional field was then generated by applying a 30 km upward continuation filter to the complete Bouguer grid. The residual anomaly was calculated by subtracting this regional field from the complete Bouguer anomaly. The final product was exported in NAD83 NB Stereographic.Data created Sept 2025.",
 "extent": {
  "xmin": 2235500,
  "ymin": 7229500,
  "xmax": 2812500,
  "ymax": 7870500,
  "spatialReference": {
   "wkid": 2036,
   "latestWkid": 2953
  }
 },
 "initialExtent": {
  "xmin": 2235500,
  "ymin": 7229500,
  "xmax": 2812500,
  "ymax": 7870500,
  "spatialReference": {
   "wkid": 2036,
   "latestWkid": 2953
  }
 },
 "fullExtent": {
  "xmin": 2235500,
  "ymin": 7229500,
  "xmax": 2812500,
  "ymax": 7870500,
  "spatialReference": {
   "wkid": 2036,
   "latestWkid": 2953
  }
 },
 "hasMultidimensions": false,
 "pixelSizeX": 1000,
 "pixelSizeY": 1000,
 "datasetFormat": "ER Mapper",
 "uncompressedSize": 1479428,
 "blockWidth": 577,
 "blockHeight": 1,
 "compressionType": "None",
 "bandNames": [
  "Band_1"
 ],
 "allowCopy": true,
 "allowAnalysis": true,
 "bandCount": 1,
 "noDataValue": -999999,
 "noDataValues": [
  -999999
 ],
 "pixelType": "F32",
 "minPixelSize": 0,
 "maxPixelSize": 0,
 "copyrightText": "NB Dept of Natural Resources, GSB Section",
 "serviceDataType": "esriImageServiceDataTypeGeneric",
 "serviceSourceType": "esriImageServiceSourceTypeDataset",
 "minValues": [
  -39.08723449707
 ],
 "maxValues": [
  41.713088989258
 ],
 "meanValues": [
  -0.19256000182947
 ],
 "stdvValues": [
  10.764717227941
 ],
 "objectIdField": "",
 "fields": [],
 "capabilities": "Image,Metadata,Mensuration",
 "defaultMosaicMethod": "Center",
 "allowedMosaicMethods": "",
 "sortField": "",
 "sortValue": null,
 "sortAscending": true,
 "mosaicOperator": "First",
 "defaultCompressionQuality": 75,
 "defaultResamplingMethod": "Bilinear",
 "maxImageHeight": 4100,
 "maxImageWidth": 15000,
 "allowRasterFunction": true,
 "rasterFunctionInfos": [
  {
   "name": "None",
   "description": "",
   "help": ""
  }
 ],
 "rasterTypeInfos": [
  {
   "name": "Raster Dataset",
   "description": "Supports all ArcGIS Raster Datasets",
   "help": ""
  }
 ],
 "mensurationCapabilities": "Basic",
 "hasHistograms": true,
 "hasColormap": false,
 "hasRasterAttributeTable": false,
 "minScale": 0,
 "maxScale": 0,
 "exportTilesAllowed": false,
 "supportsStatistics": false,
 "supportsAdvancedQueries": false,
 "editFieldsInfo": null,
 "ownershipBasedAccessControlForRasters": null,
 "allowComputeTiePoints": false,
 "useStandardizedQueries": true,
 "advancedQueryCapabilities": {
  "useStandardizedQueries": true,
  "supportsStatistics": false,
  "supportsOrderBy": false,
  "supportsDistinct": false,
  "supportsPagination": false
 },
 "spatialReference": {
  "wkid": 2036,
  "latestWkid": 2953
 }
}
