{
 "currentVersion": 10.91,
 "serviceDescription": "This dataset represents the Free Air gravity anomaly recalculated for ground gravity stations across New Brunswick.The dataset provides Free Air anomaly values derived from reprocessed ground gravity measurements in New Brunswick. The Free Air anomaly corrects observed gravity for elevation above sea level and highlights broad regional variations in the gravity field related to large-scale crustal structure. This dataset serves as a foundational gravity product for geological interpretation and supports studies of crustal architecture, basin geometry, and regional density variations. It is provided in the NAD83 NB Stereographic double projection.The data originated from ground gravity stations downloaded from the GSC server and was reprocessed in September 2025. SRTM topography was sampled at each station location, and Free Air corrections were recalculated using the standard 0.3086 mGal per meter formula. Latitude corrections were applied, and the updated Free Air anomaly values were computed from the adjusted gravity measurements. The final values were exported in NAD83 NB Stereographic, producing the dataset.Data created Sept 2025.",
 "name": "Geophysics_Gravity_Gradiometry_Compiled/Ground_compiled_FreeAir",
 "description": "This dataset represents the Free Air gravity anomaly recalculated for ground gravity stations across New Brunswick.The dataset provides Free Air anomaly values derived from reprocessed ground gravity measurements in New Brunswick. The Free Air anomaly corrects observed gravity for elevation above sea level and highlights broad regional variations in the gravity field related to large-scale crustal structure. This dataset serves as a foundational gravity product for geological interpretation and supports studies of crustal architecture, basin geometry, and regional density variations. It is provided in the NAD83 NB Stereographic double projection.The data originated from ground gravity stations downloaded from the GSC server and was reprocessed in September 2025. SRTM topography was sampled at each station location, and Free Air corrections were recalculated using the standard 0.3086 mGal per meter formula. Latitude corrections were applied, and the updated Free Air anomaly values were computed from the adjusted gravity measurements. The final values were exported in NAD83 NB Stereographic, producing the dataset.Data created Sept 2025.",
 "extent": {
  "xmin": 2235500,
  "ymin": 7225500,
  "xmax": 2818500,
  "ymax": 7870500,
  "spatialReference": {
   "wkid": 2036,
   "latestWkid": 2953
  }
 },
 "initialExtent": {
  "xmin": 2235500,
  "ymin": 7225500,
  "xmax": 2818500,
  "ymax": 7870500,
  "spatialReference": {
   "wkid": 2036,
   "latestWkid": 2953
  }
 },
 "fullExtent": {
  "xmin": 2235500,
  "ymin": 7225500,
  "xmax": 2818500,
  "ymax": 7870500,
  "spatialReference": {
   "wkid": 2036,
   "latestWkid": 2953
  }
 },
 "hasMultidimensions": false,
 "pixelSizeX": 1000,
 "pixelSizeY": 1000,
 "datasetFormat": "ER Mapper",
 "uncompressedSize": 1504140,
 "blockWidth": 583,
 "blockHeight": 1,
 "compressionType": "None",
 "bandNames": [
  "Band_1"
 ],
 "allowCopy": true,
 "allowAnalysis": true,
 "bandCount": 1,
 "noDataValue": -999999,
 "noDataValues": [
  -999999
 ],
 "pixelType": "F32",
 "minPixelSize": 0,
 "maxPixelSize": 0,
 "copyrightText": "NB Dept of Natural Resources, GSB Section",
 "serviceDataType": "esriImageServiceDataTypeGeneric",
 "serviceSourceType": "esriImageServiceSourceTypeDataset",
 "minValues": [
  -91.664916992188
 ],
 "maxValues": [
  140.20176696777
 ],
 "meanValues": [
  -3.5467044873985
 ],
 "stdvValues": [
  22.352398883374
 ],
 "objectIdField": "",
 "fields": [],
 "capabilities": "Image,Metadata,Mensuration",
 "defaultMosaicMethod": "Center",
 "allowedMosaicMethods": "",
 "sortField": "",
 "sortValue": null,
 "sortAscending": true,
 "mosaicOperator": "First",
 "defaultCompressionQuality": 75,
 "defaultResamplingMethod": "Bilinear",
 "maxImageHeight": 4100,
 "maxImageWidth": 15000,
 "allowRasterFunction": true,
 "rasterFunctionInfos": [
  {
   "name": "None",
   "description": "",
   "help": ""
  }
 ],
 "rasterTypeInfos": [
  {
   "name": "Raster Dataset",
   "description": "Supports all ArcGIS Raster Datasets",
   "help": ""
  }
 ],
 "mensurationCapabilities": "Basic",
 "hasHistograms": true,
 "hasColormap": false,
 "hasRasterAttributeTable": false,
 "minScale": 0,
 "maxScale": 0,
 "exportTilesAllowed": false,
 "supportsStatistics": false,
 "supportsAdvancedQueries": false,
 "editFieldsInfo": null,
 "ownershipBasedAccessControlForRasters": null,
 "allowComputeTiePoints": false,
 "useStandardizedQueries": true,
 "advancedQueryCapabilities": {
  "useStandardizedQueries": true,
  "supportsStatistics": false,
  "supportsOrderBy": false,
  "supportsDistinct": false,
  "supportsPagination": false
 },
 "spatialReference": {
  "wkid": 2036,
  "latestWkid": 2953
 }
}
