{
 "currentVersion": 10.91,
 "serviceDescription": "This dataset represents the first vertical derivative of the complete Bouguer gravity anomaly (density 2.8 g/cc) for New Brunswick, derived from the GGMplus satellite gravity model.The GGM30_CB28_1VD dataset provides the first vertical derivative of the complete Bouguer gravity anomaly calculated from the GGMplus satellite gravity model. This derivative enhances short-wavelength gravity features, making shallow geological structures such as faults, lithological contacts, and intrusive bodies more visible. The dataset supports geological interpretation, mineral exploration, and structural mapping across New Brunswick. It is provided in NAD83 NB Stereographic double projection with a 100-meter grid resolution.The dataset was produced using the GGMplus satellite gravity model, which provides Free Air anomalies. Bouguer corrections were applied using SRTM elevation data and a density of 2.8 g/cc, followed by calculation of terrain corrections. The complete Bouguer anomaly grid was derived and then processed to obtain its first vertical derivative. The resulting grid was projected into NAD83 NB Stereographic, producing the dataset.Data created Sept 2025.",
 "name": "Geophysics_Gravity_Gradiometry_Compiled/Satellite_1VD",
 "description": "This dataset represents the first vertical derivative of the complete Bouguer gravity anomaly (density 2.8 g/cc) for New Brunswick, derived from the GGMplus satellite gravity model.The GGM30_CB28_1VD dataset provides the first vertical derivative of the complete Bouguer gravity anomaly calculated from the GGMplus satellite gravity model. This derivative enhances short-wavelength gravity features, making shallow geological structures such as faults, lithological contacts, and intrusive bodies more visible. The dataset supports geological interpretation, mineral exploration, and structural mapping across New Brunswick. It is provided in NAD83 NB Stereographic double projection with a 100-meter grid resolution.The dataset was produced using the GGMplus satellite gravity model, which provides Free Air anomalies. Bouguer corrections were applied using SRTM elevation data and a density of 2.8 g/cc, followed by calculation of terrain corrections. The complete Bouguer anomaly grid was derived and then processed to obtain its first vertical derivative. The resulting grid was projected into NAD83 NB Stereographic, producing the dataset.Data created Sept 2025.",
 "extent": {
  "xmin": 2221450,
  "ymin": 7177550,
  "xmax": 2734450,
  "ymax": 7833650,
  "spatialReference": {
   "wkid": 2036,
   "latestWkid": 2953
  }
 },
 "initialExtent": {
  "xmin": 2221450,
  "ymin": 7177550,
  "xmax": 2734450,
  "ymax": 7833650,
  "spatialReference": {
   "wkid": 2036,
   "latestWkid": 2953
  }
 },
 "fullExtent": {
  "xmin": 2221450,
  "ymin": 7177550,
  "xmax": 2734450,
  "ymax": 7833650,
  "spatialReference": {
   "wkid": 2036,
   "latestWkid": 2953
  }
 },
 "hasMultidimensions": false,
 "pixelSizeX": 100,
 "pixelSizeY": 100,
 "datasetFormat": "ER Mapper",
 "uncompressedSize": 134631720,
 "blockWidth": 5130,
 "blockHeight": 1,
 "compressionType": "None",
 "bandNames": [
  "Band_1"
 ],
 "allowCopy": true,
 "allowAnalysis": true,
 "bandCount": 1,
 "noDataValue": -999999,
 "noDataValues": [
  -999999
 ],
 "pixelType": "F32",
 "minPixelSize": 0,
 "maxPixelSize": 0,
 "copyrightText": "NB Dept of Natural Resources, GSB Section",
 "serviceDataType": "esriImageServiceDataTypeGeneric",
 "serviceSourceType": "esriImageServiceSourceTypeDataset",
 "minValues": [
  -0.025781892240047
 ],
 "maxValues": [
  0.015354475006461
 ],
 "meanValues": [
  -2.0258451665925E-6
 ],
 "stdvValues": [
  0.0015203707772233
 ],
 "objectIdField": "",
 "fields": [],
 "capabilities": "Image,Metadata,Mensuration",
 "defaultMosaicMethod": "Center",
 "allowedMosaicMethods": "",
 "sortField": "",
 "sortValue": null,
 "sortAscending": true,
 "mosaicOperator": "First",
 "defaultCompressionQuality": 75,
 "defaultResamplingMethod": "Bilinear",
 "maxImageHeight": 4100,
 "maxImageWidth": 15000,
 "allowRasterFunction": true,
 "rasterFunctionInfos": [
  {
   "name": "None",
   "description": "",
   "help": ""
  }
 ],
 "rasterTypeInfos": [
  {
   "name": "Raster Dataset",
   "description": "Supports all ArcGIS Raster Datasets",
   "help": ""
  }
 ],
 "mensurationCapabilities": "Basic",
 "hasHistograms": true,
 "hasColormap": false,
 "hasRasterAttributeTable": false,
 "minScale": 0,
 "maxScale": 0,
 "exportTilesAllowed": false,
 "supportsStatistics": false,
 "supportsAdvancedQueries": false,
 "editFieldsInfo": null,
 "ownershipBasedAccessControlForRasters": null,
 "allowComputeTiePoints": false,
 "useStandardizedQueries": true,
 "advancedQueryCapabilities": {
  "useStandardizedQueries": true,
  "supportsStatistics": false,
  "supportsOrderBy": false,
  "supportsDistinct": false,
  "supportsPagination": false
 },
 "spatialReference": {
  "wkid": 2036,
  "latestWkid": 2953
 }
}
