{
 "currentVersion": 10.91,
 "serviceDescription": "This dataset represents the Bouguer gravity anomaly (density 2.8 g/cc) for New Brunswick derived from the GGMplus satellite gravity model, gridded at 100-meter resolution in NAD83 NB Stereographic projection.The dataset provides Bouguer gravity anomalies calculated from the GGMplus satellite gravity model over New Brunswick. The anomalies account for variations in gravity due to topography and are reduced using a Bouguer correction with a density of 2.8 g/cc. This dataset is suitable for regional geophysical interpretation, structural mapping, and mineral exploration, offering consistent high-resolution coverage across the province. The grid is provided in NAD83 NB Stereographic double projection and facilitates integration with other geophysical and geological datasets.The dataset was generated using the GGMplus satellite gravity model, which provides free-fall gravity acceleration equivalent to Free Air anomalies. A Bouguer correction was calculated for each location using SRTM elevation data and a density of 2.8 g/cc. Terrain corrections were computed from the same DEM, and the resulting Bouguer anomaly grid was resampled to 100 meters and projected into NAD83 NB Stereographic to create the dataset.Data created Sept 2025.",
 "name": "Geophysics_Gravity_Gradiometry_Compiled/Satellite_Boug28",
 "description": "This dataset represents the Bouguer gravity anomaly (density 2.8 g/cc) for New Brunswick derived from the GGMplus satellite gravity model, gridded at 100-meter resolution in NAD83 NB Stereographic projection.The dataset provides Bouguer gravity anomalies calculated from the GGMplus satellite gravity model over New Brunswick. The anomalies account for variations in gravity due to topography and are reduced using a Bouguer correction with a density of 2.8 g/cc. This dataset is suitable for regional geophysical interpretation, structural mapping, and mineral exploration, offering consistent high-resolution coverage across the province. The grid is provided in NAD83 NB Stereographic double projection and facilitates integration with other geophysical and geological datasets.The dataset was generated using the GGMplus satellite gravity model, which provides free-fall gravity acceleration equivalent to Free Air anomalies. A Bouguer correction was calculated for each location using SRTM elevation data and a density of 2.8 g/cc. Terrain corrections were computed from the same DEM, and the resulting Bouguer anomaly grid was resampled to 100 meters and projected into NAD83 NB Stereographic to create the dataset.Data created Sept 2025.",
 "extent": {
  "xmin": 2221450,
  "ymin": 7177550,
  "xmax": 2734450,
  "ymax": 7833650,
  "spatialReference": {
   "wkid": 2036,
   "latestWkid": 2953
  }
 },
 "initialExtent": {
  "xmin": 2221450,
  "ymin": 7177550,
  "xmax": 2734450,
  "ymax": 7833650,
  "spatialReference": {
   "wkid": 2036,
   "latestWkid": 2953
  }
 },
 "fullExtent": {
  "xmin": 2221450,
  "ymin": 7177550,
  "xmax": 2734450,
  "ymax": 7833650,
  "spatialReference": {
   "wkid": 2036,
   "latestWkid": 2953
  }
 },
 "hasMultidimensions": false,
 "pixelSizeX": 100,
 "pixelSizeY": 100,
 "datasetFormat": "ER Mapper",
 "uncompressedSize": 134631720,
 "blockWidth": 5130,
 "blockHeight": 1,
 "compressionType": "None",
 "bandNames": [
  "Band_1"
 ],
 "allowCopy": true,
 "allowAnalysis": true,
 "bandCount": 1,
 "noDataValue": -999999,
 "noDataValues": [
  -999999
 ],
 "pixelType": "F32",
 "minPixelSize": 0,
 "maxPixelSize": 0,
 "copyrightText": "NB Dept of Natural Resources, GSB Section",
 "serviceDataType": "esriImageServiceDataTypeGeneric",
 "serviceSourceType": "esriImageServiceSourceTypeDataset",
 "minValues": [
  -91.937767028809
 ],
 "maxValues": [
  31.477155685425
 ],
 "meanValues": [
  -30.698555692007
 ],
 "stdvValues": [
  20.119624272639
 ],
 "objectIdField": "",
 "fields": [],
 "capabilities": "Image,Metadata,Mensuration",
 "defaultMosaicMethod": "Center",
 "allowedMosaicMethods": "",
 "sortField": "",
 "sortValue": null,
 "sortAscending": true,
 "mosaicOperator": "First",
 "defaultCompressionQuality": 75,
 "defaultResamplingMethod": "Bilinear",
 "maxImageHeight": 4100,
 "maxImageWidth": 15000,
 "allowRasterFunction": true,
 "rasterFunctionInfos": [
  {
   "name": "None",
   "description": "",
   "help": ""
  }
 ],
 "rasterTypeInfos": [
  {
   "name": "Raster Dataset",
   "description": "Supports all ArcGIS Raster Datasets",
   "help": ""
  }
 ],
 "mensurationCapabilities": "Basic",
 "hasHistograms": true,
 "hasColormap": false,
 "hasRasterAttributeTable": false,
 "minScale": 0,
 "maxScale": 0,
 "exportTilesAllowed": false,
 "supportsStatistics": false,
 "supportsAdvancedQueries": false,
 "editFieldsInfo": null,
 "ownershipBasedAccessControlForRasters": null,
 "allowComputeTiePoints": false,
 "useStandardizedQueries": true,
 "advancedQueryCapabilities": {
  "useStandardizedQueries": true,
  "supportsStatistics": false,
  "supportsOrderBy": false,
  "supportsDistinct": false,
  "supportsPagination": false
 },
 "spatialReference": {
  "wkid": 2036,
  "latestWkid": 2953
 }
}
