{
 "currentVersion": 10.91,
 "serviceDescription": "This dataset represents the complete Bouguer gravity anomaly (density 2.8 g/cc) for New Brunswick, derived from the GGMplus satellite gravity model and gridded at 100-meter resolution in NAD83 NB Stereographic projection.The dataset provides the complete Bouguer anomaly calculated from the GGMplus satellite gravity model. The anomaly incorporates both Bouguer and terrain corrections using a reduction density of 2.8 g/cc, providing a more accurate representation of subsurface density variations. This dataset is suitable for geological and structural interpretation, regional mapping, and mineral exploration studies across New Brunswick. It is provided in NAD83 NB Stereographic double projection with high-resolution coverage.The dataset was generated using the GGMplus satellite gravity model, which supplies Free Air anomalies. Bouguer corrections were calculated using SRTM topography and a density of 2.8 g/cc, followed by computation of terrain corrections. The complete Bouguer anomaly grid was then produced, resampled to 100 meters, and projected into NAD83 NB Stereographic to create the dataset.Data created Sept 2025.",
 "name": "Geophysics_Gravity_Gradiometry_Compiled/Satellite_CompleteBoug28",
 "description": "This dataset represents the complete Bouguer gravity anomaly (density 2.8 g/cc) for New Brunswick, derived from the GGMplus satellite gravity model and gridded at 100-meter resolution in NAD83 NB Stereographic projection.The dataset provides the complete Bouguer anomaly calculated from the GGMplus satellite gravity model. The anomaly incorporates both Bouguer and terrain corrections using a reduction density of 2.8 g/cc, providing a more accurate representation of subsurface density variations. This dataset is suitable for geological and structural interpretation, regional mapping, and mineral exploration studies across New Brunswick. It is provided in NAD83 NB Stereographic double projection with high-resolution coverage.The dataset was generated using the GGMplus satellite gravity model, which supplies Free Air anomalies. Bouguer corrections were calculated using SRTM topography and a density of 2.8 g/cc, followed by computation of terrain corrections. The complete Bouguer anomaly grid was then produced, resampled to 100 meters, and projected into NAD83 NB Stereographic to create the dataset.Data created Sept 2025.",
 "extent": {
  "xmin": 2221450,
  "ymin": 7177550,
  "xmax": 2734450,
  "ymax": 7833650,
  "spatialReference": {
   "wkid": 2036,
   "latestWkid": 2953
  }
 },
 "initialExtent": {
  "xmin": 2221450,
  "ymin": 7177550,
  "xmax": 2734450,
  "ymax": 7833650,
  "spatialReference": {
   "wkid": 2036,
   "latestWkid": 2953
  }
 },
 "fullExtent": {
  "xmin": 2221450,
  "ymin": 7177550,
  "xmax": 2734450,
  "ymax": 7833650,
  "spatialReference": {
   "wkid": 2036,
   "latestWkid": 2953
  }
 },
 "hasMultidimensions": false,
 "pixelSizeX": 100,
 "pixelSizeY": 100,
 "datasetFormat": "ER Mapper",
 "uncompressedSize": 134631720,
 "blockWidth": 5130,
 "blockHeight": 1,
 "compressionType": "None",
 "bandNames": [
  "Band_1"
 ],
 "allowCopy": true,
 "allowAnalysis": true,
 "bandCount": 1,
 "noDataValue": -999999,
 "noDataValues": [
  -999999
 ],
 "pixelType": "F32",
 "minPixelSize": 0,
 "maxPixelSize": 0,
 "copyrightText": "NB Dept of Natural Resources, GSB Section",
 "serviceDataType": "esriImageServiceDataTypeGeneric",
 "serviceSourceType": "esriImageServiceSourceTypeDataset",
 "minValues": [
  -89.376159667969
 ],
 "maxValues": [
  31.482023239136
 ],
 "meanValues": [
  -30.672004658988
 ],
 "stdvValues": [
  19.44200498325
 ],
 "objectIdField": "",
 "fields": [],
 "capabilities": "Image,Metadata,Mensuration",
 "defaultMosaicMethod": "Center",
 "allowedMosaicMethods": "",
 "sortField": "",
 "sortValue": null,
 "sortAscending": true,
 "mosaicOperator": "First",
 "defaultCompressionQuality": 75,
 "defaultResamplingMethod": "Bilinear",
 "maxImageHeight": 4100,
 "maxImageWidth": 15000,
 "allowRasterFunction": true,
 "rasterFunctionInfos": [
  {
   "name": "None",
   "description": "",
   "help": ""
  }
 ],
 "rasterTypeInfos": [
  {
   "name": "Raster Dataset",
   "description": "Supports all ArcGIS Raster Datasets",
   "help": ""
  }
 ],
 "mensurationCapabilities": "Basic",
 "hasHistograms": true,
 "hasColormap": false,
 "hasRasterAttributeTable": false,
 "minScale": 0,
 "maxScale": 0,
 "exportTilesAllowed": false,
 "supportsStatistics": false,
 "supportsAdvancedQueries": false,
 "editFieldsInfo": null,
 "ownershipBasedAccessControlForRasters": null,
 "allowComputeTiePoints": false,
 "useStandardizedQueries": true,
 "advancedQueryCapabilities": {
  "useStandardizedQueries": true,
  "supportsStatistics": false,
  "supportsOrderBy": false,
  "supportsDistinct": false,
  "supportsPagination": false
 },
 "spatialReference": {
  "wkid": 2036,
  "latestWkid": 2953
 }
}
