{
 "currentVersion": 10.91,
 "serviceDescription": "This dataset represents the regional component of the complete Bouguer gravity anomaly (density 2.8 g/cc) for New Brunswick, derived from the GGMplus satellite gravity model and gridded at 100-meter resolution in NAD83 NB Stereographic projection.The dataset provides the long-wavelength regional component of the complete Bouguer gravity anomaly calculated from the GGMplus satellite gravity model. This regional anomaly emphasizes broad-scale crustal density variations and suppresses short-wavelength, shallow features. It is intended to support regional geological interpretation, crustal studies, and integration with residual anomaly analyses for mineral exploration. The dataset is provided in NAD83 NB Stereographic double projection with 100-meter grid spacing.The dataset was produced from the GGMplus satellite gravity model, which provides Free Air anomalies. Bouguer corrections and terrain corrections were applied using SRTM topography and a density of 2.8 g/cc to produce the complete Bouguer anomaly grid. The regional component was then obtained by applying an upward continuation filter to isolate long-wavelength gravity variations. The final grid was resampled to 100 meters and projected into NAD83 NB Stereographic, producing the dataset.Data created Sept 2025.",
 "name": "Geophysics_Gravity_Gradiometry_Compiled/Satellite_CompleteBoug28_regional",
 "description": "This dataset represents the regional component of the complete Bouguer gravity anomaly (density 2.8 g/cc) for New Brunswick, derived from the GGMplus satellite gravity model and gridded at 100-meter resolution in NAD83 NB Stereographic projection.The dataset provides the long-wavelength regional component of the complete Bouguer gravity anomaly calculated from the GGMplus satellite gravity model. This regional anomaly emphasizes broad-scale crustal density variations and suppresses short-wavelength, shallow features. It is intended to support regional geological interpretation, crustal studies, and integration with residual anomaly analyses for mineral exploration. The dataset is provided in NAD83 NB Stereographic double projection with 100-meter grid spacing.The dataset was produced from the GGMplus satellite gravity model, which provides Free Air anomalies. Bouguer corrections and terrain corrections were applied using SRTM topography and a density of 2.8 g/cc to produce the complete Bouguer anomaly grid. The regional component was then obtained by applying an upward continuation filter to isolate long-wavelength gravity variations. The final grid was resampled to 100 meters and projected into NAD83 NB Stereographic, producing the dataset.Data created Sept 2025.",
 "extent": {
  "xmin": 2221450,
  "ymin": 7177550,
  "xmax": 2734450,
  "ymax": 7833650,
  "spatialReference": {
   "wkid": 2036,
   "latestWkid": 2953
  }
 },
 "initialExtent": {
  "xmin": 2221450,
  "ymin": 7177550,
  "xmax": 2734450,
  "ymax": 7833650,
  "spatialReference": {
   "wkid": 2036,
   "latestWkid": 2953
  }
 },
 "fullExtent": {
  "xmin": 2221450,
  "ymin": 7177550,
  "xmax": 2734450,
  "ymax": 7833650,
  "spatialReference": {
   "wkid": 2036,
   "latestWkid": 2953
  }
 },
 "hasMultidimensions": false,
 "pixelSizeX": 100,
 "pixelSizeY": 100,
 "datasetFormat": "ER Mapper",
 "uncompressedSize": 134631720,
 "blockWidth": 5130,
 "blockHeight": 1,
 "compressionType": "None",
 "bandNames": [
  "Band_1"
 ],
 "allowCopy": true,
 "allowAnalysis": true,
 "bandCount": 1,
 "noDataValue": -999999,
 "noDataValues": [
  -999999
 ],
 "pixelType": "F32",
 "minPixelSize": 0,
 "maxPixelSize": 0,
 "copyrightText": "NB Dept of Natural Resources, GSB Section",
 "serviceDataType": "esriImageServiceDataTypeGeneric",
 "serviceSourceType": "esriImageServiceSourceTypeDataset",
 "minValues": [
  -62.794147491455
 ],
 "maxValues": [
  -7.1731262207031
 ],
 "meanValues": [
  -32.071046339815
 ],
 "stdvValues": [
  13.551778139497
 ],
 "objectIdField": "",
 "fields": [],
 "capabilities": "Image,Metadata,Mensuration",
 "defaultMosaicMethod": "Center",
 "allowedMosaicMethods": "",
 "sortField": "",
 "sortValue": null,
 "sortAscending": true,
 "mosaicOperator": "First",
 "defaultCompressionQuality": 75,
 "defaultResamplingMethod": "Bilinear",
 "maxImageHeight": 4100,
 "maxImageWidth": 15000,
 "allowRasterFunction": true,
 "rasterFunctionInfos": [
  {
   "name": "None",
   "description": "",
   "help": ""
  }
 ],
 "rasterTypeInfos": [
  {
   "name": "Raster Dataset",
   "description": "Supports all ArcGIS Raster Datasets",
   "help": ""
  }
 ],
 "mensurationCapabilities": "Basic",
 "hasHistograms": true,
 "hasColormap": false,
 "hasRasterAttributeTable": false,
 "minScale": 0,
 "maxScale": 0,
 "exportTilesAllowed": false,
 "supportsStatistics": false,
 "supportsAdvancedQueries": false,
 "editFieldsInfo": null,
 "ownershipBasedAccessControlForRasters": null,
 "allowComputeTiePoints": false,
 "useStandardizedQueries": true,
 "advancedQueryCapabilities": {
  "useStandardizedQueries": true,
  "supportsStatistics": false,
  "supportsOrderBy": false,
  "supportsDistinct": false,
  "supportsPagination": false
 },
 "spatialReference": {
  "wkid": 2036,
  "latestWkid": 2953
 }
}
