{
 "currentVersion": 10.91,
 "serviceDescription": "This dataset represents the Free Air gravity anomaly for New Brunswick, derived from the GGMplus satellite gravity model and gridded at 100-meter resolution in NAD83 NB Stereographic projection.The dataset provides Free Air gravity anomalies calculated from the GGMplus satellite gravity model. The Free Air anomaly corrects gravity measurements for elevation, highlighting broad-scale variations in the gravity field related to regional crustal density differences. This dataset is suitable for geological interpretation, crustal studies, and integration with Bouguer and complete Bouguer anomalies for exploration purposes. The grid is provided in NAD83 NB Stereographic double projection with 100-meter resolution.The dataset was generated using the GGMplus satellite gravity model, which provides free-fall gravity acceleration equivalent to Free Air anomalies. The data were gridded at 100-meter resolution and projected into NAD83 NB Stereographic to produce the dataset. No additional corrections were applied beyond the model\u2019s native Free Air gravity values.Data created Sept 2025.",
 "name": "Geophysics_Gravity_Gradiometry_Compiled/Satellite_FreeAir",
 "description": "This dataset represents the Free Air gravity anomaly for New Brunswick, derived from the GGMplus satellite gravity model and gridded at 100-meter resolution in NAD83 NB Stereographic projection.The dataset provides Free Air gravity anomalies calculated from the GGMplus satellite gravity model. The Free Air anomaly corrects gravity measurements for elevation, highlighting broad-scale variations in the gravity field related to regional crustal density differences. This dataset is suitable for geological interpretation, crustal studies, and integration with Bouguer and complete Bouguer anomalies for exploration purposes. The grid is provided in NAD83 NB Stereographic double projection with 100-meter resolution.The dataset was generated using the GGMplus satellite gravity model, which provides free-fall gravity acceleration equivalent to Free Air anomalies. The data were gridded at 100-meter resolution and projected into NAD83 NB Stereographic to produce the dataset. No additional corrections were applied beyond the model\u2019s native Free Air gravity values.Data created Sept 2025.",
 "extent": {
  "xmin": 2221450,
  "ymin": 7177550,
  "xmax": 2734450,
  "ymax": 7833650,
  "spatialReference": {
   "wkid": 2036,
   "latestWkid": 2953
  }
 },
 "initialExtent": {
  "xmin": 2221450,
  "ymin": 7177550,
  "xmax": 2734450,
  "ymax": 7833650,
  "spatialReference": {
   "wkid": 2036,
   "latestWkid": 2953
  }
 },
 "fullExtent": {
  "xmin": 2221450,
  "ymin": 7177550,
  "xmax": 2734450,
  "ymax": 7833650,
  "spatialReference": {
   "wkid": 2036,
   "latestWkid": 2953
  }
 },
 "hasMultidimensions": false,
 "pixelSizeX": 100,
 "pixelSizeY": 100,
 "datasetFormat": "ER Mapper",
 "uncompressedSize": 134631720,
 "blockWidth": 5130,
 "blockHeight": 1,
 "compressionType": "None",
 "bandNames": [
  "Band_1"
 ],
 "allowCopy": true,
 "allowAnalysis": true,
 "bandCount": 1,
 "noDataValue": -999999,
 "noDataValues": [
  -999999
 ],
 "pixelType": "F32",
 "minPixelSize": 0,
 "maxPixelSize": 0,
 "copyrightText": "NB Dept of Natural Resources, GSB Section",
 "serviceDataType": "esriImageServiceDataTypeGeneric",
 "serviceSourceType": "esriImageServiceSourceTypeDataset",
 "minValues": [
  -89.397491455078
 ],
 "maxValues": [
  126.2271194458
 ],
 "meanValues": [
  -9.4332139346574
 ],
 "stdvValues": [
  21.02219713662
 ],
 "objectIdField": "",
 "fields": [],
 "capabilities": "Image,Metadata,Mensuration",
 "defaultMosaicMethod": "Center",
 "allowedMosaicMethods": "",
 "sortField": "",
 "sortValue": null,
 "sortAscending": true,
 "mosaicOperator": "First",
 "defaultCompressionQuality": 75,
 "defaultResamplingMethod": "Bilinear",
 "maxImageHeight": 4100,
 "maxImageWidth": 15000,
 "allowRasterFunction": true,
 "rasterFunctionInfos": [
  {
   "name": "None",
   "description": "",
   "help": ""
  }
 ],
 "rasterTypeInfos": [
  {
   "name": "Raster Dataset",
   "description": "Supports all ArcGIS Raster Datasets",
   "help": ""
  }
 ],
 "mensurationCapabilities": "Basic",
 "hasHistograms": true,
 "hasColormap": false,
 "hasRasterAttributeTable": false,
 "minScale": 0,
 "maxScale": 0,
 "exportTilesAllowed": false,
 "supportsStatistics": false,
 "supportsAdvancedQueries": false,
 "editFieldsInfo": null,
 "ownershipBasedAccessControlForRasters": null,
 "allowComputeTiePoints": false,
 "useStandardizedQueries": true,
 "advancedQueryCapabilities": {
  "useStandardizedQueries": true,
  "supportsStatistics": false,
  "supportsOrderBy": false,
  "supportsDistinct": false,
  "supportsPagination": false
 },
 "spatialReference": {
  "wkid": 2036,
  "latestWkid": 2953
 }
}
