{
 "currentVersion": 10.91,
 "serviceDescription": "This dataset represents the processed and tensor-interpolated FTG/AGG gravity tensor component grid for the Bell BMC2010 survey in New Brunswick, gridded at 25-meter resolution in NAD83 NB Stereographic projection.The dataset provides one of the gravity tensor component grids derived from the Bell BMC2010 FTG/AGG survey. The dataset was generated by processing raw gravity gradiometry profile data with a density of 2.8 g/cc, building a tensor from all components, and interpolating it into a regular grid. Individual tensor components were extracted, and from the relevant components, gravity acceleration (Tz) was reconstituted. A Shape Index was calculated from the tensor data to enhance structural interpretation. The dataset supports high-resolution geophysical analysis, structural mapping, and mineral exploration. It is provided in NAD83 NB Stereographic double projection at 25-meter resolution.The dataset was produced from raw AGG/FTG profile data by constructing a gravity tensor using all measured components and interpolating it into a regular 25-meter grid. Individual tensor components were extracted, and the Tz gravity acceleration component was reconstituted from Txz, Tyz, and Tzz. Because AGG/FTG data do not measure long wavelengths, the Tz grid was conformed to the GGMplus satellite gravity by applying a 20 km high-pass filter to the Tz component and a 20 km low-pass filter to the satellite Bouguer field, then combining both. The tensor-derived Shape Index was also calculated to highlight local structural features. The final grids were exported in ER Mapper format.Data created Sept 2025.",
 "name": "Geophysics_Gravity_Gradiometry_Individual_Surveys/Bell_BMC_Km",
 "description": "This dataset represents the processed and tensor-interpolated FTG/AGG gravity tensor component grid for the Bell BMC2010 survey in New Brunswick, gridded at 25-meter resolution in NAD83 NB Stereographic projection.The dataset provides one of the gravity tensor component grids derived from the Bell BMC2010 FTG/AGG survey. The dataset was generated by processing raw gravity gradiometry profile data with a density of 2.8 g/cc, building a tensor from all components, and interpolating it into a regular grid. Individual tensor components were extracted, and from the relevant components, gravity acceleration (Tz) was reconstituted. A Shape Index was calculated from the tensor data to enhance structural interpretation. The dataset supports high-resolution geophysical analysis, structural mapping, and mineral exploration. It is provided in NAD83 NB Stereographic double projection at 25-meter resolution.The dataset was produced from raw AGG/FTG profile data by constructing a gravity tensor using all measured components and interpolating it into a regular 25-meter grid. Individual tensor components were extracted, and the Tz gravity acceleration component was reconstituted from Txz, Tyz, and Tzz. Because AGG/FTG data do not measure long wavelengths, the Tz grid was conformed to the GGMplus satellite gravity by applying a 20 km high-pass filter to the Tz component and a 20 km low-pass filter to the satellite Bouguer field, then combining both. The tensor-derived Shape Index was also calculated to highlight local structural features. The final grids were exported in ER Mapper format.Data created Sept 2025.",
 "extent": {
  "xmin": 2493087.5,
  "ymin": 7563237.5,
  "xmax": 2562387.5,
  "ymax": 7627912.5,
  "spatialReference": {
   "wkid": 2036,
   "latestWkid": 2953
  }
 },
 "initialExtent": {
  "xmin": 2493087.5,
  "ymin": 7563237.5,
  "xmax": 2562387.5,
  "ymax": 7627912.5,
  "spatialReference": {
   "wkid": 2036,
   "latestWkid": 2953
  }
 },
 "fullExtent": {
  "xmin": 2493087.5,
  "ymin": 7563237.5,
  "xmax": 2562387.5,
  "ymax": 7627912.5,
  "spatialReference": {
   "wkid": 2036,
   "latestWkid": 2953
  }
 },
 "hasMultidimensions": false,
 "pixelSizeX": 25,
 "pixelSizeY": 25,
 "datasetFormat": "ER Mapper",
 "uncompressedSize": 28684656,
 "blockWidth": 2772,
 "blockHeight": 1,
 "compressionType": "None",
 "bandNames": [
  "Band_1"
 ],
 "allowCopy": true,
 "allowAnalysis": true,
 "bandCount": 1,
 "noDataValue": -999999,
 "noDataValues": [
  -999999
 ],
 "pixelType": "F32",
 "minPixelSize": 0,
 "maxPixelSize": 0,
 "copyrightText": "NB Dept of Natural Resources, GSB Section",
 "serviceDataType": "esriImageServiceDataTypeGeneric",
 "serviceSourceType": "esriImageServiceSourceTypeDataset",
 "minValues": [
  -25719008
 ],
 "maxValues": [
  2544479.25
 ],
 "meanValues": [
  -4.1456887417285
 ],
 "stdvValues": [
  12299.857293132
 ],
 "objectIdField": "",
 "fields": [],
 "capabilities": "Image,Metadata,Mensuration",
 "defaultMosaicMethod": "Center",
 "allowedMosaicMethods": "",
 "sortField": "",
 "sortValue": null,
 "sortAscending": true,
 "mosaicOperator": "First",
 "defaultCompressionQuality": 75,
 "defaultResamplingMethod": "Bilinear",
 "maxImageHeight": 4100,
 "maxImageWidth": 15000,
 "allowRasterFunction": true,
 "rasterFunctionInfos": [
  {
   "name": "None",
   "description": "",
   "help": ""
  }
 ],
 "rasterTypeInfos": [
  {
   "name": "Raster Dataset",
   "description": "Supports all ArcGIS Raster Datasets",
   "help": ""
  }
 ],
 "mensurationCapabilities": "Basic",
 "hasHistograms": true,
 "hasColormap": false,
 "hasRasterAttributeTable": false,
 "minScale": 0,
 "maxScale": 0,
 "exportTilesAllowed": false,
 "supportsStatistics": false,
 "supportsAdvancedQueries": false,
 "editFieldsInfo": null,
 "ownershipBasedAccessControlForRasters": null,
 "allowComputeTiePoints": false,
 "useStandardizedQueries": true,
 "advancedQueryCapabilities": {
  "useStandardizedQueries": true,
  "supportsStatistics": false,
  "supportsOrderBy": false,
  "supportsDistinct": false,
  "supportsPagination": false
 },
 "spatialReference": {
  "wkid": 2036,
  "latestWkid": 2953
 }
}
