{
 "currentVersion": 10.91,
 "serviceDescription": "This dataset represents the Shape Index derived from the FTG/AGG gravity tensor for the Bell BMC2010 survey in New Brunswick, gridded at 25-meter resolution in NAD83 NB Stereographic projection.The dataset provides the Shape Index calculated from the gravity tensor components of the Bell BMC2010 FTG/AGG survey. The Shape Index quantifies the geometric characteristics of the local gravity field, highlighting near-surface structural features such as faults, contacts, and intrusive bodies. The dataset is intended for detailed structural interpretation and mineral exploration and is provided in NAD83 NB Stereographic double projection with high-resolution 25-meter spacing.The dataset was produced from the Bell BMC2010 FTG/AGG survey by first constructing the gravity tensor from the raw gradiometry profile data and interpolating it into a regular 25-meter grid. Individual tensor components (Txx, Txy, Txz, Tyy, Tyz, Tzz) were extracted, and the Shape Index was calculated following the method of Cevallos (2014). The final Shape Index grid was exported in ER Mapper format, providing a high-resolution measure of the local curvature and geometry of the gravity field.Data created Sept 2025.",
 "name": "Geophysics_Gravity_Gradiometry_Individual_Surveys/Bell_BMC_SI",
 "description": "This dataset represents the Shape Index derived from the FTG/AGG gravity tensor for the Bell BMC2010 survey in New Brunswick, gridded at 25-meter resolution in NAD83 NB Stereographic projection.The dataset provides the Shape Index calculated from the gravity tensor components of the Bell BMC2010 FTG/AGG survey. The Shape Index quantifies the geometric characteristics of the local gravity field, highlighting near-surface structural features such as faults, contacts, and intrusive bodies. The dataset is intended for detailed structural interpretation and mineral exploration and is provided in NAD83 NB Stereographic double projection with high-resolution 25-meter spacing.The dataset was produced from the Bell BMC2010 FTG/AGG survey by first constructing the gravity tensor from the raw gradiometry profile data and interpolating it into a regular 25-meter grid. Individual tensor components (Txx, Txy, Txz, Tyy, Tyz, Tzz) were extracted, and the Shape Index was calculated following the method of Cevallos (2014). The final Shape Index grid was exported in ER Mapper format, providing a high-resolution measure of the local curvature and geometry of the gravity field.Data created Sept 2025.",
 "extent": {
  "xmin": 2493087.5,
  "ymin": 7563237.5,
  "xmax": 2562387.5,
  "ymax": 7627912.5,
  "spatialReference": {
   "wkid": 2036,
   "latestWkid": 2953
  }
 },
 "initialExtent": {
  "xmin": 2493087.5,
  "ymin": 7563237.5,
  "xmax": 2562387.5,
  "ymax": 7627912.5,
  "spatialReference": {
   "wkid": 2036,
   "latestWkid": 2953
  }
 },
 "fullExtent": {
  "xmin": 2493087.5,
  "ymin": 7563237.5,
  "xmax": 2562387.5,
  "ymax": 7627912.5,
  "spatialReference": {
   "wkid": 2036,
   "latestWkid": 2953
  }
 },
 "hasMultidimensions": false,
 "pixelSizeX": 25,
 "pixelSizeY": 25,
 "datasetFormat": "ER Mapper",
 "uncompressedSize": 28684656,
 "blockWidth": 2772,
 "blockHeight": 1,
 "compressionType": "None",
 "bandNames": [
  "Band_1"
 ],
 "allowCopy": true,
 "allowAnalysis": true,
 "bandCount": 1,
 "noDataValue": -999999,
 "noDataValues": [
  -999999
 ],
 "pixelType": "F32",
 "minPixelSize": 0,
 "maxPixelSize": 0,
 "copyrightText": "NB Dept of Natural Resources, GSB Section",
 "serviceDataType": "esriImageServiceDataTypeGeneric",
 "serviceSourceType": "esriImageServiceSourceTypeDataset",
 "minValues": [
  -0.99928796291351
 ],
 "maxValues": [
  0.99964928627014
 ],
 "meanValues": [
  -0.059869996624948
 ],
 "stdvValues": [
  0.50713031868728
 ],
 "objectIdField": "",
 "fields": [],
 "capabilities": "Image,Metadata,Mensuration",
 "defaultMosaicMethod": "Center",
 "allowedMosaicMethods": "",
 "sortField": "",
 "sortValue": null,
 "sortAscending": true,
 "mosaicOperator": "First",
 "defaultCompressionQuality": 75,
 "defaultResamplingMethod": "Bilinear",
 "maxImageHeight": 4100,
 "maxImageWidth": 15000,
 "allowRasterFunction": true,
 "rasterFunctionInfos": [
  {
   "name": "None",
   "description": "",
   "help": ""
  }
 ],
 "rasterTypeInfos": [
  {
   "name": "Raster Dataset",
   "description": "Supports all ArcGIS Raster Datasets",
   "help": ""
  }
 ],
 "mensurationCapabilities": "Basic",
 "hasHistograms": true,
 "hasColormap": false,
 "hasRasterAttributeTable": false,
 "minScale": 0,
 "maxScale": 0,
 "exportTilesAllowed": false,
 "supportsStatistics": false,
 "supportsAdvancedQueries": false,
 "editFieldsInfo": null,
 "ownershipBasedAccessControlForRasters": null,
 "allowComputeTiePoints": false,
 "useStandardizedQueries": true,
 "advancedQueryCapabilities": {
  "useStandardizedQueries": true,
  "supportsStatistics": false,
  "supportsOrderBy": false,
  "supportsDistinct": false,
  "supportsPagination": false
 },
 "spatialReference": {
  "wkid": 2036,
  "latestWkid": 2953
 }
}
