{
 "currentVersion": 10.91,
 "serviceDescription": "This dataset represents the Txx component of the gravity tensor derived from the Bell BMC2010 FTG/AGG survey in New Brunswick, gridded at 25-meter resolution in NAD83 NB Stereographic projection.The dataset provides the Txx tensor component extracted from the processed gravity gradiometry data of the Bell BMC2010 FTG/AGG survey. The Txx component captures variations in the second derivative of the gravity field along the X-axis, which can be used to infer subsurface density contrasts and structural features. The dataset supports high-resolution geophysical interpretation, structural mapping, and mineral exploration. It is provided in NAD83 NB Stereographic double projection with a 25-meter grid spacing.The dataset was produced by constructing a gravity tensor from the Bell BMC2010 FTG/AGG raw profile data processed with a density of 2.8 g/cc and interpolating the tensor into a regular 25-meter grid. The Txx component was extracted from the full tensor, representing the second derivative of gravity along the X-axis. The final Txx grid was exported in ER Mapper format for use in geophysical analysis and interpretation.Data created Sept 2025.",
 "name": "Geophysics_Gravity_Gradiometry_Individual_Surveys/Bell_BMC_Txx",
 "description": "This dataset represents the Txx component of the gravity tensor derived from the Bell BMC2010 FTG/AGG survey in New Brunswick, gridded at 25-meter resolution in NAD83 NB Stereographic projection.The dataset provides the Txx tensor component extracted from the processed gravity gradiometry data of the Bell BMC2010 FTG/AGG survey. The Txx component captures variations in the second derivative of the gravity field along the X-axis, which can be used to infer subsurface density contrasts and structural features. The dataset supports high-resolution geophysical interpretation, structural mapping, and mineral exploration. It is provided in NAD83 NB Stereographic double projection with a 25-meter grid spacing.The dataset was produced by constructing a gravity tensor from the Bell BMC2010 FTG/AGG raw profile data processed with a density of 2.8 g/cc and interpolating the tensor into a regular 25-meter grid. The Txx component was extracted from the full tensor, representing the second derivative of gravity along the X-axis. The final Txx grid was exported in ER Mapper format for use in geophysical analysis and interpretation.Data created Sept 2025.",
 "extent": {
  "xmin": 2493087.5,
  "ymin": 7563237.5,
  "xmax": 2562387.5,
  "ymax": 7627912.5,
  "spatialReference": {
   "wkid": 2036,
   "latestWkid": 2953
  }
 },
 "initialExtent": {
  "xmin": 2493087.5,
  "ymin": 7563237.5,
  "xmax": 2562387.5,
  "ymax": 7627912.5,
  "spatialReference": {
   "wkid": 2036,
   "latestWkid": 2953
  }
 },
 "fullExtent": {
  "xmin": 2493087.5,
  "ymin": 7563237.5,
  "xmax": 2562387.5,
  "ymax": 7627912.5,
  "spatialReference": {
   "wkid": 2036,
   "latestWkid": 2953
  }
 },
 "hasMultidimensions": false,
 "pixelSizeX": 25,
 "pixelSizeY": 25,
 "datasetFormat": "ER Mapper",
 "uncompressedSize": 28684656,
 "blockWidth": 2772,
 "blockHeight": 1,
 "compressionType": "None",
 "bandNames": [
  "Band_1"
 ],
 "allowCopy": true,
 "allowAnalysis": true,
 "bandCount": 1,
 "noDataValue": -999999,
 "noDataValues": [
  -999999
 ],
 "pixelType": "F32",
 "minPixelSize": 0,
 "maxPixelSize": 0,
 "copyrightText": "NB Dept of Natural Resources, GSB Section",
 "serviceDataType": "esriImageServiceDataTypeGeneric",
 "serviceSourceType": "esriImageServiceSourceTypeDataset",
 "minValues": [
  -92.268127441406
 ],
 "maxValues": [
  69.36791229248
 ],
 "meanValues": [
  -0.69098917169488
 ],
 "stdvValues": [
  15.215479772708
 ],
 "objectIdField": "",
 "fields": [],
 "capabilities": "Image,Metadata,Mensuration",
 "defaultMosaicMethod": "Center",
 "allowedMosaicMethods": "",
 "sortField": "",
 "sortValue": null,
 "sortAscending": true,
 "mosaicOperator": "First",
 "defaultCompressionQuality": 75,
 "defaultResamplingMethod": "Bilinear",
 "maxImageHeight": 4100,
 "maxImageWidth": 15000,
 "allowRasterFunction": true,
 "rasterFunctionInfos": [
  {
   "name": "None",
   "description": "",
   "help": ""
  }
 ],
 "rasterTypeInfos": [
  {
   "name": "Raster Dataset",
   "description": "Supports all ArcGIS Raster Datasets",
   "help": ""
  }
 ],
 "mensurationCapabilities": "Basic",
 "hasHistograms": true,
 "hasColormap": false,
 "hasRasterAttributeTable": false,
 "minScale": 0,
 "maxScale": 0,
 "exportTilesAllowed": false,
 "supportsStatistics": false,
 "supportsAdvancedQueries": false,
 "editFieldsInfo": null,
 "ownershipBasedAccessControlForRasters": null,
 "allowComputeTiePoints": false,
 "useStandardizedQueries": true,
 "advancedQueryCapabilities": {
  "useStandardizedQueries": true,
  "supportsStatistics": false,
  "supportsOrderBy": false,
  "supportsDistinct": false,
  "supportsPagination": false
 },
 "spatialReference": {
  "wkid": 2036,
  "latestWkid": 2953
 }
}
