{
 "currentVersion": 10.91,
 "serviceDescription": "This dataset represents the Txy component of the gravity tensor derived from the Bell BMC2010 FTG/AGG survey in New Brunswick, gridded at 25 m resolution in NAD83 NB Stereographic projection.The dataset contains the Txy tensor component computed from the processed Full Tensor Gravity (FTG) data collected during the Bell BMC2010 survey. The Txy component represents the mixed second derivative of the gravity field with respect to the X and Y directions, making it sensitive to lateral changes in subsurface density and structural boundaries. This dataset supports high-resolution interpretation of geological features such as contacts, faults, intrusive margins, and alteration zones. It is delivered as a 25 m grid in NAD83 New Brunswick Stereographic projection.This dataset was generated by reconstructing the full gravity tensor from the Bell BMC2010 FTG profile data, processed using a density of 2.8 g/cc. The reconstructed tensor was gridded at 25 m cell size, and the Txy component\u2014representing the cross-derivative of the gravity field\u2014was extracted from the full tensor. The final Txy grid was exported in ER Mapper format for geophysical mapping, modelling, and mineral exploration analysis.Data created Sept 2025.",
 "name": "Geophysics_Gravity_Gradiometry_Individual_Surveys/Bell_BMC_Txy",
 "description": "This dataset represents the Txy component of the gravity tensor derived from the Bell BMC2010 FTG/AGG survey in New Brunswick, gridded at 25 m resolution in NAD83 NB Stereographic projection.The dataset contains the Txy tensor component computed from the processed Full Tensor Gravity (FTG) data collected during the Bell BMC2010 survey. The Txy component represents the mixed second derivative of the gravity field with respect to the X and Y directions, making it sensitive to lateral changes in subsurface density and structural boundaries. This dataset supports high-resolution interpretation of geological features such as contacts, faults, intrusive margins, and alteration zones. It is delivered as a 25 m grid in NAD83 New Brunswick Stereographic projection.This dataset was generated by reconstructing the full gravity tensor from the Bell BMC2010 FTG profile data, processed using a density of 2.8 g/cc. The reconstructed tensor was gridded at 25 m cell size, and the Txy component\u2014representing the cross-derivative of the gravity field\u2014was extracted from the full tensor. The final Txy grid was exported in ER Mapper format for geophysical mapping, modelling, and mineral exploration analysis.Data created Sept 2025.",
 "extent": {
  "xmin": 2493087.5,
  "ymin": 7563237.5,
  "xmax": 2562387.5,
  "ymax": 7627912.5,
  "spatialReference": {
   "wkid": 2036,
   "latestWkid": 2953
  }
 },
 "initialExtent": {
  "xmin": 2493087.5,
  "ymin": 7563237.5,
  "xmax": 2562387.5,
  "ymax": 7627912.5,
  "spatialReference": {
   "wkid": 2036,
   "latestWkid": 2953
  }
 },
 "fullExtent": {
  "xmin": 2493087.5,
  "ymin": 7563237.5,
  "xmax": 2562387.5,
  "ymax": 7627912.5,
  "spatialReference": {
   "wkid": 2036,
   "latestWkid": 2953
  }
 },
 "hasMultidimensions": false,
 "pixelSizeX": 25,
 "pixelSizeY": 25,
 "datasetFormat": "ER Mapper",
 "uncompressedSize": 28684656,
 "blockWidth": 2772,
 "blockHeight": 1,
 "compressionType": "None",
 "bandNames": [
  "Band_1"
 ],
 "allowCopy": true,
 "allowAnalysis": true,
 "bandCount": 1,
 "noDataValue": -999999,
 "noDataValues": [
  -999999
 ],
 "pixelType": "F32",
 "minPixelSize": 0,
 "maxPixelSize": 0,
 "copyrightText": "NB Dept of Natural Resources, GSB Section",
 "serviceDataType": "esriImageServiceDataTypeGeneric",
 "serviceSourceType": "esriImageServiceSourceTypeDataset",
 "minValues": [
  -39.265197753906
 ],
 "maxValues": [
  42.772983551025
 ],
 "meanValues": [
  0.089828671362465
 ],
 "stdvValues": [
  7.3760723380434
 ],
 "objectIdField": "",
 "fields": [],
 "capabilities": "Image,Metadata,Mensuration",
 "defaultMosaicMethod": "Center",
 "allowedMosaicMethods": "",
 "sortField": "",
 "sortValue": null,
 "sortAscending": true,
 "mosaicOperator": "First",
 "defaultCompressionQuality": 75,
 "defaultResamplingMethod": "Bilinear",
 "maxImageHeight": 4100,
 "maxImageWidth": 15000,
 "allowRasterFunction": true,
 "rasterFunctionInfos": [
  {
   "name": "None",
   "description": "",
   "help": ""
  }
 ],
 "rasterTypeInfos": [
  {
   "name": "Raster Dataset",
   "description": "Supports all ArcGIS Raster Datasets",
   "help": ""
  }
 ],
 "mensurationCapabilities": "Basic",
 "hasHistograms": true,
 "hasColormap": false,
 "hasRasterAttributeTable": false,
 "minScale": 0,
 "maxScale": 0,
 "exportTilesAllowed": false,
 "supportsStatistics": false,
 "supportsAdvancedQueries": false,
 "editFieldsInfo": null,
 "ownershipBasedAccessControlForRasters": null,
 "allowComputeTiePoints": false,
 "useStandardizedQueries": true,
 "advancedQueryCapabilities": {
  "useStandardizedQueries": true,
  "supportsStatistics": false,
  "supportsOrderBy": false,
  "supportsDistinct": false,
  "supportsPagination": false
 },
 "spatialReference": {
  "wkid": 2036,
  "latestWkid": 2953
 }
}
