<?xml version="1.0" encoding="UTF-8" standalone="no"?>
<metadata xml:lang="en">
<Esri>
<CreaDate>20251217</CreaDate>
<CreaTime>13280000</CreaTime>
<ArcGISFormat>1.0</ArcGISFormat>
<ArcGISstyle>ISO 19139 Metadata Implementation Specification GML3.2</ArcGISstyle>
<SyncOnce>FALSE</SyncOnce>
<scaleRange>
<minScale>150000000</minScale>
<maxScale>5000</maxScale>
</scaleRange>
<DataProperties>
<itemProps>
<itemName Sync="TRUE">Bell_BMC_Tyz.ers</itemName>
<imsContentType Sync="TRUE">002</imsContentType>
<nativeExtBox>
<westBL Sync="TRUE">2493087.500000</westBL>
<eastBL Sync="TRUE">2562387.500000</eastBL>
<southBL Sync="TRUE">7563237.500000</southBL>
<northBL Sync="TRUE">7627912.500000</northBL>
<exTypeCode Sync="TRUE">1</exTypeCode>
</nativeExtBox>
</itemProps>
<coordRef>
<type Sync="TRUE">Projected</type>
<geogcsn Sync="TRUE">GCS_North_American_1983_CSRS</geogcsn>
<csUnits Sync="TRUE">Linear Unit: Meter (1.000000)</csUnits>
<projcsn Sync="TRUE">NAD_1983_CSRS_New_Brunswick_Stereographic</projcsn>
<peXml Sync="TRUE">&lt;ProjectedCoordinateSystem xsi:type='typens:ProjectedCoordinateSystem' xmlns:xsi='http://www.w3.org/2001/XMLSchema-instance' xmlns:xs='http://www.w3.org/2001/XMLSchema' xmlns:typens='http://www.esri.com/schemas/ArcGIS/10.8'&gt;&lt;WKT&gt;PROJCS[&amp;quot;NAD_1983_CSRS_New_Brunswick_Stereographic&amp;quot;,GEOGCS[&amp;quot;GCS_North_American_1983_CSRS&amp;quot;,DATUM[&amp;quot;D_North_American_1983_CSRS&amp;quot;,SPHEROID[&amp;quot;GRS_1980&amp;quot;,6378137.0,298.257222101]],PRIMEM[&amp;quot;Greenwich&amp;quot;,0.0],UNIT[&amp;quot;Degree&amp;quot;,0.0174532925199433]],PROJECTION[&amp;quot;Double_Stereographic&amp;quot;],PARAMETER[&amp;quot;False_Easting&amp;quot;,2500000.0],PARAMETER[&amp;quot;False_Northing&amp;quot;,7500000.0],PARAMETER[&amp;quot;Central_Meridian&amp;quot;,-66.5],PARAMETER[&amp;quot;Scale_Factor&amp;quot;,0.999912],PARAMETER[&amp;quot;Latitude_Of_Origin&amp;quot;,46.5],UNIT[&amp;quot;Meter&amp;quot;,1.0],AUTHORITY[&amp;quot;EPSG&amp;quot;,2953]]&lt;/WKT&gt;&lt;XOrigin&gt;-28216700&lt;/XOrigin&gt;&lt;YOrigin&gt;-23260100&lt;/YOrigin&gt;&lt;XYScale&gt;146555990.15834904&lt;/XYScale&gt;&lt;ZOrigin&gt;-100000&lt;/ZOrigin&gt;&lt;ZScale&gt;10000&lt;/ZScale&gt;&lt;MOrigin&gt;-100000&lt;/MOrigin&gt;&lt;MScale&gt;10000&lt;/MScale&gt;&lt;XYTolerance&gt;0.001&lt;/XYTolerance&gt;&lt;ZTolerance&gt;0.001&lt;/ZTolerance&gt;&lt;MTolerance&gt;0.001&lt;/MTolerance&gt;&lt;HighPrecision&gt;true&lt;/HighPrecision&gt;&lt;WKID&gt;2036&lt;/WKID&gt;&lt;LatestWKID&gt;2953&lt;/LatestWKID&gt;&lt;/ProjectedCoordinateSystem&gt;</peXml>
</coordRef>
<RasterProperties>
<General>
<PixelDepth Sync="TRUE">32</PixelDepth>
<HasColormap Sync="TRUE">FALSE</HasColormap>
<CompressionType Sync="TRUE">None</CompressionType>
<NumBands Sync="TRUE">1</NumBands>
<Format Sync="TRUE">ER Mapper</Format>
<HasPyramids Sync="TRUE">TRUE</HasPyramids>
<SourceType Sync="TRUE">continuous</SourceType>
<PixelType Sync="TRUE">floating point</PixelType>
<NoDataValue Sync="TRUE">-999999</NoDataValue>
</General>
</RasterProperties>
</DataProperties>
<SyncDate>20251219</SyncDate>
<SyncTime>09533600</SyncTime>
<ModDate>20251219</ModDate>
<ModTime>09533600</ModTime>
<ArcGISProfile>ISO19139</ArcGISProfile>
</Esri>
<dataIdInfo>
<idPoC>
<rpIndName>Amirabbas Karbalaeiramezanali</rpIndName>
<rpOrgName>GSB</rpOrgName>
<role>
<RoleCd value="007">
</RoleCd>
</role>
<rpCntInfo>
<cntAddress>
<eMailAdd>amirabbas.karbalaeiramezanali@gnb.ca</eMailAdd>
</cntAddress>
</rpCntInfo>
</idPoC>
<idPoC>
<rpIndName>Serge Allard</rpIndName>
<rpOrgName>GSB</rpOrgName>
<rpCntInfo>
<cntAddress>
<eMailAdd>Serge.Allard@gnb.ca</eMailAdd>
</cntAddress>
</rpCntInfo>
<displayName>Serge Alard</displayName>
<displayName>Serge Allard</displayName>
<displayName>Serge Allard</displayName>
<role>
<RoleCd value="003">
</RoleCd>
</role>
</idPoC>
<idPoC>
<rpIndName>Hernan Ugalde</rpIndName>
<role>
<RoleCd value="006">
</RoleCd>
</role>
<rpCntInfo>
<cntAddress>
<eMailAdd>hernan.ugalde@dipgeosciences.com</eMailAdd>
</cntAddress>
</rpCntInfo>
</idPoC>
<resConst>
<Consts>
<useLimit/>
</Consts>
</resConst>
<envirDesc Sync="TRUE"> Version 6.2 (Build 9200) ; Esri ArcGIS 10.8.1.14362</envirDesc>
<dataLang>
<languageCode Sync="TRUE" value="eng">
</languageCode>
<countryCode Sync="TRUE" value="CAN">
</countryCode>
</dataLang>
<idCitation>
<resTitle Sync="TRUE">Bell_BMC_Tyz.ers</resTitle>
<presForm>
<PresFormCd Sync="TRUE" value="005">
</PresFormCd>
</presForm>
</idCitation>
<spatRpType>
<SpatRepTypCd Sync="TRUE" value="002">
</SpatRepTypCd>
</spatRpType>
<dataExt>
<geoEle>
<GeoBndBox esriExtentType="search">
<exTypeCode Sync="TRUE">1</exTypeCode>
<westBL Sync="TRUE">-66.592009</westBL>
<eastBL Sync="TRUE">-65.669630</eastBL>
<northBL Sync="TRUE">47.650641</northBL>
<southBL Sync="TRUE">47.065967</southBL>
</GeoBndBox>
</geoEle>
</dataExt>
<idPurp>This dataset represents the Tyz component of the gravity tensor derived from the Bell BMC2010 FTG/AGG survey, gridded at 25 m resolution in NAD83 NB...</idPurp>
<idAbs>This dataset represents the Tyz component of the gravity tensor derived from the Bell BMC2010 FTG/AGG survey, gridded at 25 m resolution in NAD83 NB Stereographic projection.The dataset contains the Tyz tensor component extracted from the reconstructed gravity tensor generated from the Bell BMC2010 FTG survey. Tyz represents the mixed second derivative of the gravity field in the Y–Z directions and is sensitive to vertical and lateral density contrasts. This component is valuable for imaging steep geological contacts, fault planes, intrusive margins, and other subsurface structures exhibiting significant variation in both horizontal and vertical directions. The dataset is delivered as a 25 m grid in NAD83 New Brunswick Stereographic projection.This raster was created by processing original FTG profile data using a density of 2.8 g/cc, reconstructing the full gravity tensor from the measured components, gridding the tensor using a tensor-interpolation algorithm at 25 m resolution, and extracting the Tyz component from the final tensor grid. It is provided as an ER Mapper (.ers) raster.Data created Sept 2025.</idAbs>
<idCredit>NB Dept of Natural Resources, GSB Section</idCredit>
</dataIdInfo>
<spatRepInfo>
<Georect>
<axisDimension type="002">
<dimSize Sync="TRUE">2772</dimSize>
<dimResol>
<value Sync="TRUE" uom="m">25.000000</value>
</dimResol>
</axisDimension>
<axisDimension type="001">
<dimSize Sync="TRUE">2587</dimSize>
<dimResol>
<value Sync="TRUE" uom="m">25.000000</value>
</dimResol>
</axisDimension>
<cellGeo>
<CellGeoCd Sync="TRUE" value="002">
</CellGeoCd>
</cellGeo>
<numDims Sync="TRUE">2</numDims>
<tranParaAv Sync="TRUE">1</tranParaAv>
<chkPtAv Sync="TRUE">0</chkPtAv>
<cornerPts>
<pos Sync="TRUE">2493087.500000 7563237.500000</pos>
</cornerPts>
<cornerPts>
<pos Sync="TRUE">2493087.500000 7627912.500000</pos>
</cornerPts>
<cornerPts>
<pos Sync="TRUE">2562387.500000 7627912.500000</pos>
</cornerPts>
<cornerPts>
<pos Sync="TRUE">2562387.500000 7563237.500000</pos>
</cornerPts>
<centerPt>
<pos Sync="TRUE">2527737.500000 7595575.000000</pos>
</centerPt>
<ptInPixel>
<PixOrientCd Sync="TRUE" value="001">
</PixOrientCd>
</ptInPixel>
</Georect>
</spatRepInfo>
<contInfo>
<ImgDesc>
<covDim>
<Band>
<valUnit>
<UOM type="length">
</UOM>
</valUnit>
<dimDescrp Sync="TRUE">Band_1</dimDescrp>
<maxVal Sync="TRUE">81.297249</maxVal>
<minVal Sync="TRUE">-79.172264</minVal>
<bitsPerVal Sync="TRUE">32</bitsPerVal>
</Band>
</covDim>
<contentTyp>
<ContentTypCd Sync="TRUE" value="001">
</ContentTypCd>
</contentTyp>
</ImgDesc>
</contInfo>
<mdLang>
<languageCode Sync="TRUE" value="eng">
</languageCode>
<countryCode Sync="TRUE" value="CAN">
</countryCode>
</mdLang>
<distInfo>
<distFormat>
<formatName Sync="TRUE">Raster Dataset</formatName>
</distFormat>
</distInfo>
<mdHrLv>
<ScopeCd Sync="TRUE" value="005">
</ScopeCd>
</mdHrLv>
<mdHrLvName Sync="TRUE">dataset</mdHrLvName>
<refSysInfo>
<RefSystem>
<refSysID>
<identCode Sync="TRUE" code="2953">
</identCode>
<idCodeSpace Sync="TRUE">EPSG</idCodeSpace>
<idVersion Sync="TRUE">6.2(9.3.0.0)</idVersion>
</refSysID>
</RefSystem>
</refSysInfo>
<mdDateSt Sync="TRUE">20251219</mdDateSt>
</metadata>
