{
 "currentVersion": 10.91,
 "serviceDescription": "This dataset represents the Tz component of the gravity tensor derived from the Bell BMC2010 FTG/AGG survey, gridded at 25 m resolution in NAD83 NB Stereographic projection.The dataset contains the Tz tensor component extracted from the reconstructed gravity tensor of the Bell BMC2010 FTG/AGG survey. Tz represents the first vertical derivative of the gravity field and is highly sensitive to vertical density contrasts, making it particularly useful for detecting shallow intrusive bodies, faults, lithological contacts, and other subsurface structures with significant vertical variation. The dataset is provided as a 25 m grid in NAD83 New Brunswick Stereographic projection and supports detailed structural interpretation and mineral exploration.This raster was created by processing the original FTG profile data using a density of 2.8 g/cc, reconstructing the full gravity tensor from the measured components, gridding the tensor using a tensor-interpolation algorithm at 25 m resolution, and extracting the Tz component from the final tensor grid. It is delivered as an ER Mapper (.ers) raster.Data created Sept 2025.",
 "name": "Geophysics_Gravity_Gradiometry_Individual_Surveys/Bell_BMC_Tz",
 "description": "This dataset represents the Tz component of the gravity tensor derived from the Bell BMC2010 FTG/AGG survey, gridded at 25 m resolution in NAD83 NB Stereographic projection.The dataset contains the Tz tensor component extracted from the reconstructed gravity tensor of the Bell BMC2010 FTG/AGG survey. Tz represents the first vertical derivative of the gravity field and is highly sensitive to vertical density contrasts, making it particularly useful for detecting shallow intrusive bodies, faults, lithological contacts, and other subsurface structures with significant vertical variation. The dataset is provided as a 25 m grid in NAD83 New Brunswick Stereographic projection and supports detailed structural interpretation and mineral exploration.This raster was created by processing the original FTG profile data using a density of 2.8 g/cc, reconstructing the full gravity tensor from the measured components, gridding the tensor using a tensor-interpolation algorithm at 25 m resolution, and extracting the Tz component from the final tensor grid. It is delivered as an ER Mapper (.ers) raster.Data created Sept 2025.",
 "extent": {
  "xmin": 2493087.5,
  "ymin": 7563237.5,
  "xmax": 2562387.5,
  "ymax": 7627912.5,
  "spatialReference": {
   "wkid": 2036,
   "latestWkid": 2953
  }
 },
 "initialExtent": {
  "xmin": 2493087.5,
  "ymin": 7563237.5,
  "xmax": 2562387.5,
  "ymax": 7627912.5,
  "spatialReference": {
   "wkid": 2036,
   "latestWkid": 2953
  }
 },
 "fullExtent": {
  "xmin": 2493087.5,
  "ymin": 7563237.5,
  "xmax": 2562387.5,
  "ymax": 7627912.5,
  "spatialReference": {
   "wkid": 2036,
   "latestWkid": 2953
  }
 },
 "hasMultidimensions": false,
 "pixelSizeX": 25,
 "pixelSizeY": 25,
 "datasetFormat": "ER Mapper",
 "uncompressedSize": 28684656,
 "blockWidth": 2772,
 "blockHeight": 1,
 "compressionType": "None",
 "bandNames": [
  "Band_1"
 ],
 "allowCopy": true,
 "allowAnalysis": true,
 "bandCount": 1,
 "noDataValue": -999999,
 "noDataValues": [
  -999999
 ],
 "pixelType": "F32",
 "minPixelSize": 0,
 "maxPixelSize": 0,
 "copyrightText": "NB Dept of Natural Resources, GSB Section",
 "serviceDataType": "esriImageServiceDataTypeGeneric",
 "serviceSourceType": "esriImageServiceSourceTypeDataset",
 "minValues": [
  -17.990875244141
 ],
 "maxValues": [
  29.831993103027
 ],
 "meanValues": [
  -0.034417372106993
 ],
 "stdvValues": [
  7.8670412189583
 ],
 "objectIdField": "",
 "fields": [],
 "capabilities": "Image,Metadata,Mensuration",
 "defaultMosaicMethod": "Center",
 "allowedMosaicMethods": "",
 "sortField": "",
 "sortValue": null,
 "sortAscending": true,
 "mosaicOperator": "First",
 "defaultCompressionQuality": 75,
 "defaultResamplingMethod": "Bilinear",
 "maxImageHeight": 4100,
 "maxImageWidth": 15000,
 "allowRasterFunction": true,
 "rasterFunctionInfos": [
  {
   "name": "None",
   "description": "",
   "help": ""
  }
 ],
 "rasterTypeInfos": [
  {
   "name": "Raster Dataset",
   "description": "Supports all ArcGIS Raster Datasets",
   "help": ""
  }
 ],
 "mensurationCapabilities": "Basic",
 "hasHistograms": true,
 "hasColormap": false,
 "hasRasterAttributeTable": false,
 "minScale": 0,
 "maxScale": 0,
 "exportTilesAllowed": false,
 "supportsStatistics": false,
 "supportsAdvancedQueries": false,
 "editFieldsInfo": null,
 "ownershipBasedAccessControlForRasters": null,
 "allowComputeTiePoints": false,
 "useStandardizedQueries": true,
 "advancedQueryCapabilities": {
  "useStandardizedQueries": true,
  "supportsStatistics": false,
  "supportsOrderBy": false,
  "supportsDistinct": false,
  "supportsPagination": false
 },
 "spatialReference": {
  "wkid": 2036,
  "latestWkid": 2953
 }
}
