{
 "currentVersion": 10.91,
 "serviceDescription": "This dataset represents the Tz (vertical gravity) component derived from the SWN_NBStereo (Lantern) FTG/AGG survey, gridded at 25 m resolution in NAD83 NB Stereographic projection.The dataset contains the vertical gravity component (Tz) reconstructed from the gravity tensor of the SWN_NBStereo survey. Tz highlights vertical density variations in the subsurface and is useful for mapping faults, lithological contacts, intrusive bodies, and other geological structures. This high-resolution dataset supports detailed structural interpretation and mineral exploration and is delivered as a 25 m grid in NAD83 New Brunswick Stereographic projection.This raster was produced by reconstructing Tz from the measured tensor components (Txz, Tyz, and Tzz) of the SWN_NBStereo FTG/AGG survey, gridding the resulting Tz field at 25 m resolution using a tensor-interpolation algorithm, and exporting it as an ER Mapper (.ers) raster.Data created Sept 2025.",
 "name": "Geophysics_Gravity_Gradiometry_Individual_Surveys/SWN_AGG_Tz",
 "description": "This dataset represents the Tz (vertical gravity) component derived from the SWN_NBStereo (Lantern) FTG/AGG survey, gridded at 25 m resolution in NAD83 NB Stereographic projection.The dataset contains the vertical gravity component (Tz) reconstructed from the gravity tensor of the SWN_NBStereo survey. Tz highlights vertical density variations in the subsurface and is useful for mapping faults, lithological contacts, intrusive bodies, and other geological structures. This high-resolution dataset supports detailed structural interpretation and mineral exploration and is delivered as a 25 m grid in NAD83 New Brunswick Stereographic projection.This raster was produced by reconstructing Tz from the measured tensor components (Txz, Tyz, and Tzz) of the SWN_NBStereo FTG/AGG survey, gridding the resulting Tz field at 25 m resolution using a tensor-interpolation algorithm, and exporting it as an ER Mapper (.ers) raster.Data created Sept 2025.",
 "extent": {
  "xmin": 2433602.5,
  "ymin": 7378582.5,
  "xmax": 2665327.5,
  "ymax": 7556717.5,
  "spatialReference": {
   "wkid": 2036,
   "latestWkid": 2953
  }
 },
 "initialExtent": {
  "xmin": 2433602.5,
  "ymin": 7378582.5,
  "xmax": 2665327.5,
  "ymax": 7556717.5,
  "spatialReference": {
   "wkid": 2036,
   "latestWkid": 2953
  }
 },
 "fullExtent": {
  "xmin": 2433602.5,
  "ymin": 7378582.5,
  "xmax": 2665327.5,
  "ymax": 7556717.5,
  "spatialReference": {
   "wkid": 2036,
   "latestWkid": 2953
  }
 },
 "hasMultidimensions": false,
 "pixelSizeX": 115,
 "pixelSizeY": 115,
 "datasetFormat": "ER Mapper",
 "uncompressedSize": 12484940,
 "blockWidth": 2015,
 "blockHeight": 1,
 "compressionType": "None",
 "bandNames": [
  "Band_1"
 ],
 "allowCopy": true,
 "allowAnalysis": true,
 "bandCount": 1,
 "noDataValue": -999999,
 "noDataValues": [
  -999999
 ],
 "pixelType": "F32",
 "minPixelSize": 0,
 "maxPixelSize": 0,
 "copyrightText": "NB Dept of Natural Resources, GSB Section",
 "serviceDataType": "esriImageServiceDataTypeGeneric",
 "serviceSourceType": "esriImageServiceSourceTypeDataset",
 "minValues": [
  -27.322257995605
 ],
 "maxValues": [
  32.998649597168
 ],
 "meanValues": [
  -2.7489667411245
 ],
 "stdvValues": [
  8.5244893320032
 ],
 "objectIdField": "",
 "fields": [],
 "capabilities": "Image,Metadata,Mensuration",
 "defaultMosaicMethod": "Center",
 "allowedMosaicMethods": "",
 "sortField": "",
 "sortValue": null,
 "sortAscending": true,
 "mosaicOperator": "First",
 "defaultCompressionQuality": 75,
 "defaultResamplingMethod": "Bilinear",
 "maxImageHeight": 4100,
 "maxImageWidth": 15000,
 "allowRasterFunction": true,
 "rasterFunctionInfos": [
  {
   "name": "None",
   "description": "",
   "help": ""
  }
 ],
 "rasterTypeInfos": [
  {
   "name": "Raster Dataset",
   "description": "Supports all ArcGIS Raster Datasets",
   "help": ""
  }
 ],
 "mensurationCapabilities": "Basic",
 "hasHistograms": true,
 "hasColormap": false,
 "hasRasterAttributeTable": false,
 "minScale": 0,
 "maxScale": 0,
 "exportTilesAllowed": false,
 "supportsStatistics": false,
 "supportsAdvancedQueries": false,
 "editFieldsInfo": null,
 "ownershipBasedAccessControlForRasters": null,
 "allowComputeTiePoints": false,
 "useStandardizedQueries": true,
 "advancedQueryCapabilities": {
  "useStandardizedQueries": true,
  "supportsStatistics": false,
  "supportsOrderBy": false,
  "supportsDistinct": false,
  "supportsPagination": false
 },
 "spatialReference": {
  "wkid": 2036,
  "latestWkid": 2953
 }
}
