{ "currentVersion": 10.91, "serviceDescription": "
A 50\u202fm grid of airborne radiometric potassium (K) concentrations for New Brunswick<\/SPAN><\/SPAN><\/P> This dataset represents potassium (K) concentrations across New Brunswick at 50\u202fm resolution, derived from a compilation of NRCan airborne radiometric surveys originally flown at 1000\u202fm line spacing (base compilation) and enhanced with higher-resolution surveys flown at 300\u202fm line spacing or less. Potassium values are obtained from gamma-ray spectrometry measurements and reflect near-surface lithology and alteration. The dataset is provided in NB Stereographic double (NAD83) for consistent province-wide coverage.<\/SPAN><\/SPAN><\/P> The potassium grid was produced by compiling individual NRCan radiometric survey grids, microlevelling line-to-line variations, and interpolating the results to a seamless 50\u202fm cell-size raster. The final raster was projected to NB Stereographic double (NAD83) and delivered as individual grid.<\/SPAN><\/SPAN><\/P> The dataset is not updated regularly. Updates occur only if new reprocessing, corrections, or additional surveys become available. As of now, the compilation represents the most recent processing as of December 2025.<\/SPAN><\/P><\/DIV><\/DIV><\/DIV>",
"name": "Geophysics_Radiometric_Compiled/NB_K_50m",
"description": " A 50\u202fm grid of airborne radiometric potassium (K) concentrations for New Brunswick<\/SPAN><\/SPAN><\/P> This dataset represents potassium (K) concentrations across New Brunswick at 50\u202fm resolution, derived from a compilation of NRCan airborne radiometric surveys originally flown at 1000\u202fm line spacing (base compilation) and enhanced with higher-resolution surveys flown at 300\u202fm line spacing or less. Potassium values are obtained from gamma-ray spectrometry measurements and reflect near-surface lithology and alteration. The dataset is provided in NB Stereographic double (NAD83) for consistent province-wide coverage.<\/SPAN><\/SPAN><\/P> The potassium grid was produced by compiling individual NRCan radiometric survey grids, microlevelling line-to-line variations, and interpolating the results to a seamless 50\u202fm cell-size raster. The final raster was projected to NB Stereographic double (NAD83) and delivered as individual grid.<\/SPAN><\/SPAN><\/P> The dataset is not updated regularly. Updates occur only if new reprocessing, corrections, or additional surveys become available. As of now, the compilation represents the most recent processing as of December 2025.<\/SPAN><\/P><\/DIV><\/DIV><\/DIV>",
"extent": {
"xmin": 2396575,
"ymin": 7324675,
"xmax": 2659625,
"ymax": 7678525,
"spatialReference": {
"wkid": 2036,
"latestWkid": 2953
}
},
"initialExtent": {
"xmin": 2396575,
"ymin": 7324675,
"xmax": 2659625,
"ymax": 7678525,
"spatialReference": {
"wkid": 2036,
"latestWkid": 2953
}
},
"fullExtent": {
"xmin": 2396575,
"ymin": 7324675,
"xmax": 2659625,
"ymax": 7678525,
"spatialReference": {
"wkid": 2036,
"latestWkid": 2953
}
},
"hasMultidimensions": false,
"pixelSizeX": 50,
"pixelSizeY": 50,
"datasetFormat": "ER Mapper",
"uncompressedSize": 148928388,
"blockWidth": 5261,
"blockHeight": 1,
"compressionType": "None",
"bandNames": [
"Band_1"
],
"allowCopy": true,
"allowAnalysis": true,
"bandCount": 1,
"noDataValue": -999999,
"noDataValues": [
-999999
],
"pixelType": "F32",
"minPixelSize": 0,
"maxPixelSize": 0,
"copyrightText": "NB Dept of Natural Resources, GSB Section",
"serviceDataType": "esriImageServiceDataTypeGeneric",
"serviceSourceType": "esriImageServiceSourceTypeDataset",
"minValues": [
-1.9373106956482
],
"maxValues": [
4.1089291572571
],
"meanValues": [
-0.0019356419835009
],
"stdvValues": [
0.36473238812531
],
"objectIdField": "",
"fields": [],
"capabilities": "Image,Metadata,Mensuration",
"defaultMosaicMethod": "Center",
"allowedMosaicMethods": "",
"sortField": "",
"sortValue": null,
"sortAscending": true,
"mosaicOperator": "First",
"defaultCompressionQuality": 75,
"defaultResamplingMethod": "Bilinear",
"maxImageHeight": 4100,
"maxImageWidth": 15000,
"allowRasterFunction": true,
"rasterFunctionInfos": [
{
"name": "None",
"description": "",
"help": ""
}
],
"rasterTypeInfos": [
{
"name": "Raster Dataset",
"description": "Supports all ArcGIS Raster Datasets",
"help": ""
}
],
"mensurationCapabilities": "Basic",
"hasHistograms": true,
"hasColormap": false,
"hasRasterAttributeTable": false,
"minScale": 0,
"maxScale": 0,
"exportTilesAllowed": false,
"supportsStatistics": false,
"supportsAdvancedQueries": false,
"editFieldsInfo": null,
"ownershipBasedAccessControlForRasters": null,
"allowComputeTiePoints": false,
"useStandardizedQueries": true,
"advancedQueryCapabilities": {
"useStandardizedQueries": true,
"supportsStatistics": false,
"supportsOrderBy": false,
"supportsDistinct": false,
"supportsPagination": false
},
"spatialReference": {
"wkid": 2036,
"latestWkid": 2953
}
}