{ "currentVersion": 10.91, "serviceDescription": "
A 200\u202fm ternary raster combining airborne radiometric potassium (K), thorium (Th), and uranium (U) for New Brunswick.<\/SPAN><\/SPAN><\/P> This dataset represents a ternary image of potassium (K), thorium (Th), and uranium (U) concentrations across New Brunswick at 200\u202fm resolution, derived from a compilation of NRCan airborne radiometric surveys flown at 1000\u202fm line spacing. Each band corresponds to one element (Band 1 = K, Band 2 = Th, Band 3 = U) and the image provides a visual tool for interpreting relative abundances and spatial relationships of these key radiogenic elements. The dataset is provided in NB Stereographic double (NAD83) for consistent province-wide coverage.<\/SPAN><\/SPAN><\/P> The NB_Ternary_KThU_200m raster was produced by compiling individual NRCan radiometric survey grids for K, Th, and U, microlevelling line-to-line variations, and interpolating the results to a seamless 200\u202fm cell-size raster. The three element grids were combined into a single ternary image and exported as a multi-band TIFF in NB Stereographic double (NAD83).<\/SPAN><\/P> The dataset is not updated regularly. Updates occur only if new reprocessing, corrections, or additional surveys become available. As of now, the compilation represents the most recent processing as of December 2025.<\/SPAN><\/P><\/DIV><\/DIV><\/DIV>",
"name": "Geophysics_Radiometric_Compiled/NB_Ternary_KThU_200m",
"description": " A 200\u202fm ternary raster combining airborne radiometric potassium (K), thorium (Th), and uranium (U) for New Brunswick.<\/SPAN><\/SPAN><\/P> This dataset represents a ternary image of potassium (K), thorium (Th), and uranium (U) concentrations across New Brunswick at 200\u202fm resolution, derived from a compilation of NRCan airborne radiometric surveys flown at 1000\u202fm line spacing. Each band corresponds to one element (Band 1 = K, Band 2 = Th, Band 3 = U) and the image provides a visual tool for interpreting relative abundances and spatial relationships of these key radiogenic elements. The dataset is provided in NB Stereographic double (NAD83) for consistent province-wide coverage.<\/SPAN><\/SPAN><\/P> The NB_Ternary_KThU_200m raster was produced by compiling individual NRCan radiometric survey grids for K, Th, and U, microlevelling line-to-line variations, and interpolating the results to a seamless 200\u202fm cell-size raster. The three element grids were combined into a single ternary image and exported as a multi-band TIFF in NB Stereographic double (NAD83).<\/SPAN><\/P> The dataset is not updated regularly. Updates occur only if new reprocessing, corrections, or additional surveys become available. As of now, the compilation represents the most recent processing as of December 2025.<\/SPAN><\/P><\/DIV><\/DIV><\/DIV>",
"extent": {
"xmin": 2399100,
"ymin": 7328100,
"xmax": 2657100,
"ymax": 7675100,
"spatialReference": {
"wkid": 2036,
"latestWkid": 2953
}
},
"initialExtent": {
"xmin": 2399100,
"ymin": 7328100,
"xmax": 2657100,
"ymax": 7675100,
"spatialReference": {
"wkid": 2036,
"latestWkid": 2953
}
},
"fullExtent": {
"xmin": 2399100,
"ymin": 7328100,
"xmax": 2657100,
"ymax": 7675100,
"spatialReference": {
"wkid": 2036,
"latestWkid": 2953
}
},
"hasMultidimensions": false,
"pixelSizeX": 200,
"pixelSizeY": 200,
"datasetFormat": "TIFF",
"uncompressedSize": 26857800,
"blockWidth": 128,
"blockHeight": 128,
"compressionType": "None",
"bandNames": [
"Band_1",
"Band_2",
"Band_3"
],
"allowCopy": true,
"allowAnalysis": true,
"bandCount": 3,
"noDataValue": -999999,
"noDataValues": [
-999999,
-999999,
-999999
],
"pixelType": "F32",
"minPixelSize": 0,
"maxPixelSize": 0,
"copyrightText": "NB Dept of Natural Resources, GSB Section",
"serviceDataType": "esriImageServiceDataTypeGeneric",
"serviceSourceType": "esriImageServiceSourceTypeDataset",
"minValues": [
-1.9491491317749,
-9.1963863372803,
-2.4638319015503
],
"maxValues": [
4.0883736610413,
23.74683380127,
15.868675231934
],
"meanValues": [
-0.0020759730046909,
-0.0061578294837757,
-4.1747959671237E-4
],
"stdvValues": [
0.3641884244672,
1.884145435665,
0.53816101646785
],
"objectIdField": "",
"fields": [],
"capabilities": "Image,Metadata,Mensuration",
"defaultMosaicMethod": "Center",
"allowedMosaicMethods": "",
"sortField": "",
"sortValue": null,
"sortAscending": true,
"mosaicOperator": "First",
"defaultCompressionQuality": 75,
"defaultResamplingMethod": "Bilinear",
"maxImageHeight": 4100,
"maxImageWidth": 15000,
"allowRasterFunction": true,
"rasterFunctionInfos": [
{
"name": "None",
"description": "",
"help": ""
}
],
"rasterTypeInfos": [
{
"name": "Raster Dataset",
"description": "Supports all ArcGIS Raster Datasets",
"help": ""
}
],
"mensurationCapabilities": "Basic",
"hasHistograms": true,
"hasColormap": false,
"hasRasterAttributeTable": false,
"minScale": 0,
"maxScale": 0,
"exportTilesAllowed": false,
"supportsStatistics": false,
"supportsAdvancedQueries": false,
"editFieldsInfo": null,
"ownershipBasedAccessControlForRasters": null,
"allowComputeTiePoints": false,
"useStandardizedQueries": true,
"advancedQueryCapabilities": {
"useStandardizedQueries": true,
"supportsStatistics": false,
"supportsOrderBy": false,
"supportsDistinct": false,
"supportsPagination": false
},
"spatialReference": {
"wkid": 2036,
"latestWkid": 2953
}
}