{ "currentVersion": 10.91, "serviceDescription": "
A 200\u202fm grid of airborne radiometric uranium (U) concentrations for New Brunswick.<\/SPAN><\/SPAN><\/P> This dataset represents uranium (U) concentrations across New Brunswick at 200\u202fm resolution, derived from a compilation of NRCan airborne radiometric surveys flown at 1000\u202fm line spacing. Uranium values are obtained from gamma-ray spectrometry measurements and reflect near-surface lithology and alteration patterns. The dataset is provided in NB Stereographic double (NAD83) for consistent province-wide coverage.<\/SPAN><\/SPAN><\/P> The uranium grid was produced by compiling individual NRCan radiometric survey grids, microlevelling line-to-line variations, and interpolating the results to a seamless 200\u202fm grid. The final raster was delivered as a .ers file in NB Stereographic double (NAD83).<\/SPAN><\/P> The dataset is not updated regularly. Updates occur only if new reprocessing, corrections, or additional surveys become available. As of now, the compilation represents the most recent processing as of December 2025.<\/SPAN><\/P><\/DIV><\/DIV><\/DIV>",
"name": "Geophysics_Radiometric_Compiled/NB_U_200m",
"description": " A 200\u202fm grid of airborne radiometric uranium (U) concentrations for New Brunswick.<\/SPAN><\/SPAN><\/P> This dataset represents uranium (U) concentrations across New Brunswick at 200\u202fm resolution, derived from a compilation of NRCan airborne radiometric surveys flown at 1000\u202fm line spacing. Uranium values are obtained from gamma-ray spectrometry measurements and reflect near-surface lithology and alteration patterns. The dataset is provided in NB Stereographic double (NAD83) for consistent province-wide coverage.<\/SPAN><\/SPAN><\/P> The uranium grid was produced by compiling individual NRCan radiometric survey grids, microlevelling line-to-line variations, and interpolating the results to a seamless 200\u202fm grid. The final raster was delivered as a .ers file in NB Stereographic double (NAD83).<\/SPAN><\/P> The dataset is not updated regularly. Updates occur only if new reprocessing, corrections, or additional surveys become available. As of now, the compilation represents the most recent processing as of December 2025.<\/SPAN><\/P><\/DIV><\/DIV><\/DIV>",
"extent": {
"xmin": 2399100,
"ymin": 7328100,
"xmax": 2657100,
"ymax": 7675100,
"spatialReference": {
"wkid": 2036,
"latestWkid": 2953
}
},
"initialExtent": {
"xmin": 2399100,
"ymin": 7328100,
"xmax": 2657100,
"ymax": 7675100,
"spatialReference": {
"wkid": 2036,
"latestWkid": 2953
}
},
"fullExtent": {
"xmin": 2399100,
"ymin": 7328100,
"xmax": 2657100,
"ymax": 7675100,
"spatialReference": {
"wkid": 2036,
"latestWkid": 2953
}
},
"hasMultidimensions": false,
"pixelSizeX": 200,
"pixelSizeY": 200,
"datasetFormat": "ER Mapper",
"uncompressedSize": 8952600,
"blockWidth": 1290,
"blockHeight": 1,
"compressionType": "None",
"bandNames": [
"Band_1"
],
"allowCopy": true,
"allowAnalysis": true,
"bandCount": 1,
"noDataValue": -999999,
"noDataValues": [
-999999
],
"pixelType": "F32",
"minPixelSize": 0,
"maxPixelSize": 0,
"copyrightText": "NB Dept of Natural Resources, GSB Section",
"serviceDataType": "esriImageServiceDataTypeGeneric",
"serviceSourceType": "esriImageServiceSourceTypeDataset",
"minValues": [
-2.4638319015503
],
"maxValues": [
15.868675231934
],
"meanValues": [
-4.1747959671237E-4
],
"stdvValues": [
0.53816101646785
],
"objectIdField": "",
"fields": [],
"capabilities": "Image,Metadata,Mensuration",
"defaultMosaicMethod": "Center",
"allowedMosaicMethods": "",
"sortField": "",
"sortValue": null,
"sortAscending": true,
"mosaicOperator": "First",
"defaultCompressionQuality": 75,
"defaultResamplingMethod": "Bilinear",
"maxImageHeight": 4100,
"maxImageWidth": 15000,
"allowRasterFunction": true,
"rasterFunctionInfos": [
{
"name": "None",
"description": "",
"help": ""
}
],
"rasterTypeInfos": [
{
"name": "Raster Dataset",
"description": "Supports all ArcGIS Raster Datasets",
"help": ""
}
],
"mensurationCapabilities": "Basic",
"hasHistograms": true,
"hasColormap": false,
"hasRasterAttributeTable": false,
"minScale": 0,
"maxScale": 0,
"exportTilesAllowed": false,
"supportsStatistics": false,
"supportsAdvancedQueries": false,
"editFieldsInfo": null,
"ownershipBasedAccessControlForRasters": null,
"allowComputeTiePoints": false,
"useStandardizedQueries": true,
"advancedQueryCapabilities": {
"useStandardizedQueries": true,
"supportsStatistics": false,
"supportsOrderBy": false,
"supportsDistinct": false,
"supportsPagination": false
},
"spatialReference": {
"wkid": 2036,
"latestWkid": 2953
}
}