{ "currentVersion": 10.91, "serviceDescription": "
A 200 m grid of airborne radiometric Natural Absorbed Dose Rate (NADR, also referred to as Total Counts) for the Bathurst survey area, New Brunswick (1995)<\/SPAN><\/SPAN><\/P> This dataset represents the Natural Absorbed Dose Rate (NADR) measured during the Bathurst airborne radiometric survey flown in 1995 at 200 m line spacing. NADR reflects the total gamma-ray counts from near-surface rocks and provides a measure of overall natural radioactivity within the survey area. The dataset is provided in NB Stereographic double (NAD83) for consistent integration with provincial datasets.<\/SPAN><\/SPAN><\/P> The Bathurst_NADR raster was produced by microlevelling line-to-line variations in the original survey data and interpolating the results to a seamless 200 m grid. The final raster was delivered as a .ers file in NB Stereographic double (NAD83).<\/SPAN><\/P> The dataset is not updated regularly. Updates occur only if new reprocessing, corrections, or additional surveys become available. As of now, the compilation represents the most recent processing as of December 2025.<\/SPAN><\/P><\/DIV><\/DIV><\/DIV>",
"name": "Geophysics_Radiometric_Individual/Bathurst_NADR",
"description": " A 200 m grid of airborne radiometric Natural Absorbed Dose Rate (NADR, also referred to as Total Counts) for the Bathurst survey area, New Brunswick (1995)<\/SPAN><\/SPAN><\/P> This dataset represents the Natural Absorbed Dose Rate (NADR) measured during the Bathurst airborne radiometric survey flown in 1995 at 200 m line spacing. NADR reflects the total gamma-ray counts from near-surface rocks and provides a measure of overall natural radioactivity within the survey area. The dataset is provided in NB Stereographic double (NAD83) for consistent integration with provincial datasets.<\/SPAN><\/SPAN><\/P> The Bathurst_NADR raster was produced by microlevelling line-to-line variations in the original survey data and interpolating the results to a seamless 200 m grid. The final raster was delivered as a .ers file in NB Stereographic double (NAD83).<\/SPAN><\/P> The dataset is not updated regularly. Updates occur only if new reprocessing, corrections, or additional surveys become available. As of now, the compilation represents the most recent processing as of December 2025.<\/SPAN><\/P><\/DIV><\/DIV><\/DIV>",
"extent": {
"xmin": 2482075,
"ymin": 7552325,
"xmax": 2567175,
"ymax": 7634675,
"spatialReference": {
"wkid": 2036,
"latestWkid": 2953
}
},
"initialExtent": {
"xmin": 2482075,
"ymin": 7552325,
"xmax": 2567175,
"ymax": 7634675,
"spatialReference": {
"wkid": 2036,
"latestWkid": 2953
}
},
"fullExtent": {
"xmin": 2482075,
"ymin": 7552325,
"xmax": 2567175,
"ymax": 7634675,
"spatialReference": {
"wkid": 2036,
"latestWkid": 2953
}
},
"hasMultidimensions": false,
"pixelSizeX": 50,
"pixelSizeY": 50,
"datasetFormat": "ER Mapper",
"uncompressedSize": 11212776,
"blockWidth": 1702,
"blockHeight": 1,
"compressionType": "None",
"bandNames": [
"Band_1"
],
"allowCopy": true,
"allowAnalysis": true,
"bandCount": 1,
"noDataValue": -999999,
"noDataValues": [
-999999
],
"pixelType": "F32",
"minPixelSize": 0,
"maxPixelSize": 0,
"copyrightText": "NB Dept of Natural Resources, GSB Section",
"serviceDataType": "esriImageServiceDataTypeGeneric",
"serviceSourceType": "esriImageServiceSourceTypeDataset",
"minValues": [
-43.154094696045
],
"maxValues": [
54.097450256348
],
"meanValues": [
0.026935593299534
],
"stdvValues": [
9.6796246985896
],
"objectIdField": "",
"fields": [],
"capabilities": "Image,Metadata,Mensuration",
"defaultMosaicMethod": "Center",
"allowedMosaicMethods": "",
"sortField": "",
"sortValue": null,
"sortAscending": true,
"mosaicOperator": "First",
"defaultCompressionQuality": 75,
"defaultResamplingMethod": "Bilinear",
"maxImageHeight": 4100,
"maxImageWidth": 15000,
"allowRasterFunction": true,
"rasterFunctionInfos": [
{
"name": "None",
"description": "",
"help": ""
}
],
"rasterTypeInfos": [
{
"name": "Raster Dataset",
"description": "Supports all ArcGIS Raster Datasets",
"help": ""
}
],
"mensurationCapabilities": "Basic",
"hasHistograms": true,
"hasColormap": false,
"hasRasterAttributeTable": false,
"minScale": 0,
"maxScale": 0,
"exportTilesAllowed": false,
"supportsStatistics": false,
"supportsAdvancedQueries": false,
"editFieldsInfo": null,
"ownershipBasedAccessControlForRasters": null,
"allowComputeTiePoints": false,
"useStandardizedQueries": true,
"advancedQueryCapabilities": {
"useStandardizedQueries": true,
"supportsStatistics": false,
"supportsOrderBy": false,
"supportsDistinct": false,
"supportsPagination": false
},
"spatialReference": {
"wkid": 2036,
"latestWkid": 2953
}
}