{ "currentVersion": 10.91, "serviceDescription": "
A 200 m grid of airborne radiometric thorium-to-potassium (Th/K) ratios for the Bathurst survey area, New Brunswick (1995).<\/SPAN><\/SPAN><\/P> This dataset represents the spatial distribution of thorium-to-potassium (Th/K) ratios derived from the Bathurst airborne radiometric survey flown in 1995 at 200 m line spacing. The Th/K ratio highlights variations between thorium and potassium abundances within the survey area and supports interpretation of lithological variations and alteration patterns. The dataset is provided in NB Stereographic double (NAD83) for consistent integration with provincial datasets.<\/SPAN><\/SPAN><\/P> The Bathurst_ThK_ratio raster was produced by dividing the compiled thorium (Th) raster by the compiled potassium (K) raster at each 200 m cell. The underlying survey data were microlevelled and interpolated to produce seamless 200 m grids prior to ratio calculation. The final raster was delivered as a .ers file in NB Stereographic double (NAD83).<\/SPAN><\/P> The dataset is not updated regularly. Updates occur only if new reprocessing, corrections, or additional surveys become available. As of now, the compilation represents the most recent processing as of December 2025.<\/SPAN><\/P><\/DIV><\/DIV><\/DIV>",
"name": "Geophysics_Radiometric_Individual/Bathurst_ThK_ratio",
"description": " A 200 m grid of airborne radiometric thorium-to-potassium (Th/K) ratios for the Bathurst survey area, New Brunswick (1995).<\/SPAN><\/SPAN><\/P> This dataset represents the spatial distribution of thorium-to-potassium (Th/K) ratios derived from the Bathurst airborne radiometric survey flown in 1995 at 200 m line spacing. The Th/K ratio highlights variations between thorium and potassium abundances within the survey area and supports interpretation of lithological variations and alteration patterns. The dataset is provided in NB Stereographic double (NAD83) for consistent integration with provincial datasets.<\/SPAN><\/SPAN><\/P> The Bathurst_ThK_ratio raster was produced by dividing the compiled thorium (Th) raster by the compiled potassium (K) raster at each 200 m cell. The underlying survey data were microlevelled and interpolated to produce seamless 200 m grids prior to ratio calculation. The final raster was delivered as a .ers file in NB Stereographic double (NAD83).<\/SPAN><\/P> The dataset is not updated regularly. Updates occur only if new reprocessing, corrections, or additional surveys become available. As of now, the compilation represents the most recent processing as of December 2025.<\/SPAN><\/P><\/DIV><\/DIV><\/DIV>",
"extent": {
"xmin": 2482075,
"ymin": 7552325,
"xmax": 2567175,
"ymax": 7634675,
"spatialReference": {
"wkid": 2036,
"latestWkid": 2953
}
},
"initialExtent": {
"xmin": 2482075,
"ymin": 7552325,
"xmax": 2567175,
"ymax": 7634675,
"spatialReference": {
"wkid": 2036,
"latestWkid": 2953
}
},
"fullExtent": {
"xmin": 2482075,
"ymin": 7552325,
"xmax": 2567175,
"ymax": 7634675,
"spatialReference": {
"wkid": 2036,
"latestWkid": 2953
}
},
"hasMultidimensions": false,
"pixelSizeX": 50,
"pixelSizeY": 50,
"datasetFormat": "ER Mapper",
"uncompressedSize": 11212776,
"blockWidth": 1702,
"blockHeight": 1,
"compressionType": "None",
"bandNames": [
"Band_1"
],
"allowCopy": true,
"allowAnalysis": true,
"bandCount": 1,
"noDataValue": -999999,
"noDataValues": [
-999999
],
"pixelType": "F32",
"minPixelSize": 0,
"maxPixelSize": 0,
"copyrightText": "NB Dept of Natural Resources, GSB Section",
"serviceDataType": "esriImageServiceDataTypeGeneric",
"serviceSourceType": "esriImageServiceSourceTypeDataset",
"minValues": [
-876.97955322266
],
"maxValues": [
7.1455340385437
],
"meanValues": [
-0.31404371661938
],
"stdvValues": [
2.2250269415231
],
"objectIdField": "",
"fields": [],
"capabilities": "Image,Metadata,Mensuration",
"defaultMosaicMethod": "Center",
"allowedMosaicMethods": "",
"sortField": "",
"sortValue": null,
"sortAscending": true,
"mosaicOperator": "First",
"defaultCompressionQuality": 75,
"defaultResamplingMethod": "Bilinear",
"maxImageHeight": 4100,
"maxImageWidth": 15000,
"allowRasterFunction": true,
"rasterFunctionInfos": [
{
"name": "None",
"description": "",
"help": ""
}
],
"rasterTypeInfos": [
{
"name": "Raster Dataset",
"description": "Supports all ArcGIS Raster Datasets",
"help": ""
}
],
"mensurationCapabilities": "Basic",
"hasHistograms": true,
"hasColormap": false,
"hasRasterAttributeTable": false,
"minScale": 0,
"maxScale": 0,
"exportTilesAllowed": false,
"supportsStatistics": false,
"supportsAdvancedQueries": false,
"editFieldsInfo": null,
"ownershipBasedAccessControlForRasters": null,
"allowComputeTiePoints": false,
"useStandardizedQueries": true,
"advancedQueryCapabilities": {
"useStandardizedQueries": true,
"supportsStatistics": false,
"supportsOrderBy": false,
"supportsDistinct": false,
"supportsPagination": false
},
"spatialReference": {
"wkid": 2036,
"latestWkid": 2953
}
}