{ "currentVersion": 10.91, "serviceDescription": "
A 200\u202fm grid of airborne radiometric uranium-to-thorium (U/Th) ratios for the Bathurst survey area, New Brunswick (1995).<\/SPAN><\/SPAN><\/P> This dataset represents the spatial distribution of uranium-to-thorium (U/Th) ratios derived from the Bathurst airborne radiometric survey flown in 1995 at 200\u202fm line spacing. The U/Th ratio highlights variations between uranium and thorium abundances within the survey area and supports interpretation of lithological variations and alteration patterns. The dataset is provided in NB Stereographic double (NAD83) for consistent integration with provincial datasets.<\/SPAN><\/SPAN><\/P> The Bathurst_UTh_ratio raster was produced by dividing the compiled uranium (U) raster by the compiled thorium (Th) raster at each 200\u202fm cell. The underlying survey data were microlevled and interpolated to produce seamless 200\u202fm grids prior to ratio calculation. The final raster was delivered as a .ers file in NB Stereographic double (NAD83).<\/SPAN><\/P> The dataset is not updated regularly. Updates occur only if new reprocessing, corrections, or additional surveys become available. As of now, the compilation represents the most recent processing as of December 2025.<\/SPAN><\/P><\/DIV><\/DIV><\/DIV>",
"name": "Geophysics_Radiometric_Individual/Bathurst_UTh_ratio",
"description": " A 200\u202fm grid of airborne radiometric uranium-to-thorium (U/Th) ratios for the Bathurst survey area, New Brunswick (1995).<\/SPAN><\/SPAN><\/P> This dataset represents the spatial distribution of uranium-to-thorium (U/Th) ratios derived from the Bathurst airborne radiometric survey flown in 1995 at 200\u202fm line spacing. The U/Th ratio highlights variations between uranium and thorium abundances within the survey area and supports interpretation of lithological variations and alteration patterns. The dataset is provided in NB Stereographic double (NAD83) for consistent integration with provincial datasets.<\/SPAN><\/SPAN><\/P> The Bathurst_UTh_ratio raster was produced by dividing the compiled uranium (U) raster by the compiled thorium (Th) raster at each 200\u202fm cell. The underlying survey data were microlevled and interpolated to produce seamless 200\u202fm grids prior to ratio calculation. The final raster was delivered as a .ers file in NB Stereographic double (NAD83).<\/SPAN><\/P> The dataset is not updated regularly. Updates occur only if new reprocessing, corrections, or additional surveys become available. As of now, the compilation represents the most recent processing as of December 2025.<\/SPAN><\/P><\/DIV><\/DIV><\/DIV>",
"extent": {
"xmin": 2482075,
"ymin": 7552325,
"xmax": 2567175,
"ymax": 7634675,
"spatialReference": {
"wkid": 2036,
"latestWkid": 2953
}
},
"initialExtent": {
"xmin": 2482075,
"ymin": 7552325,
"xmax": 2567175,
"ymax": 7634675,
"spatialReference": {
"wkid": 2036,
"latestWkid": 2953
}
},
"fullExtent": {
"xmin": 2482075,
"ymin": 7552325,
"xmax": 2567175,
"ymax": 7634675,
"spatialReference": {
"wkid": 2036,
"latestWkid": 2953
}
},
"hasMultidimensions": false,
"pixelSizeX": 50,
"pixelSizeY": 50,
"datasetFormat": "ER Mapper",
"uncompressedSize": 11212776,
"blockWidth": 1702,
"blockHeight": 1,
"compressionType": "None",
"bandNames": [
"Band_1"
],
"allowCopy": true,
"allowAnalysis": true,
"bandCount": 1,
"noDataValue": -999999,
"noDataValues": [
-999999
],
"pixelType": "F32",
"minPixelSize": 0,
"maxPixelSize": 0,
"copyrightText": "NB Dept of Natural Resources, GSB Section",
"serviceDataType": "esriImageServiceDataTypeGeneric",
"serviceSourceType": "esriImageServiceSourceTypeDataset",
"minValues": [
-142.27122497559
],
"maxValues": [
1.5320380926132
],
"meanValues": [
-0.0087322908503657
],
"stdvValues": [
0.14481121052844
],
"objectIdField": "",
"fields": [],
"capabilities": "Image,Metadata,Mensuration",
"defaultMosaicMethod": "Center",
"allowedMosaicMethods": "",
"sortField": "",
"sortValue": null,
"sortAscending": true,
"mosaicOperator": "First",
"defaultCompressionQuality": 75,
"defaultResamplingMethod": "Bilinear",
"maxImageHeight": 4100,
"maxImageWidth": 15000,
"allowRasterFunction": true,
"rasterFunctionInfos": [
{
"name": "None",
"description": "",
"help": ""
}
],
"rasterTypeInfos": [
{
"name": "Raster Dataset",
"description": "Supports all ArcGIS Raster Datasets",
"help": ""
}
],
"mensurationCapabilities": "Basic",
"hasHistograms": true,
"hasColormap": false,
"hasRasterAttributeTable": false,
"minScale": 0,
"maxScale": 0,
"exportTilesAllowed": false,
"supportsStatistics": false,
"supportsAdvancedQueries": false,
"editFieldsInfo": null,
"ownershipBasedAccessControlForRasters": null,
"allowComputeTiePoints": false,
"useStandardizedQueries": true,
"advancedQueryCapabilities": {
"useStandardizedQueries": true,
"supportsStatistics": false,
"supportsOrderBy": false,
"supportsDistinct": false,
"supportsPagination": false
},
"spatialReference": {
"wkid": 2036,
"latestWkid": 2953
}
}